BEGIN:VCALENDAR
VERSION:2.0
PRODID:-//Florida&#039;s Forgotten Coast - ECPv6.15.20//NONSGML v1.0//EN
CALSCALE:GREGORIAN
METHOD:PUBLISH
X-ORIGINAL-URL:https://www.floridasforgottencoast.com
X-WR-CALDESC:Events for Florida&#039;s Forgotten Coast
REFRESH-INTERVAL;VALUE=DURATION:PT1H
X-Robots-Tag:noindex
X-PUBLISHED-TTL:PT1H
BEGIN:VTIMEZONE
TZID:America/New_York
BEGIN:DAYLIGHT
TZOFFSETFROM:-0500
TZOFFSETTO:-0400
TZNAME:EDT
DTSTART:20200308T070000
END:DAYLIGHT
BEGIN:STANDARD
TZOFFSETFROM:-0400
TZOFFSETTO:-0500
TZNAME:EST
DTSTART:20201101T060000
END:STANDARD
BEGIN:DAYLIGHT
TZOFFSETFROM:-0500
TZOFFSETTO:-0400
TZNAME:EDT
DTSTART:20210314T070000
END:DAYLIGHT
BEGIN:STANDARD
TZOFFSETFROM:-0400
TZOFFSETTO:-0500
TZNAME:EST
DTSTART:20211107T060000
END:STANDARD
BEGIN:DAYLIGHT
TZOFFSETFROM:-0500
TZOFFSETTO:-0400
TZNAME:EDT
DTSTART:20220313T070000
END:DAYLIGHT
BEGIN:STANDARD
TZOFFSETFROM:-0400
TZOFFSETTO:-0500
TZNAME:EST
DTSTART:20221106T060000
END:STANDARD
BEGIN:DAYLIGHT
TZOFFSETFROM:-0500
TZOFFSETTO:-0400
TZNAME:EDT
DTSTART:20230312T070000
END:DAYLIGHT
BEGIN:STANDARD
TZOFFSETFROM:-0400
TZOFFSETTO:-0500
TZNAME:EST
DTSTART:20231105T060000
END:STANDARD
BEGIN:DAYLIGHT
TZOFFSETFROM:-0500
TZOFFSETTO:-0400
TZNAME:EDT
DTSTART:20240310T070000
END:DAYLIGHT
BEGIN:STANDARD
TZOFFSETFROM:-0400
TZOFFSETTO:-0500
TZNAME:EST
DTSTART:20241103T060000
END:STANDARD
BEGIN:DAYLIGHT
TZOFFSETFROM:-0500
TZOFFSETTO:-0400
TZNAME:EDT
DTSTART:20250309T070000
END:DAYLIGHT
BEGIN:STANDARD
TZOFFSETFROM:-0400
TZOFFSETTO:-0500
TZNAME:EST
DTSTART:20251102T060000
END:STANDARD
END:VTIMEZONE
BEGIN:VEVENT
DTSTART;TZID=America/New_York:20240206T160000
DTEND;TZID=America/New_York:20240206T160000
DTSTAMP:20260425T172730
CREATED:20240206T144630Z
LAST-MODIFIED:20240209T161420Z
UID:10002576-1707235200-1707235200@www.floridasforgottencoast.com
SUMMARY:Spring Speaker Series: “Tales of the River”
DESCRIPTION:The Apalachicola Area Historical Society (AAHS) will be presenting a program on “Tales of the River” by Gill Autrey as part of their Spring Speaker Series on Saturday\, February 17\, 2024 at 4:00 pm at the Raney Carriage House\, 126 Market Street\, Apalachicola\, FL.  Additional Spring Speaker Series events are scheduled on March 16 with Grayson Shepard\, April 20 with Billy Blackman\, and May 18 with Jack Rudloe. \nThese Speakers events are part of a well-established and popular series by the Apalachicola Area Historical Society with speakers through May on Saturdays\, mid-month\, at 4pm in the Raney House Carriage House. Local and tourist history enthusiasts have gathered for these informative talks for a number of years. Previous speakers have spoken about Apalachicola’s predominantly African American North Side\, Territorial City St Joseph\, Early Maps of the area\, Niles Register Florida History\, the ice delivery industry\, Cemetery Preservation\, Apalachicola Historic Squares and more. \nGill settled in Apalachicola in 1998\, after a full life in the “outside world”. He has a degree in Economics\, flew helicopters in Vietnam\, and served as the Mayor of Valdosta\, Georgia. But as anyone who knows him will say\, his love is the Apalachicola river\, and the tales of its denizens. He has even named one of his books “No Greater Love”. His stories delight passengers on his excursions into the pristine backwaters off the river area and Gill’s well-known tales are sure to delight attendees during this program as well. \nSeating is limited so come early to get a spot. For more information\, please call and leave a message at (850) 653-1700\, email to AAHS.Raney@gmail.com\, or online.
URL:https://www.floridasforgottencoast.com/event/spring-speaker-series-tales-of-the-river/
LOCATION:Raney House – Carriage House\, 128 Market Street\, Apalachicola\, FL\, 32320\, United States
ATTACH;FMTTYPE=image/jpeg:https://www.floridasforgottencoast.com/wp-content/uploads/2024/02/Spring-Speaker-Series-Tales-of-the-River2x.jpg
END:VEVENT
BEGIN:VEVENT
DTSTART;TZID=America/New_York:20230520T160000
DTEND;TZID=America/New_York:20230520T173000
DTSTAMP:20260425T172730
CREATED:20230329T171254Z
LAST-MODIFIED:20230512T140651Z
UID:10001309-1684598400-1684603800@www.floridasforgottencoast.com
SUMMARY:Apalachicola Area Historical Society: Spring Speaker Series
DESCRIPTION:The Apalachicola Area Historical Society (AAHS) will present a local history program at the Raney Carriage House\, 126 Market Street\, Apalachicola\, FL. \nThese series of speaker events are part of a well-established and popular series by the Apalachicola Area Historical Society with speakers through May on Saturdays\, mid-month\, at 4 pm in the Raney House Carriage House. Local and tourist history enthusiasts have gathered for these informative talks for a number of years. Previous speakers have spoken about Apalachicola’s predominantly African American North Side\, Territorial City St Joseph\, Early Maps of the area\, Niles Register Florida History\, the ice delivery industry\, Cemetery Preservation\, Apalachicola Historic Squares\, and more.
URL:https://www.floridasforgottencoast.com/event/apalachicola-area-historical-society-spring-speaker-series-4/
LOCATION:Raney House – Carriage House\, 128 Market Street\, Apalachicola\, FL\, 32320\, United States
ATTACH;FMTTYPE=image/jpeg:https://www.floridasforgottencoast.com/wp-content/uploads/2023/03/Apalachicola-Area-Historical-Society-Spring-Speaker-Series.jpg
ORGANIZER;CN="Apalachicola Area Historical Society":MAILTO:AAHS.raney@gmail.com
END:VEVENT
BEGIN:VEVENT
DTSTART;TZID=America/New_York:20230520T160000
DTEND;TZID=America/New_York:20230520T160000
DTSTAMP:20260425T172730
CREATED:20230411T034534Z
LAST-MODIFIED:20230411T034730Z
UID:10001596-1684598400-1684598400@www.floridasforgottencoast.com
SUMMARY:Spring Speaker Series - Sopchoppy: Stages of Change
DESCRIPTION:The Apalachicola Area Historical Society (AAHS) will be presenting a program on “Sopchoppy: Stages of Change” featuring Robert Seidler\, as part of their Spring Speaker Series. This program will be held on Saturday\, May 20\, 2023 at 4:00 pm at the Raney Carriage House\, 126 Market Street\, Apalachicola\, FL. Guests are invited to hear a discussion about how livability\, place and authenticity can develop through change in a community. \nWhere did Sopchoppy come from and why? Where is Sopchoppy headed? Where is your city headed? Robert Seidler will discuss the change and history of Sopchoppy. Robert says that “Change happens like it or not\, but good change\, that’s a mixture of new visions and taking risks”. He will discuss the process of change and how change in a town can mean beneficial conditions of a life for its inhabitants\, develop a sense belonging\, and protect the authenticity of a community. \nRobert Seidler of Sopchoppy is the proprietor\, but mostly guide\, of the Buckhorn Creek Lodge\, a by-default\, international gathering place for nature-based travelers and authenticity seekers. A somewhat retired filmmaker and a walking and cycling expert\, Robert sees from experience that communities function best when they are designed on a human scale\, not an auto-centric one. He has been involved with Sopchoppy since finding it on a cold century (100 mile) bike ride in 1982 where he was taken by hypothermia to a town frozen in time. \nThese Speakers events are part of a well-established and popular series by the Apalachicola Area Historical Society with speakers through May on Saturdays\, mid-month\, at 4pm in the Raney House Carriage House. Local and tourist history enthusiasts have gathered for these informative talks for a number of years. Previous speakers have spoken about Apalachicola’s predominantly African American North Side\, Territorial City St Joseph\, Early Maps of the area\, Niles Register Florida History\, the ice delivery industry\, Cemetery Preservation and more. \nFor more information\, please call and leave a message at (850) 653-1700\, email to AAHS.Raney@gmail.com\, or online at www.apalachicolahistoricalsociety.org. The Raney House Museum is located at 128 Market Street at the corner of Avenue F in historic downtown Apalachicola and is open from 10:00 am – 4:00 pm Tuesday through Saturday. Funded in part by the Franklin County Tourist Development Council.
URL:https://www.floridasforgottencoast.com/event/spring-speaker-series-sopchoppy-stages-of-change/
LOCATION:Raney House – Carriage House\, 128 Market Street\, Apalachicola\, FL\, 32320\, United States
ATTACH;FMTTYPE=image/jpeg:https://www.floridasforgottencoast.com/wp-content/uploads/2023/04/Spring-Speaker-Series-Sopchoppy-Stages-of-Change.jpg
END:VEVENT
BEGIN:VEVENT
DTSTART;TZID=America/New_York:20230422T160000
DTEND;TZID=America/New_York:20230422T160000
DTSTAMP:20260425T172730
CREATED:20230329T170807Z
LAST-MODIFIED:20230411T032914Z
UID:10001308-1682179200-1682179200@www.floridasforgottencoast.com
SUMMARY:Spring Speaker Series - Marshall Brothers: Architects\, Boatwrights and Pillars of the Community
DESCRIPTION:The Apalachicola Area Historical Society (AAHS) is presenting a program on “Marshall Brothers: Architects\, Boatwrights and Pillars of the Community” featuring Marshall family descendants\, Donia Smith and Ken Tucker\, on Saturday\, April 22\, at 4:00 pm at the Raney Carriage House\, 126 Market Street\, Apalachicola\, FL. Guests are invited to hear a discussion about the many beautiful homes in Apalachicola that were built by the Marshall Brothers\, as well as their boatbuilding experiences. For more information\, please call and leave a message at (850) 653-1700\, email to AAHS.Raney@gmail.com\, or online at www.apalachicolahistoricalsociety.org. Funded in part by the Franklin County Tourist Development Council.
URL:https://www.floridasforgottencoast.com/event/apalachicola-area-historical-society-spring-speaker-series-3/
LOCATION:Raney House – Carriage House\, 128 Market Street\, Apalachicola\, FL\, 32320\, United States
ATTACH;FMTTYPE=image/jpeg:https://www.floridasforgottencoast.com/wp-content/uploads/2023/03/Marshall-Brothers-Architects-Boatwrights-and-Pillars-of-the-Community.jpg
ORGANIZER;CN="Apalachicola Area Historical Society":MAILTO:AAHS.raney@gmail.com
END:VEVENT
BEGIN:VEVENT
DTSTART;TZID=America/New_York:20230318T100000
DTEND;TZID=America/New_York:20230318T160000
DTSTAMP:20260425T172730
CREATED:20230214T190609Z
LAST-MODIFIED:20230301T210611Z
UID:10001307-1679133600-1679155200@www.floridasforgottencoast.com
SUMMARY:Apalachicola Area Historical Society: Spring Speaker Series
DESCRIPTION:Apalachicola Area Historical Society Spring Speaker Series: “The Enduring Botanical Legacy of Apalachicola’s Dr. A. W. Chapman\, M.D.”  \nThe Apalachicola Area Historical Society (AAHS) will present a program on “The Enduring Botanical Legacy of Apalachicola’s Dr. A. W. Chapman\, M.D.\,” featuring Rebecca W. Dolan\, Ph.D.\, as part of their Spring Speaker Series. This program will be held on Saturday\, March 18\, 2023\, at 4:00 PM at the Raney Carriage House\, 126 Market Street\, Apalachicola\, FL. Guests are invited to hear about the legacy of Chapman\, who first published the “Flora of the Southern United States” in 1860. This publication was the first time the plants of this region were depicted and described. This session will include a dive into the fascinating but arcane way plants new to science are named and the archived specimens and documents supporting the process. \nRebecca W. Dolan\, Ph.D.\, is the retired Director of the Friesner Herbarium at Butler University in Indianapolis\, IN. She has written several publications and was a faculty affiliate at the Center for Urban Ecology and Sustainability. She is a resident of Franklin County\, FL. \nAdditional Spring Speaker Series events are scheduled for April 22 and May 20. These Speakers’ events are part of a well-established and popular series by the Apalachicola Area Historical Society held through May on Saturdays\, mid-month\, at 4:00 PM in the Raney Carriage House. Local and visiting history enthusiasts have gathered for these informative talks for quite a few years. Previous speakers have spoken about Apalachicola’s predominantly African American North Side\, Territorial City St Joseph\, Early Maps of the area\, Niles Register Florida History\, the ice delivery industry\, Cemetery Preservation\, Apalachicola Historic Squares\, and more. \nThe Raney House Museum is located at 128 Market Street at the corner of Avenue F in historic downtown Apalachicola and is open from 10:00 AM – 4:00 PM\, Tuesday through Saturday.  Funded in part by the Franklin County Tourist Development Council.
URL:https://www.floridasforgottencoast.com/event/apalachicola-area-historical-society-spring-speaker-series-2/
LOCATION:Raney House – Carriage House\, 128 Market Street\, Apalachicola\, FL\, 32320\, United States
ATTACH;FMTTYPE=image/jpeg:https://www.floridasforgottencoast.com/wp-content/uploads/2023/02/The-Enduring-Botanical-Legacy-of-Apalachicolas-Dr.-A.-W.-Chapman-M.D..jpg
ORGANIZER;CN="Apalachicola Area Historical Society":MAILTO:AAHS.raney@gmail.com
END:VEVENT
BEGIN:VEVENT
DTSTART;TZID=America/New_York:20230211T100000
DTEND;TZID=America/New_York:20230211T160000
DTSTAMP:20260425T172730
CREATED:20230110T162624Z
LAST-MODIFIED:20230110T162624Z
UID:10001306-1676109600-1676131200@www.floridasforgottencoast.com
SUMMARY:Apalachicola Area Historical Society: Spring Speaker Series
DESCRIPTION:The Apalachicola Area Historical Society (AAHS) will be presenting a program on “Schooners: Fast\, Practical and Agile” by Duncan Blair as part of their Spring Speaker Series on Saturday\, February 11\, 2023\, at 4:00 pm at the Raney Carriage House\, 126 Market Street\, Apalachicola\, FL.  Additional Spring Speaker Series events are scheduled for March 18\, April 22 & May 20. \nThese series of speaker events are part of a well-established and popular series by the Apalachicola Area Historical Society with speakers through May on Saturdays\, mid-month\, at 4 pm in the Raney House Carriage House. Local and tourist history enthusiasts have gathered for these informative talks for a number of years. Previous speakers have spoken about Apalachicola’s predominantly African American North Side\, Territorial City St Joseph\, Early Maps of the area\, Niles Register Florida History\, the ice delivery industry\, Cemetery Preservation\, Apalachicola Historic Squares\, and more. \nDuncan Blair is a member of the friends of Governor Stone and is interested in boat types\, vernacular design\, and history. He researches and writes about traditional sailing vessels\, how and why they were used\, how they developed over time\, and why it is useful and important to be aware of them and their history in a blog entitled\, “Traditional Sail”. \nThe Raney House Museum is located at 128 Market Street at the corner of Avenue F in historic downtown Apalachicola and is open from 10:00 am – 4:00 pm Tuesday through Saturday.  Funded in part by the Franklin County Tourist Development Council.
URL:https://www.floridasforgottencoast.com/event/apalachicola-area-historical-society-spring-speaker-series/2023-02-11/
LOCATION:Raney House – Carriage House\, 128 Market Street\, Apalachicola\, FL\, 32320\, United States
ATTACH;FMTTYPE=image/jpeg:https://www.floridasforgottencoast.com/wp-content/uploads/2023/01/AAHS-Spring-speaker-series.jpg
ORGANIZER;CN="Apalachicola Area Historical Society":MAILTO:AAHS.raney@gmail.com
END:VEVENT
BEGIN:VEVENT
DTSTART;TZID=America/New_York:20210515T160000
DTEND;TZID=America/New_York:20210515T170000
DTSTAMP:20260425T172730
CREATED:20210415T201158Z
LAST-MODIFIED:20210415T201158Z
UID:10000672-1621094400-1621098000@www.floridasforgottencoast.com
SUMMARY:Apalachicola Area Historical Society Spring Speaker Series: Antebellum Ice
DESCRIPTION:History expert Dr. Kevin Bair will speak about the Southern Antebellum period’s use of natural ice\, Fredric Tudor’s natural ice trade\, the period’s medical use of ice to treat malaria and yellow fever\, John Gorrie’s quest for ice and refrigeration\, and how the Civil War Naval Blockade of Southern ports caused the ice dependent South in 1862. \nDr. Kevin Bair is a U.S. Navy Veteran\, is a History Ph.D. student at Liberty University who studies Civil War Medicine. He has a master’s degree in Liberal Arts from Johns Hopkins University\, a bachelor’s degree in Cultural Anthropology from Florida International University. He and his wife currently reside in Crawfordville as he works on his Ph.D. dissertation\, Liquid Gold: Weaponization of Ice\, the Thirsty South and the Civil War Naval Blockade.
URL:https://www.floridasforgottencoast.com/event/apalachicola-area-historical-society-spring-speaker-series-antebellum-ice/
LOCATION:Raney House – Carriage House\, 128 Market Street\, Apalachicola\, FL\, 32320\, United States
ATTACH;FMTTYPE=image/jpeg:https://www.floridasforgottencoast.com/wp-content/uploads/2017/10/Raney.jpg
ORGANIZER;CN="Apalachicola Area Historical Society":MAILTO:AAHS.raney@gmail.com
END:VEVENT
BEGIN:VEVENT
DTSTART;TZID=America/New_York:20210417T160000
DTEND;TZID=America/New_York:20210417T170000
DTSTAMP:20260425T172730
CREATED:20210107T160817Z
LAST-MODIFIED:20210318T154326Z
UID:10000528-1618675200-1618678800@www.floridasforgottencoast.com
SUMMARY:AAHS Spring Speaker Series: Margo Stringfield Historic Cemetery Preservation
DESCRIPTION:Rescheduled from 2020: Margo Stringfield from the University of West Florida will discuss Historic Cemetery Preservation\, with focus on Chestnut Cemetery in Apalachicola. \nMargo Stringfield has worked extensively on historic cemetery preservation in Pensacola\, and will bring her expertise to us\, for work on the historic Chestnut Street Cemetery in Apalachicola.
URL:https://www.floridasforgottencoast.com/event/aahs-spring-speaker-series-margo-springfield-historic-cemetery-preservation/
LOCATION:Raney House – Carriage House\, 128 Market Street\, Apalachicola\, FL\, 32320\, United States
ATTACH;FMTTYPE=image/jpeg:https://www.floridasforgottencoast.com/wp-content/uploads/2017/10/Raney.jpg
ORGANIZER;CN="Apalachicola Area Historical Society":MAILTO:AAHS.raney@gmail.com
END:VEVENT
BEGIN:VEVENT
DTSTART;TZID=America/New_York:20210220T160000
DTEND;TZID=America/New_York:20210220T170000
DTSTAMP:20260425T172730
CREATED:20210107T160030Z
LAST-MODIFIED:20210107T160031Z
UID:10000527-1613836800-1613840400@www.floridasforgottencoast.com
SUMMARY:AAHS Spring Speaker Series: Beloved local James Hargrove as Augustus Bowles
DESCRIPTION:New AAHS Director will entertain us with the tales of “local pirate” William Augustus Bowles. In his short but adventure-packed life\, Bowles was shipwrecked on St. George Island in 1799. He was rescued by a British surveyor working in the area. He formed with local Indian tribes the “State of Muskogee” and declared war against Spain in 1800. His exploits against Spain were instrumental in the issue of the land grant known as the Fores Purchase.
URL:https://www.floridasforgottencoast.com/event/aahs-spring-speaker-series-beloved-local-james-hargrove-as-augustus-bowles/
LOCATION:Raney House – Carriage House\, 128 Market Street\, Apalachicola\, FL\, 32320\, United States
ATTACH;FMTTYPE=image/jpeg:https://www.floridasforgottencoast.com/wp-content/uploads/2017/10/Raney.jpg
ORGANIZER;CN="Apalachicola Area Historical Society":MAILTO:AAHS.raney@gmail.com
END:VEVENT
BEGIN:VEVENT
DTSTART;TZID=America/New_York:20210116T160000
DTEND;TZID=America/New_York:20210116T170000
DTSTAMP:20260425T172730
CREATED:20210107T155436Z
LAST-MODIFIED:20210107T155715Z
UID:10000526-1610812800-1610816400@www.floridasforgottencoast.com
SUMMARY:AAHS Spring Speaker Series: The Fort at Prospect Bluff - New Breakthroughs
DESCRIPTION:Join the Apalachicola Area Historical Society for the kickoff of the Spring 2021 Speaker Series.  Well-known local historian Dale Cox will discuss his recent research: New Breakthroughs in the story of the Negro Fort.
URL:https://www.floridasforgottencoast.com/event/the-fort-at-prospect-bluff-new-breakthroughs-in-the-story-of-the-negro-fort/
LOCATION:Raney House – Carriage House\, 128 Market Street\, Apalachicola\, FL\, 32320\, United States
ATTACH;FMTTYPE=image/jpeg:https://www.floridasforgottencoast.com/wp-content/uploads/2017/10/Raney.jpg
ORGANIZER;CN="Apalachicola Area Historical Society":MAILTO:AAHS.raney@gmail.com
END:VEVENT
END:VCALENDAR