BEGIN:VCALENDAR
VERSION:2.0
PRODID:-//Florida&#039;s Forgotten Coast - ECPv6.15.20//NONSGML v1.0//EN
CALSCALE:GREGORIAN
METHOD:PUBLISH
X-ORIGINAL-URL:https://www.floridasforgottencoast.com
X-WR-CALDESC:Events for Florida&#039;s Forgotten Coast
REFRESH-INTERVAL;VALUE=DURATION:PT1H
X-Robots-Tag:noindex
X-PUBLISHED-TTL:PT1H
BEGIN:VTIMEZONE
TZID:America/New_York
BEGIN:DAYLIGHT
TZOFFSETFROM:-0500
TZOFFSETTO:-0400
TZNAME:EDT
DTSTART:20210314T070000
END:DAYLIGHT
BEGIN:STANDARD
TZOFFSETFROM:-0400
TZOFFSETTO:-0500
TZNAME:EST
DTSTART:20211107T060000
END:STANDARD
BEGIN:DAYLIGHT
TZOFFSETFROM:-0500
TZOFFSETTO:-0400
TZNAME:EDT
DTSTART:20220313T070000
END:DAYLIGHT
BEGIN:STANDARD
TZOFFSETFROM:-0400
TZOFFSETTO:-0500
TZNAME:EST
DTSTART:20221106T060000
END:STANDARD
BEGIN:DAYLIGHT
TZOFFSETFROM:-0500
TZOFFSETTO:-0400
TZNAME:EDT
DTSTART:20230312T070000
END:DAYLIGHT
BEGIN:STANDARD
TZOFFSETFROM:-0400
TZOFFSETTO:-0500
TZNAME:EST
DTSTART:20231105T060000
END:STANDARD
END:VTIMEZONE
BEGIN:VEVENT
DTSTART;TZID=America/New_York:20220721T140000
DTEND;TZID=America/New_York:20220721T150000
DTSTAMP:20260422T091114
CREATED:20220617T194106Z
LAST-MODIFIED:20220617T194106Z
UID:10000897-1658412000-1658415600@www.floridasforgottencoast.com
SUMMARY:Seashell Picture Frame Craft Workshop
DESCRIPTION:Join the Eastpoint Branch Library on Thursday\, July 21st at 2:00 PM for an ocean inspired craft event! At this fun event\, participants will design and create their own seashell picture frame! Supplies will be provided but seating is limited\, so please stop by or call (850) 670-8151 to reserve your spot today. This program is free and open to the public but REGISTRATION IS REQUIRED. (Participants do not have to have a library card to participate.) This program is recommended for adults and children aged 12 and older. \nFranklin County Public Library Eastpoint Branch is located at 160 Hickory Dip Rd\, Eastpoint\, FL. For more information\, contact the Eastpoint Branch Library at (850) 670-8151. \nThis program is sponsored by the Friends of the Franklin County Public Libraries. Friends of Franklin County Public Libraries is a 501(c)(3) organization that supports the Franklin County Public Libraries in Eastpoint and Carrabelle\, Florida.
URL:https://www.floridasforgottencoast.com/event/seashell-picture-frame-craft-workshop/
LOCATION:Eastpoint Public Library\, 160 Hickory Dip Rd\, Eastpoint\, FL\, 32328\, United States
ATTACH;FMTTYPE=image/jpeg:https://www.floridasforgottencoast.com/wp-content/uploads/2022/06/frame2.jpg
ORGANIZER;CN="Friends of Franklin County Public Libraries":MAILTO:ffcplflorida@gmail.com
END:VEVENT
BEGIN:VEVENT
DTSTART;TZID=America/New_York:20220719T140000
DTEND;TZID=America/New_York:20220719T150000
DTSTAMP:20260422T091114
CREATED:20220617T194328Z
LAST-MODIFIED:20220617T194328Z
UID:10000900-1658239200-1658242800@www.floridasforgottencoast.com
SUMMARY:Hermit Crab Hangout
DESCRIPTION:Join the Eastpoint Branch Library on Tuesday\, July 19th at 2:00 pm for a Hermit Crab Hangout with the Apalachicola National Estuarine Research Reserve. Come out of your shell\, and join this fun-filled event featuring hermit crabs. There will be a story\, activities and live specimens to observe. \nREGISTRATION IS REQUIRED due to limited materials. Best suited for children aged 4-8 years old. This program is free and open to the public. \nThe Eastpoint Branch Library is located at 160 Hickory Dip Rd in Eastpoint. For more information\, contact the Eastpoint Branch at (850) 670-8151.
URL:https://www.floridasforgottencoast.com/event/hermit-crab-hangout-2/
LOCATION:Eastpoint Public Library\, 160 Hickory Dip Rd\, Eastpoint\, FL\, 32328\, United States
ATTACH;FMTTYPE=image/png:https://www.floridasforgottencoast.com/wp-content/uploads/2022/06/crab-1.png
ORGANIZER;CN="Friends of Franklin County Public Libraries":MAILTO:ffcplflorida@gmail.com
END:VEVENT
BEGIN:VEVENT
DTSTART;TZID=America/New_York:20220714T140000
DTEND;TZID=America/New_York:20220714T150000
DTSTAMP:20260422T091114
CREATED:20220707T145446Z
LAST-MODIFIED:20220707T145446Z
UID:10000977-1657807200-1657810800@www.floridasforgottencoast.com
SUMMARY:Turtle Tales
DESCRIPTION:Join the Eastpoint Branch Library on Thursday\, July 14th at 2:00 pm for Turtle Tales. Come and join in the conversation and learn about our beautiful and fascinating sea turtles and go on a virtual turtle patrol. \nThis program is free and available for all ages. Open to the public – no library card is required to participate. \nThe Eastpoint Branch Library is located at 160 Hickory Dip Rd in Eastpoint. For more information\, contact the Eastpoint Branch at (850) 670-8151. \nThis program is sponsored by the Friends of the Franklin County Public Libraries. Friends of Franklin County Public Libraries is a 501(c)(3) organization that supports the Franklin County Public Libraries in Eastpoint and Carrabelle\, Florida.
URL:https://www.floridasforgottencoast.com/event/turtle-tales/
LOCATION:Eastpoint Public Library\, 160 Hickory Dip Rd\, Eastpoint\, FL\, 32328\, United States
ATTACH;FMTTYPE=image/jpeg:https://www.floridasforgottencoast.com/wp-content/uploads/2022/07/Turtle-Tales-July-14-crop.jpg
ORGANIZER;CN="Friends of Franklin County Public Libraries":MAILTO:ffcplflorida@gmail.com
END:VEVENT
BEGIN:VEVENT
DTSTART;TZID=America/New_York:20220712T140000
DTEND;TZID=America/New_York:20220712T150000
DTSTAMP:20260422T091114
CREATED:20220617T193906Z
LAST-MODIFIED:20220617T193906Z
UID:10000894-1657634400-1657638000@www.floridasforgottencoast.com
SUMMARY:Craft Kidz – Making Jellyfish Wind Chimes
DESCRIPTION:Join the Eastpoint Branch Library on Tuesday\, July 12th at 2:00 PM for the Crafty Kidz Club and make an ocean inspired craft! At this fun event\, participants will make their very own jellyfish wind chime! Supplies will be provided. This program is free and open to the public and is most appropriate for ages 4-8 years old. (Participants do not have to have a library card to participate.) \nFranklin County Public Library Eastpoint Branch is located at 160 Hickory Dip Rd\, Eastpoint\, FL. For more information\, contact the Eastpoint Branch Library at (850) 670-8151. \nThis program is sponsored by the Friends of the Franklin County Public Libraries. Friends of Franklin County Public Libraries is a 501(c)(3) organization that supports the Franklin County Public Libraries in Eastpoint and Carrabelle\, Florida.
URL:https://www.floridasforgottencoast.com/event/craft-kidz-making-jellyfish-wind-chimes/
LOCATION:Eastpoint Public Library\, 160 Hickory Dip Rd\, Eastpoint\, FL\, 32328\, United States
ATTACH;FMTTYPE=image/jpeg:https://www.floridasforgottencoast.com/wp-content/uploads/2022/06/jellyfish-wind-chime-scaled.jpg
ORGANIZER;CN="Friends of Franklin County Public Libraries":MAILTO:ffcplflorida@gmail.com
END:VEVENT
BEGIN:VEVENT
DTSTART;TZID=America/New_York:20220707T140000
DTEND;TZID=America/New_York:20220707T150000
DTSTAMP:20260422T091114
CREATED:20220617T193934Z
LAST-MODIFIED:20220617T193934Z
UID:10000895-1657202400-1657206000@www.floridasforgottencoast.com
SUMMARY:Ocean-Inspired Candle Craft Event
DESCRIPTION:Join the Eastpoint Branch Library on Thursday\, July 7th at 2:00 PM for an ocean inspired craft event! At this fun event\, participants will design and create their own ocean inspired candle! Supplies will be provided but seating is limited\, so please stop by or call (850) 670-8151 to reserve your spot today. This program is free and open to the public but REGISTRATION IS REQUIRED. (Participants do not have to have a library card to participate.) This program is recommended for adults and children aged 12 and older. \nFranklin County Public Library Eastpoint Branch is located at 160 Hickory Dip Rd\, Eastpoint\, FL. For more information\, contact the Eastpoint Branch Library at (850) 670-8151. \nThis program is sponsored by the Friends of the Franklin County Public Libraries. Friends of Franklin County Public Libraries is a 501(c)(3) organization that supports the Franklin County Public Libraries in Eastpoint and Carrabelle\, Florida.
URL:https://www.floridasforgottencoast.com/event/ocean-inspired-candle-craft-event/
LOCATION:Eastpoint Public Library\, 160 Hickory Dip Rd\, Eastpoint\, FL\, 32328\, United States
ATTACH;FMTTYPE=image/jpeg:https://www.floridasforgottencoast.com/wp-content/uploads/2022/06/candle.jpg
ORGANIZER;CN="Friends of Franklin County Public Libraries":MAILTO:ffcplflorida@gmail.com
END:VEVENT
BEGIN:VEVENT
DTSTART;TZID=America/New_York:20220628T140000
DTEND;TZID=America/New_York:20220628T150000
DTSTAMP:20260422T091114
CREATED:20220526T201800Z
LAST-MODIFIED:20220526T201800Z
UID:10000883-1656424800-1656428400@www.floridasforgottencoast.com
SUMMARY:Craft Kidz - Making Paper Chain Jellyfish
DESCRIPTION:Join the Eastpoint Branch Library on Tuesday\, June 28th at 2:00 PM for an ocean inspired craft event! At this fun event\, participants will make their very own Paper Chain Jellyfish! Supplies will be provided. This program is free and open to the public and is most appropriate for ages 6-10 years old. (Participants do not have to have a library card to participate.) Seating is limited and registration is required by calling or coming by the Eastpoint Branch Library. \nFranklin County Public Library Eastpoint Branch is located at 160 Hickory Dip Rd\, Eastpoint\, FL. For more information\, contact the Eastpoint Branch Library at (850) 670-8151. \nThis program is sponsored by the Friends of the Franklin County Public Libraries. Friends of Franklin County Public Libraries is a 501(c)(3) organization that supports the Franklin County Public Libraries in Eastpoint and Carrabelle\, Florida.
URL:https://www.floridasforgottencoast.com/event/craft-kidz-making-paper-chain-jellyfish/
LOCATION:Eastpoint Public Library\, 160 Hickory Dip Rd\, Eastpoint\, FL\, 32328\, United States
ATTACH;FMTTYPE=image/png:https://www.floridasforgottencoast.com/wp-content/uploads/2022/05/paper-chain-jellyfish-craft.png
ORGANIZER;CN="Friends of Franklin County Public Libraries":MAILTO:ffcplflorida@gmail.com
END:VEVENT
BEGIN:VEVENT
DTSTART;TZID=America/New_York:20220623T140000
DTEND;TZID=America/New_York:20220623T150000
DTSTAMP:20260422T091114
CREATED:20220526T201835Z
LAST-MODIFIED:20220610T163307Z
UID:10000884-1655992800-1655996400@www.floridasforgottencoast.com
SUMMARY:Seaglass Mason Jar Craft Workshop
DESCRIPTION:Join the Eastpoint Branch Library on Thursday\, June 23rd at 2:00 PM for an ocean inspired craft event! At this fun event\, participants will design and create their own Sea Glass Mason Jar! Supplies will be provided. This program is free and open to the public. (Participants do not have to have a library card to participate.) This program is recommended for individuals ages 9 and up. Seating is limited and registration is required by calling or coming by the Eastpoint Branch Library. Come learn to create a beautiful work of art using sea glass. \nFranklin County Public Library Eastpoint Branch is located at 160 Hickory Dip Rd\, Eastpoint\, FL. For more information\, contact the Eastpoint Branch Library at (850) 670-8151. \nThis program is sponsored by the Friends of the Franklin County Public Libraries. Friends of Franklin County Public Libraries is a 501(c)(3) organization that supports the Franklin County Public Libraries in Eastpoint and Carrabelle\, Florida.
URL:https://www.floridasforgottencoast.com/event/seaglass-mason-jar-craft-workshop-adults/
LOCATION:Eastpoint Public Library\, 160 Hickory Dip Rd\, Eastpoint\, FL\, 32328\, United States
ATTACH;FMTTYPE=image/jpeg:https://www.floridasforgottencoast.com/wp-content/uploads/2022/05/sea-glass-mason-jar.jpg
ORGANIZER;CN="Friends of Franklin County Public Libraries":MAILTO:ffcplflorida@gmail.com
END:VEVENT
BEGIN:VEVENT
DTSTART;TZID=America/New_York:20220621T110000
DTEND;TZID=America/New_York:20220621T120000
DTSTAMP:20260422T091114
CREATED:20220610T194912Z
LAST-MODIFIED:20220610T194912Z
UID:10000893-1655809200-1655812800@www.floridasforgottencoast.com
SUMMARY:Shellfish Hatcheries Talk
DESCRIPTION:Join the Eastpoint Branch Library on Tuesday\, June 21st at 11:00 am for a Shellfish Hatchery Presentation by Morgan Hawkins of FSU Coastal and Marine Laboratory. This program will focus on what a shellfish hatchery is\, what are the steps\, and why are shellfish important (mainly focusing on oysters and bay scallops). \nThis program is for all ages and open to the public. There is no registration required. This is a free program so come and join in the conversation!!! \nThe Eastpoint Branch Library is located at 160 Hickory Dip Rd in Eastpoint\, FL. For more information\, contact the Eastpoint Branch at (850) 670-8151.
URL:https://www.floridasforgottencoast.com/event/shellfish-hatcheries-talk/
LOCATION:Eastpoint Public Library\, 160 Hickory Dip Rd\, Eastpoint\, FL\, 32328\, United States
ATTACH;FMTTYPE=image/jpeg:https://www.floridasforgottencoast.com/wp-content/uploads/2022/06/th-1378745194-1.jpg
ORGANIZER;CN="Friends of Franklin County Public Libraries":MAILTO:ffcplflorida@gmail.com
END:VEVENT
BEGIN:VEVENT
DTSTART;TZID=America/New_York:20220620T110000
DTEND;TZID=America/New_York:20220620T120000
DTSTAMP:20260422T091114
CREATED:20220610T194500Z
LAST-MODIFIED:20220610T194500Z
UID:10000890-1655722800-1655726400@www.floridasforgottencoast.com
SUMMARY:Shark Talk with FSU Coastal & Marine Lab
DESCRIPTION:Join the Eastpoint Branch Library on Monday\, June 20th at 11:00 am for a fascinating Shark Talk by Dr. Dean Grubbs of the FSU Coastal & Marine Laboratory. Dr. Grubbs will discuss shark biology and conservation. \nThis program is for all ages and open to the public. There is no registration required. This is a free program so come and join in the conversation!!! \nThe Eastpoint Branch Library is located at 160 Hickory Dip Rd in Eastpoint. For more information\, contact the Eastpoint Branch at (850) 670-8151.
URL:https://www.floridasforgottencoast.com/event/shark-talk-with-fsu-coastal-marine-lab/
LOCATION:Eastpoint Public Library\, 160 Hickory Dip Rd\, Eastpoint\, FL\, 32328\, United States
ATTACH;FMTTYPE=image/jpeg:https://www.floridasforgottencoast.com/wp-content/uploads/2022/06/shark.jpg
ORGANIZER;CN="Friends of Franklin County Public Libraries":MAILTO:ffcplflorida@gmail.com
END:VEVENT
BEGIN:VEVENT
DTSTART;TZID=America/New_York:20220614T140000
DTEND;TZID=America/New_York:20220614T150000
DTSTAMP:20260422T091114
CREATED:20220526T130617Z
LAST-MODIFIED:20220526T165136Z
UID:10000882-1655215200-1655218800@www.floridasforgottencoast.com
SUMMARY:Crafty Kidz - Making Aquarium Boxes
DESCRIPTION:Join the Eastpoint Branch Library on Tuesday\, June 14th at 2:00 PM for an ocean inspired craft event! At this fun event\, participants will make their very own Aquarium Box craft! Supplies will be provided. This program is free and open to the public and is most appropriate for ages 6-10 years old. (Participants do not have to have a library card to participate.) \nFranklin County Public Library Eastpoint Branch is located at 160 Hickory Dip Rd\, Eastpoint\, FL. For more information\, contact the Eastpoint Branch Library at (850) 670-8151. \nThis program is sponsored by the Friends of the Franklin County Public Libraries. Friends of Franklin County Public Libraries is a 501(c)(3) organization that supports the Franklin County Public Libraries in Eastpoint and Carrabelle\, Florida.
URL:https://www.floridasforgottencoast.com/event/crafty-kidz-club/
LOCATION:Eastpoint Public Library\, 160 Hickory Dip Rd\, Eastpoint\, FL\, 32328\, United States
ATTACH;FMTTYPE=image/png:https://www.floridasforgottencoast.com/wp-content/uploads/2022/05/Aquarium-box-2.png
ORGANIZER;CN="Friends of Franklin County Public Libraries":MAILTO:ffcplflorida@gmail.com
END:VEVENT
BEGIN:VEVENT
DTSTART;TZID=America/New_York:20220505T090000
DTEND;TZID=America/New_York:20220505T170000
DTSTAMP:20260422T091114
CREATED:20220430T124233Z
LAST-MODIFIED:20220430T124233Z
UID:10000872-1651741200-1651770000@www.floridasforgottencoast.com
SUMMARY:Cinco de Mayo Celebration
DESCRIPTION:You don’t have to go South of the Border for our FIESTA!!! \nGrab your sombrero and join the Franklin County Public Library Eastpoint location at 160 Hickory Dip Rd in Eastpoint for a Cinco de Mayo celebration including traditional crafts\, including Ojo De Dios (Eye of God) and Fiesta flowers\, games\, pinatas and more!!! \nThursday May 5th from 9:00-5:00\, this is an all-day event for all ages. There is no charge for this event and it is open to the public.
URL:https://www.floridasforgottencoast.com/event/cinco-de-mayo-celebration/
LOCATION:Eastpoint Public Library\, 160 Hickory Dip Rd\, Eastpoint\, FL\, 32328\, United States
ATTACH;FMTTYPE=image/jpeg:https://www.floridasforgottencoast.com/wp-content/uploads/2022/04/Cinco.jpg
ORGANIZER;CN="Friends of Franklin County Public Libraries":MAILTO:ffcplflorida@gmail.com
END:VEVENT
BEGIN:VEVENT
DTSTART;TZID=America/New_York:20220210T160000
DTEND;TZID=America/New_York:20220210T163000
DTSTAMP:20260422T091114
CREATED:20220110T210054Z
LAST-MODIFIED:20220209T152440Z
UID:10000839-1644508800-1644510600@www.floridasforgottencoast.com
SUMMARY:Gazebo Ribbon Cutting at the Eastpoint Library
DESCRIPTION:The Friends of Franklin County Public Libraries is pleased to invite the public to attend the ribbon cutting of a new gazebo and walkway at the Eastpoint Branch library on Thursday\, February 10th at 4:00 p.m. The Eastpoint Branch library is located at 160 Hickory Dip Rd\, Eastpoint\, FL. \n\n\nThis gazebo and walkway is the result of a process that was dreamed and drawn when the library was first built six years ago. The dream was and is to provide beautification projects to complement the library building. This large project was able to happen thanks to a generous bequest. Future plans for the library grounds include more trails. The Friends is excited to provide this outdoor component that will help to fulfill the mission of access to information and education in an outside setting. \n\n\nFriends of Franklin County Public Libraries is a 501 (c) (3) organization that supports the Franklin County Public Libraries in Eastpoint and Carrabelle\, Florida. The Mission of the Friends is to support the Franklin County Public Libraries’ goal to provide informational\, educational\, and cultural materials for the benefit of persons of all ages in the community. Through fundraising\, the Friends support many library programs: Summer Reading\, Music as Another Language\, Read With Me Storytime (ages 1-6)\, STEAM 1 (Science\, Technology\, Engineering\, Arts\, Math—ages 8-12)\, STEAM 2 (ages 5-7)\, ANIME Club (grades 5-12)\, Teen Book Club (grades 6-12)\, Computer Classes (adults)\, and Lego Club. \n\n\nFor more information\, please contact the Friends of the Franklin County Public Libraries at ffcplflorida@gmail.com or http://www.friendsfcpl.com.
URL:https://www.floridasforgottencoast.com/event/gazebo-ribbon-cutting-at-the-eastpoint-library/
LOCATION:Eastpoint Public Library\, 160 Hickory Dip Rd\, Eastpoint\, FL\, 32328\, United States
ATTACH;FMTTYPE=image/jpeg:https://www.floridasforgottencoast.com/wp-content/uploads/2022/01/Gazebo.jpg
END:VEVENT
BEGIN:VEVENT
DTSTART;TZID=America/New_York:20220122T100000
DTEND;TZID=America/New_York:20220122T140000
DTSTAMP:20260422T091114
CREATED:20211217T133315Z
LAST-MODIFIED:20211217T135858Z
UID:10000836-1642845600-1642860000@www.floridasforgottencoast.com
SUMMARY:Eastpoint Franklin County Public Library:  Annual Soup\, Bread and Book Sale
DESCRIPTION:The Friends of Franklin County Public Libraries is hosting their annual Soup\, Bread & Book Sale on Saturday\, January 22\, 2022\, outside of the Eastpoint branch of the Franklin County Public Library\, 160 Hickory Dip Rd. This popular sale features vintage and used books and DVDs\, delicious homemade soups\, and freshly baked artisan bread. Books will go on sale starting at 10 am. Soups and bread will go on sale beginning at 11 am. The soups and bread sell out very fast so come early to get the best selection. As a bonus at this year’s sale\, there will also be some yard sale items available. (In case of inclement weather\, the sale will be moved indoors.) \nBook\, soup\, and bread donations are gladly accepted. Book donations may be dropped off at either branch – Eastpoint or Carrabelle. Food donations are being coordinated via a sign-up sheet at the Eastpoint library or by calling (850) 670-8151. \nWhile you are at the Eastpoint Library\, be sure to check out the lovely new gazebo\, part of the library beautification project sponsored by the Friends. The Mission of the Friends is to support the Franklin County Public Libraries’ goal to provide informational\, educational\, and cultural materials for the benefit of persons of all ages in the community. Through fundraising\, the Friends support many library programs: Summer Reading\, Music as Another Language\, Read With Me Storytime (ages 1-6)\, STEAM 1 (Science\, Technology\, Engineering\, Arts\, Math—ages 8-12)\, STEAM 2 (ages 5-7)\, ANIME Club (grades 5-12)\, Teen Book Club (grades 6-12)\, Computer Classes (adults)\, and Lego Club. \nFor those who cannot make this sale\, there will be another sale at the Carrabelle branch on Saturday\, February 19\, 2022. For more information\, please contact the Friends of the Franklin County Public Libraries at ffcplflorida@gmail.com.
URL:https://www.floridasforgottencoast.com/event/eastpoint-franklin-county-public-library-annual-soup-bread-and-book-sale/
LOCATION:Eastpoint Public Library\, 160 Hickory Dip Rd\, Eastpoint\, FL\, 32328\, United States
ATTACH;FMTTYPE=image/jpeg:https://www.floridasforgottencoast.com/wp-content/uploads/2021/12/268815823_901388667192499_6660194342904619682_n.jpg
END:VEVENT
END:VCALENDAR