BEGIN:VCALENDAR
VERSION:2.0
PRODID:-//Florida&#039;s Forgotten Coast - ECPv6.15.20//NONSGML v1.0//EN
CALSCALE:GREGORIAN
METHOD:PUBLISH
X-WR-CALNAME:Florida&#039;s Forgotten Coast
X-ORIGINAL-URL:https://www.floridasforgottencoast.com
X-WR-CALDESC:Events for Florida&#039;s Forgotten Coast
REFRESH-INTERVAL;VALUE=DURATION:PT1H
X-Robots-Tag:noindex
X-PUBLISHED-TTL:PT1H
BEGIN:VTIMEZONE
TZID:America/New_York
BEGIN:DAYLIGHT
TZOFFSETFROM:-0500
TZOFFSETTO:-0400
TZNAME:EDT
DTSTART:20190310T070000
END:DAYLIGHT
BEGIN:STANDARD
TZOFFSETFROM:-0400
TZOFFSETTO:-0500
TZNAME:EST
DTSTART:20191103T060000
END:STANDARD
BEGIN:DAYLIGHT
TZOFFSETFROM:-0500
TZOFFSETTO:-0400
TZNAME:EDT
DTSTART:20200308T070000
END:DAYLIGHT
BEGIN:STANDARD
TZOFFSETFROM:-0400
TZOFFSETTO:-0500
TZNAME:EST
DTSTART:20201101T060000
END:STANDARD
BEGIN:DAYLIGHT
TZOFFSETFROM:-0500
TZOFFSETTO:-0400
TZNAME:EDT
DTSTART:20210314T070000
END:DAYLIGHT
BEGIN:STANDARD
TZOFFSETFROM:-0400
TZOFFSETTO:-0500
TZNAME:EST
DTSTART:20211107T060000
END:STANDARD
END:VTIMEZONE
BEGIN:VEVENT
DTSTART;TZID=America/New_York:20201003T090000
DTEND;TZID=America/New_York:20201003T130000
DTSTAMP:20260421T092856
CREATED:20200716T122011Z
LAST-MODIFIED:20200716T122011Z
UID:10000275-1601715600-1601730000@www.floridasforgottencoast.com
SUMMARY:Country Farmer’s Market
DESCRIPTION:The Crooked River Lighthouse is hosting a Country Farmer’s Market Saturday\, October 3 from 9 am-1 pm at the foot of the lighthouse at 1975 Hwy 98 W\, Carrabelle\, FL. The Market will be featuring vendors from the community with locally made goods\, fresh roasted coffee\, veggies\, plants\, art\, baked goods\, photography\, craft items\, and unique maritime items in the Lighthouse Gift Shop. The Country Farmer’s Market is held every first and third Saturday from 9 am-1 pm at the Crooked River Lighthouse. \nThe Market is encouraging new and returning vendors to join. Vendor may sign up at any time. The cost to be a vendor is FREE for members of the Carrabelle Lighthouse Association and $10 per market for non-members. Annual membership cost is $15 for an individual or $25 for a family. \nAnyone interested in being a vendor or for more information\, contact the lighthouse at (850) 697-2732 or carrabellelighthouse@gmail.com.
URL:https://www.floridasforgottencoast.com/event/country-farmers-market-10/
LOCATION:Crooked River Lighthouse\, 1975 Hwy 98 W\, Carrabelle\, FL\, 32322\, United States
ATTACH;FMTTYPE=image/jpeg:https://www.floridasforgottencoast.com/wp-content/uploads/2020/07/Carrabelle-Farmers-Market.jpg
ORGANIZER;CN="Crooked River Lighthouse":MAILTO:carrabellelighthouse@gmail.com
END:VEVENT
BEGIN:VEVENT
DTSTART;TZID=America/New_York:20200919T090000
DTEND;TZID=America/New_York:20200919T130000
DTSTAMP:20260421T092856
CREATED:20200716T121850Z
LAST-MODIFIED:20200716T121850Z
UID:10000274-1600506000-1600520400@www.floridasforgottencoast.com
SUMMARY:Country Farmer’s Market
DESCRIPTION:The Crooked River Lighthouse is hosting a Country Farmer’s Market Saturday\, September 19 from 9 am-1 pm at the foot of the lighthouse at 1975 Hwy 98 W\, Carrabelle\, FL. The Market will be featuring vendors from the community with locally made goods\, fresh roasted coffee\, veggies\, plants\, art\, baked goods\, photography\, craft items\, and unique maritime items in the Lighthouse Gift Shop. The Country Farmer’s Market is held every first and third Saturday from 9 am-1 pm at the Crooked River Lighthouse. \nThe Market is encouraging new and returning vendors to join. Vendor may sign up at any time. The cost to be a vendor is FREE for members of the Carrabelle Lighthouse Association and $10 per market for non-members. Annual membership cost is $15 for an individual or $25 for a family. \nAnyone interested in being a vendor or for more information\, contact the lighthouse at (850) 697-2732 or carrabellelighthouse@gmail.com.
URL:https://www.floridasforgottencoast.com/event/country-farmers-market-9/
LOCATION:Crooked River Lighthouse\, 1975 Hwy 98 W\, Carrabelle\, FL\, 32322\, United States
ATTACH;FMTTYPE=image/jpeg:https://www.floridasforgottencoast.com/wp-content/uploads/2020/03/Country-Farmers-Market.jpg
ORGANIZER;CN="Crooked River Lighthouse":MAILTO:carrabellelighthouse@gmail.com
END:VEVENT
BEGIN:VEVENT
DTSTART;TZID=America/New_York:20200905T090000
DTEND;TZID=America/New_York:20200905T130000
DTSTAMP:20260421T092857
CREATED:20200716T121522Z
LAST-MODIFIED:20200821T190934Z
UID:10000273-1599296400-1599310800@www.floridasforgottencoast.com
SUMMARY:Country Farmer’s Market
DESCRIPTION:The Crooked River Lighthouse is hosting their outdoor Country Farmer’s Market Saturday\, September 5 from 9 am-1 pm at the foot of the lighthouse at 1975 Hwy 98 W\, Carrabelle\, FL. Due to popular demand\, again at this Market will be a fabulous food truck – actually two – Amazing Grubz and Kent’s Smokin’ Sausages! While guests are browsing the vendors\, they can munch on yummy seafood\, wings\, sausage dogs plus cool off with an ice cold shaved ice or a refreshing strawberry lemonade! The Market will also feature local vendors from the community with handmade goods\, fresh roasted coffee\, delicious baked goods\, veggies\, handcrafted soaps\, exotic starter plants\, gorgeous art and photography\, craft items\, plus unique maritime items inside. Guests can browse inside the free Museum and visit the Lighthouse Gift Shop. In addition\, shoppers and visitors have the unique opportunity to climb to the top of the lighthouse for a breathtaking view of the Bay. The Country Farmer’s Market is held every first and third Saturday from 9 am-1 pm at the Crooked River Lighthouse. \nAt 1:00 pm\, join us for a 30 minute plant walk for $5 with Denise Williams local herbalist. Denise will guide guests for this walk around the grounds of lighthouse and point out medicinal plants. Max: 10 people. \nThe Market is open to new and returning vendors. Vendor may sign up at any time. The cost to be a vendor is FREE for members of the Carrabelle Lighthouse Association and $10 per market for non-members. Annual membership cost is $15 for an individual or $25 for a family. \nFor more information\, contact the lighthouse at carrabellelighthouse@gmail.com or 850-697-2732.
URL:https://www.floridasforgottencoast.com/event/country-farmers-market-8/
LOCATION:Crooked River Lighthouse\, 1975 Hwy 98 W\, Carrabelle\, FL\, 32322\, United States
ATTACH;FMTTYPE=image/jpeg:https://www.floridasforgottencoast.com/wp-content/uploads/2020/07/Carrabelle-Farmers-Market.jpg
ORGANIZER;CN="Crooked River Lighthouse":MAILTO:carrabellelighthouse@gmail.com
END:VEVENT
BEGIN:VEVENT
DTSTART;TZID=America/New_York:20200815T090000
DTEND;TZID=America/New_York:20200815T130000
DTSTAMP:20260421T092857
CREATED:20200716T121355Z
LAST-MODIFIED:20200716T121355Z
UID:10000272-1597482000-1597496400@www.floridasforgottencoast.com
SUMMARY:Country Farmer’s Market
DESCRIPTION:The Crooked River Lighthouse is hosting a Country Farmer’s Market Saturday\, August 15 from 9 am-1 pm at the foot of the lighthouse at 1975 Hwy 98 W\, Carrabelle\, FL. The Market will be featuring vendors from the community with locally made goods\, fresh roasted coffee\, veggies\, plants\, art\, baked goods\, photography\, craft items\, and unique maritime items in the Lighthouse Gift Shop. The Country Farmer’s Market is held every first and third Saturday from 9 am-1 pm at the Crooked River Lighthouse. \nThe Market is encouraging new and returning vendors to join. Vendor may sign up at any time. The cost to be a vendor is FREE for members of the Carrabelle Lighthouse Association and $10 per market for non-members. Annual membership cost is $15 for an individual or $25 for a family. \nAnyone interested in being a vendor or for more information\, contact the lighthouse at (850) 697-2732 or carrabellelighthouse@gmail.com.
URL:https://www.floridasforgottencoast.com/event/country-farmers-market-7/
LOCATION:Crooked River Lighthouse\, 1975 Hwy 98 W\, Carrabelle\, FL\, 32322\, United States
ATTACH;FMTTYPE=image/jpeg:https://www.floridasforgottencoast.com/wp-content/uploads/2020/07/Carrabelle-Farmers-Market.jpg
ORGANIZER;CN="Crooked River Lighthouse":MAILTO:carrabellelighthouse@gmail.com
END:VEVENT
BEGIN:VEVENT
DTSTART;TZID=America/New_York:20200802T190000
DTEND;TZID=America/New_York:20200802T220000
DTSTAMP:20260421T092857
CREATED:20200225T163005Z
LAST-MODIFIED:20200707T160400Z
UID:10000092-1596394800-1596405600@www.floridasforgottencoast.com
SUMMARY:Full Moon Climb
DESCRIPTION:The Crooked River Lighthouse is bringing back their popular Full Moon Lighthouse Climb events starting Sunday\, August 2nd\, from 7-10 pm in Carrabelle\, FL. Visitors can enjoy this opportunity to see the gorgeous natural surroundings of the St. George Sound\, Carrabelle Beach\, and Dog Island\, under the night sky at this special Crooked River Lighthouse evening climb. \nThe Full Moon for August is known as the Sturgeon Moon. Other names for this Full Moon include ”Full Green Corn Moon\,” signaling that the corn was nearly ready for harvest\, “Wheat Cut Moon\,” “Moon When All Things Ripen\,” and ”Blueberry Moon.” (Credit: Farmer’s Almanac). \nAt this month’s event\, visitors will also be able to enjoy the glow of the sunset as well of the moonrise. Visitors can climb to the top of the tallest lighthouse on the Forgotten Coast\, Crooked River Lighthouse\, to see breathtaking views of the bay under the glow of the beautiful setting sun and the rising full moon. Cost is just $8. The museum and gift shop will also be open for guests’ enjoyment. All climbers must be 44 inches tall. Please note\, there will be no live music at this month’s event.
URL:https://www.floridasforgottencoast.com/event/full-moon-climb-17/
LOCATION:Crooked River Lighthouse\, 1975 Hwy 98 W\, Carrabelle\, FL\, 32322\, United States
ATTACH;FMTTYPE=image/jpeg:https://www.floridasforgottencoast.com/wp-content/uploads/2019/04/Carrabelle-Lighthouse.jpg
ORGANIZER;CN="Crooked River Lighthouse":MAILTO:carrabellelighthouse@gmail.com
END:VEVENT
BEGIN:VEVENT
DTSTART;TZID=America/New_York:20200801T090000
DTEND;TZID=America/New_York:20200801T130000
DTSTAMP:20260421T092857
CREATED:20200716T121212Z
LAST-MODIFIED:20200716T121213Z
UID:10000271-1596272400-1596286800@www.floridasforgottencoast.com
SUMMARY:Country Farmer’s Market
DESCRIPTION:The Crooked River Lighthouse is hosting a Country Farmer’s Market Saturday\, August 1 from 9 am-1 pm at the foot of the lighthouse at 1975 Hwy 98 W\, Carrabelle\, FL. The Market will be featuring vendors from the community with locally made goods\, fresh roasted coffee\, veggies\, plants\, art\, baked goods\, photography\, craft items\, and unique maritime items in the Lighthouse Gift Shop. The Country Farmer’s Market is held every first and third Saturday from 9 am-1 pm at the Crooked River Lighthouse. \nThe Market is encouraging new and returning vendors to join. Vendor may sign up at any time. The cost to be a vendor is FREE for members of the Carrabelle Lighthouse Association and $10 per market for non-members. Annual membership cost is $15 for an individual or $25 for a family. \nAnyone interested in being a vendor or for more information\, contact the lighthouse at (850) 697-2732 or carrabellelighthouse@gmail.com.
URL:https://www.floridasforgottencoast.com/event/country-farmers-market-2/
LOCATION:Crooked River Lighthouse\, 1975 Hwy 98 W\, Carrabelle\, FL\, 32322\, United States
ATTACH;FMTTYPE=image/jpeg:https://www.floridasforgottencoast.com/wp-content/uploads/2020/07/Carrabelle-Farmers-Market.jpg
ORGANIZER;CN="Crooked River Lighthouse":MAILTO:carrabellelighthouse@gmail.com
END:VEVENT
BEGIN:VEVENT
DTSTART;TZID=America/New_York:20200718T090000
DTEND;TZID=America/New_York:20200718T130000
DTSTAMP:20260421T092857
CREATED:20200716T120844Z
LAST-MODIFIED:20200716T120927Z
UID:10000270-1595062800-1595077200@www.floridasforgottencoast.com
SUMMARY:Country Farmer's Market
DESCRIPTION:The Crooked River Lighthouse is hosting a Country Farmer’s Market Saturday\, July 18 from 9 am-1 pm at the foot of the lighthouse at 1975 Hwy 98 W\, Carrabelle\, FL. The Market will be featuring vendors from the community with locally made goods\, fresh roasted coffee\, veggies\, plants\, art\, baked goods\, photography\, craft items\, and unique maritime items in the Lighthouse Gift Shop. The Country Farmer’s Market is held every first and third Saturday from 9 am-1 pm at the Crooked River Lighthouse. \nThe Market is encouraging new and returning vendors to join. Vendor may sign up at any time. The cost to be a vendor is FREE for members of the Carrabelle Lighthouse Association and $10 per market for non-members. Annual membership cost is $15 for an individual or $25 for a family. \nAnyone interested in being a vendor or for more information\, contact the lighthouse at (850) 697-2732 or carrabellelighthouse@gmail.com.
URL:https://www.floridasforgottencoast.com/event/country-farmers-market/
LOCATION:Crooked River Lighthouse\, 1975 Hwy 98 W\, Carrabelle\, FL\, 32322\, United States
ATTACH;FMTTYPE=image/jpeg:https://www.floridasforgottencoast.com/wp-content/uploads/2020/07/Carrabelle-Farmers-Market.jpg
ORGANIZER;CN="Crooked River Lighthouse":MAILTO:carrabellelighthouse@gmail.com
END:VEVENT
BEGIN:VEVENT
DTSTART;TZID=America/New_York:20200704T200000
DTEND;TZID=America/New_York:20200704T220000
DTSTAMP:20260421T092857
CREATED:20200225T162849Z
LAST-MODIFIED:20200602T180125Z
UID:10000091-1593892800-1593900000@www.floridasforgottencoast.com
SUMMARY:CANCELLED: Full Moon Climb
DESCRIPTION:
URL:https://www.floridasforgottencoast.com/event/full-moon-climb-16/
LOCATION:Crooked River Lighthouse\, 1975 Hwy 98 W\, Carrabelle\, FL\, 32322\, United States
CATEGORIES:Cancelled
ATTACH;FMTTYPE=image/jpeg:https://www.floridasforgottencoast.com/wp-content/uploads/2019/12/gasche-moon-and-Carrabelle-Lighthouse.jpg
ORGANIZER;CN="Crooked River Lighthouse":MAILTO:carrabellelighthouse@gmail.com
END:VEVENT
BEGIN:VEVENT
DTSTART;TZID=America/New_York:20200620T090000
DTEND;TZID=America/New_York:20200620T130000
DTSTAMP:20260421T092857
CREATED:20200309T181438Z
LAST-MODIFIED:20200309T181453Z
UID:10000103-1592643600-1592658000@www.floridasforgottencoast.com
SUMMARY:Country Farmer's Market
DESCRIPTION:The Crooked River Lighthouse in Carrabelle will be hosting a Country Farmer’s Market on Saturday\, June 20 from 9 am-1 pm at the foot of the lighthouse at 1975 Hwy 98 W\, Carrabelle\, FL. The Market will be featuring vendors from the community with locally made goods\, coffee\, art\, baked goods\, homemade soaps\, exotic starter plants\, and more veggies. The Country Farmer’s Market will be held every first and third Saturday from 9 am-1 pm at the Crooked River Lighthouse. \nThe Market is growing steadily and is encouraging vendors to join. Vendor may sign up at any time. The cost to be a vendor is $5 per market for members of the Carrabelle Lighthouse Association and $10 per market for non-members. Annual membership cost is $15 for an individual or $25 for a family.
URL:https://www.floridasforgottencoast.com/event/country-farmers-market-6/
LOCATION:Crooked River Lighthouse\, 1975 Hwy 98 W\, Carrabelle\, FL\, 32322\, United States
ATTACH;FMTTYPE=image/jpeg:https://www.floridasforgottencoast.com/wp-content/uploads/2020/03/Country-Farmers-Market.jpg
ORGANIZER;CN="Crooked River Lighthouse":MAILTO:carrabellelighthouse@gmail.com
END:VEVENT
BEGIN:VEVENT
DTSTART;TZID=America/New_York:20200606T200000
DTEND;TZID=America/New_York:20200606T220000
DTSTAMP:20260421T092857
CREATED:20200225T162745Z
LAST-MODIFIED:20200520T182853Z
UID:10000090-1591473600-1591480800@www.floridasforgottencoast.com
SUMMARY:CANCELLED: Full Moon Climb
DESCRIPTION:Visitors can climb the tallest lighthouse on the Forgotten Coast\, Crooked River Lighthouse\, to see breathtaking views of the bay under the glow of the rising full moon. Enjoy the opportunity to see the gorgeous natural surroundings of the St. George Sound\, Carrabelle Beach\, and Dog Island under the night sky. Cost for the Full Moon Climb event is $8. The museum and gift shop will be open\, and guests can also enjoy s’mores around the fire pit. All climbers must be 44 inches tall.
URL:https://www.floridasforgottencoast.com/event/full-moon-climb-15/
LOCATION:Crooked River Lighthouse\, 1975 Hwy 98 W\, Carrabelle\, FL\, 32322\, United States
CATEGORIES:Cancelled
ATTACH;FMTTYPE=image/jpeg:https://www.floridasforgottencoast.com/wp-content/uploads/2019/12/gasche-moon-and-Carrabelle-Lighthouse.jpg
ORGANIZER;CN="Crooked River Lighthouse":MAILTO:carrabellelighthouse@gmail.com
END:VEVENT
BEGIN:VEVENT
DTSTART;TZID=America/New_York:20200606T090000
DTEND;TZID=America/New_York:20200606T130000
DTSTAMP:20260421T092857
CREATED:20200309T181332Z
LAST-MODIFIED:20200605T200106Z
UID:10000102-1591434000-1591448400@www.floridasforgottencoast.com
SUMMARY:CANCELLED: Country Farmer's Market
DESCRIPTION:The Crooked River Lighthouse in Carrabelle will be hosting a Country Farmer’s Market on Saturday\, June 6 from 9 am-1 pm at the foot of the lighthouse at 1975 Hwy 98 W\, Carrabelle\, FL. The Market will be featuring vendors from the community with locally made goods\, coffee\, art\, baked goods\, homemade soaps\, exotic starter plants\, and more veggies. The Country Farmer’s Market will be held every first and third Saturday from 9 am-1 pm at the Crooked River Lighthouse. \nThe Market is growing steadily and is encouraging vendors to join. Vendor may sign up at any time. The cost to be a vendor is $5 per market for members of the Carrabelle Lighthouse Association and $10 per market for non-members. Annual membership cost is $15 for an individual or $25 for a family.
URL:https://www.floridasforgottencoast.com/event/country-farmers-market-5/
LOCATION:Crooked River Lighthouse\, 1975 Hwy 98 W\, Carrabelle\, FL\, 32322\, United States
CATEGORIES:Cancelled
ATTACH;FMTTYPE=image/jpeg:https://www.floridasforgottencoast.com/wp-content/uploads/2020/03/Country-Farmers-Market.jpg
ORGANIZER;CN="Crooked River Lighthouse":MAILTO:carrabellelighthouse@gmail.com
END:VEVENT
BEGIN:VEVENT
DTSTART;TZID=America/New_York:20200516T090000
DTEND;TZID=America/New_York:20200516T130000
DTSTAMP:20260421T092857
CREATED:20200309T181219Z
LAST-MODIFIED:20200512T140300Z
UID:10000101-1589619600-1589634000@www.floridasforgottencoast.com
SUMMARY:CANCELLED: Country Farmer's Market
DESCRIPTION:The Crooked River Lighthouse in Carrabelle will be hosting a Country Farmer’s Market on Saturday\, May 16 from 9 am-1 pm at the foot of the lighthouse at 1975 Hwy 98 W\, Carrabelle\, FL. The Market will be featuring vendors from the community with locally made goods\, coffee\, art\, baked goods\, homemade soaps\, exotic starter plants\, and more veggies. The Country Farmer’s Market will be held every first and third Saturday from 9 am-1 pm at the Crooked River Lighthouse. \nThe Market is growing steadily and is encouraging vendors to join. Vendor may sign up at any time. The cost to be a vendor is $5 per market for members of the Carrabelle Lighthouse Association and $10 per market for non-members. Annual membership cost is $15 for an individual or $25 for a family.
URL:https://www.floridasforgottencoast.com/event/country-farmers-market-4/
LOCATION:Crooked River Lighthouse\, 1975 Hwy 98 W\, Carrabelle\, FL\, 32322\, United States
CATEGORIES:Cancelled
ATTACH;FMTTYPE=image/jpeg:https://www.floridasforgottencoast.com/wp-content/uploads/2020/03/Country-Farmers-Market.jpg
ORGANIZER;CN="Crooked River Lighthouse":MAILTO:carrabellelighthouse@gmail.com
END:VEVENT
BEGIN:VEVENT
DTSTART;TZID=America/New_York:20200508T200000
DTEND;TZID=America/New_York:20200508T220000
DTSTAMP:20260421T092857
CREATED:20191223T143006Z
LAST-MODIFIED:20200416T011550Z
UID:10000068-1588968000-1588975200@www.floridasforgottencoast.com
SUMMARY:CANCELLED: Full Moon & Sunset Lighthouse Climb
DESCRIPTION:The Crooked River Lighthouse will be hosting a Full Moon Lighthouse Climb on Friday\, May 8\, 7-10 pm in Carrabelle\, FL.  Visitors can enjoy this opportunity to see the gorgeous natural surroundings of the St. George Sound\, Carrabelle Beach\, and Dog Island\, under the night sky at this special Crooked River Lighthouse evening climb. \nAt May’s Full Moon event\, the Crooked River Lighthouse will have fun and fabulous live music from 7 pm to 9 pm with the Tallahassee Uke Jammers. These Uke Jammers have been meeting up for over 10 years playing all types of popular music. In addition to ukuleles\, the Jammers include a stand-up bass\, a washboard\, several kazoos and a djembe drummer to add a heartbeat! The Uke Jammers regularly perform for community outreach programs and currently offer a weekly 2-hour jam session for people with Alzheimer’s disease or dementia at YourLife of Tallahassee Memory Care as part of their enrichment experience. Crooked River Lighthouse is excited that the Tallahassee Uke Jammers will be adding their amazing fun energy and community spirit to this month’s Full Moon Climb. \nAt the event\, guests will also enjoy s’mores around the fire pit (weather permitting). Visitors can climb to the top of the tallest lighthouse on the Forgotten Coast\, Crooked River Lighthouse\, to see breathtaking views of the bay under the glow of the rising Full Moon. Cost is just $8. The museum and gift shop will also be open for guests’ enjoyment. All climbers must be 44 inches tall.
URL:https://www.floridasforgottencoast.com/event/full-moon-sunset-lighthouse-climb-9/
LOCATION:Crooked River Lighthouse\, 1975 Hwy 98 W\, Carrabelle\, FL\, 32322\, United States
CATEGORIES:Cancelled
ATTACH;FMTTYPE=image/jpeg:https://www.floridasforgottencoast.com/wp-content/uploads/2019/12/gasche-moon-and-Carrabelle-Lighthouse.jpg
ORGANIZER;CN="Crooked River Lighthouse":MAILTO:carrabellelighthouse@gmail.com
END:VEVENT
BEGIN:VEVENT
DTSTART;TZID=America/New_York:20200502T090000
DTEND;TZID=America/New_York:20200502T130000
DTSTAMP:20260421T092857
CREATED:20200309T181057Z
LAST-MODIFIED:20200416T011525Z
UID:10000100-1588410000-1588424400@www.floridasforgottencoast.com
SUMMARY:CANCELLED: Country Farmer's Market
DESCRIPTION:The Crooked River Lighthouse in Carrabelle will be hosting a Country Farmer’s Market on Saturday\, May 2 from 9 am-1 pm at the foot of the lighthouse at 1975 Hwy 98 W\, Carrabelle\, FL. The Market will be featuring vendors from the community with locally made goods\, coffee\, art\, baked goods\, homemade soaps\, exotic starter plants\, and more veggies. The Country Farmer’s Market will be held every first and third Saturday from 9 am-1 pm at the Crooked River Lighthouse. \nThe Market is growing steadily and is encouraging vendors to join. Vendor may sign up at any time. The cost to be a vendor is $5 per market for members of the Carrabelle Lighthouse Association and $10 per market for non-members. Annual membership cost is $15 for an individual or $25 for a family.
URL:https://www.floridasforgottencoast.com/event/country-farmers-market-3/
LOCATION:Crooked River Lighthouse\, 1975 Hwy 98 W\, Carrabelle\, FL\, 32322\, United States
CATEGORIES:Cancelled
ATTACH;FMTTYPE=image/jpeg:https://www.floridasforgottencoast.com/wp-content/uploads/2020/03/Country-Farmers-Market.jpg
ORGANIZER;CN="Crooked River Lighthouse":MAILTO:carrabellelighthouse@gmail.com
END:VEVENT
BEGIN:VEVENT
DTSTART;TZID=America/New_York:20200315T130000
DTEND;TZID=America/New_York:20200315T150000
DTSTAMP:20260421T092857
CREATED:20200212T132704Z
LAST-MODIFIED:20200212T132704Z
UID:10000078-1584277200-1584284400@www.floridasforgottencoast.com
SUMMARY:Paint on the Porch
DESCRIPTION:Paint your own sunset! Sunday\, March 15 from 1:00pm to 3:00pm for $35 per person (No artistic painting experience necessary!) \nIncludes 10×12 canvas\, paint\, paintbrush\, paint and easel. Instructed by artist\, Geri Mueller-Savell \nContact Crooked River Lighthouse to reserve your brush; 12 easels available. (850) 696-2732 or carrabellelighthouse@gmail.com.
URL:https://www.floridasforgottencoast.com/event/paint-on-the-porch/
LOCATION:Crooked River Lighthouse\, 1975 Hwy 98 W\, Carrabelle\, FL\, 32322\, United States
ATTACH;FMTTYPE=image/jpeg:https://www.floridasforgottencoast.com/wp-content/uploads/2020/02/Painting-of-a-sunset-and-palm-tree.jpg
ORGANIZER;CN="Crooked River Lighthouse":MAILTO:carrabellelighthouse@gmail.com
END:VEVENT
BEGIN:VEVENT
DTSTART;TZID=America/New_York:20200310T200000
DTEND;TZID=America/New_York:20200310T220000
DTSTAMP:20260421T092857
CREATED:20200108T161850Z
LAST-MODIFIED:20200203T132012Z
UID:10000072-1583870400-1583877600@www.floridasforgottencoast.com
SUMMARY:Full Moon Lighthouse Climb
DESCRIPTION:The Crooked River Lighthouse will be hosting a Full Moon Lighthouse Climb on Tuesday\, March 10\, 8-10 pm in Carrabelle\, FL.  Visitors can enjoy this opportunity to see the gorgeous natural surroundings of the St. George Sound\, Carrabelle Beach\, and Dog Island\, under the night sky at this special Crooked River Lighthouse evening climb. \nAt March’s Full Moon event\, the Crooked River Lighthouse will have fabulous live music with singer/songwriter\, Susan David and her guitar. Growing up Susan entertained her parents and house guests by singing the latest show tunes. Susan David is a talented musician who plays acoustic guitar\, ukulele\, electric bass\, and harmonica. She is an accomplished singer/songwriter who has performed with a variety of influential musicians throughout the Southeast.  Her CD\, Steppin’ Out\, is an Americana mix of blues\, pop\, folk and jazz. Susan has also recently written a song about who killed Jody Kilgore and is looking to record it and make a music video in the future. She loves living on the Forgotten Coast and enjoys the beautiful waters and the sense of community here. Crooked River Lighthouse is excited that Susan David is adding her wonderful vocals to this month’s Full Moon Climb. \nAt the event\, guests will also enjoy s’mores around the fire pit (weather permitting). Visitors can climb to the top of the tallest lighthouse on the Forgotten Coast\, Crooked River Lighthouse\, to see breathtaking views of the bay under the glow of the rising Full Moon. Cost is just $8. The museum and gift shop will also be open for guests’ enjoyment. All climbers must be 44 inches tall. \nPhoto credit: Rod Gasche
URL:https://www.floridasforgottencoast.com/event/full-moon-lighthouse-climb-2/
LOCATION:Crooked River Lighthouse\, 1975 Hwy 98 W\, Carrabelle\, FL\, 32322\, United States
ATTACH;FMTTYPE=image/jpeg:https://www.floridasforgottencoast.com/wp-content/uploads/2019/12/gasche-moon-and-Carrabelle-Lighthouse.jpg
ORGANIZER;CN="Crooked River Lighthouse":MAILTO:carrabellelighthouse@gmail.com
END:VEVENT
BEGIN:VEVENT
DTSTART;TZID=America/New_York:20200307T090000
DTEND;TZID=America/New_York:20200307T130000
DTSTAMP:20260421T092857
CREATED:20200113T142847Z
LAST-MODIFIED:20200113T142848Z
UID:10000076-1583571600-1583586000@www.floridasforgottencoast.com
SUMMARY:Carrabelle Farmer’s Market
DESCRIPTION:The Crooked River Lighthouse in Carrabelle will be hosting the Carrabelle Farmer’s Market on Saturday\, March 7 from 9 am-1 pm at the foot of the lighthouse at 1975 Hwy 98 W\, Carrabelle\, FL. The market will be featuring vendors from the community with locally made goods\, veggies\, baked goods\, art and more. The Farmer’s Market will be held every first and third Saturday from 9 am-1 pm at the Crooked River Lighthouse. This market event is growing steadily and is encouraging vendors to join. Vendor may sign up at any time. The cost to be a vendor is $10 per market for those who are not Carrabelle Lighthouse Association members and is free those who are association members. Annual membership costs $15 for an individual or $25 for a family.
URL:https://www.floridasforgottencoast.com/event/carrabelle-farmers-market/
LOCATION:Crooked River Lighthouse\, 1975 Hwy 98 W\, Carrabelle\, FL\, 32322\, United States
ATTACH;FMTTYPE=image/jpeg:https://www.floridasforgottencoast.com/wp-content/uploads/2019/12/Carrabelle-Farmers-Market.jpg
ORGANIZER;CN="Crooked River Lighthouse":MAILTO:carrabellelighthouse@gmail.com
END:VEVENT
BEGIN:VEVENT
DTSTART;TZID=America/New_York:20200209T180000
DTEND;TZID=America/New_York:20200209T200000
DTSTAMP:20260421T092857
CREATED:20191210T200650Z
LAST-MODIFIED:20191210T200650Z
UID:10000059-1581271200-1581278400@www.floridasforgottencoast.com
SUMMARY:Full Moon & Sunset Lighthouse Climb
DESCRIPTION:The Crooked River Lighthouse will be hosting a Full Moon & Sunset Lighthouse Climb on Sunday\, February 9\, 6-8 pm in Carrabelle\, FL.  Visitors can enjoy this opportunity to see the gorgeous natural surroundings of the St. George Sound\, Carrabelle Beach\, and Dog Island\, under the night sky at this special Crooked River Lighthouse evening climb. \nAt February’s Full Moon event\, the Crooked River Lighthouse will have fun entertainment with karaoke night. Come share your vocal skills and win fun awards!  Guests can also enjoy s’mores around the fire pit (weather permitting). Visitors can climb to the top of the tallest lighthouse on the Forgotten Coast\, Crooked River Lighthouse\, to see breathtaking views of the bay under the glow of the sunset and the rising Full Snow Moon. Cost is just $8. The museum and gift shop will also be open for guests’ enjoyment. All climbers must be 44 inches tall.
URL:https://www.floridasforgottencoast.com/event/full-moon-sunset-lighthouse-climb-6/
LOCATION:Crooked River Lighthouse\, 1975 Hwy 98 W\, Carrabelle\, FL\, 32322\, United States
ATTACH;FMTTYPE=image/jpeg:https://www.floridasforgottencoast.com/wp-content/uploads/2019/12/gasche-moon-and-Carrabelle-Lighthouse.jpg
ORGANIZER;CN="Crooked River Lighthouse":MAILTO:carrabellelighthouse@gmail.com
END:VEVENT
END:VCALENDAR