BEGIN:VCALENDAR
VERSION:2.0
PRODID:-//Florida&#039;s Forgotten Coast - ECPv6.15.20//NONSGML v1.0//EN
CALSCALE:GREGORIAN
METHOD:PUBLISH
X-WR-CALNAME:Florida&#039;s Forgotten Coast
X-ORIGINAL-URL:https://www.floridasforgottencoast.com
X-WR-CALDESC:Events for Florida&#039;s Forgotten Coast
REFRESH-INTERVAL;VALUE=DURATION:PT1H
X-Robots-Tag:noindex
X-PUBLISHED-TTL:PT1H
BEGIN:VTIMEZONE
TZID:America/New_York
BEGIN:DAYLIGHT
TZOFFSETFROM:-0500
TZOFFSETTO:-0400
TZNAME:EDT
DTSTART:20210314T070000
END:DAYLIGHT
BEGIN:STANDARD
TZOFFSETFROM:-0400
TZOFFSETTO:-0500
TZNAME:EST
DTSTART:20211107T060000
END:STANDARD
BEGIN:DAYLIGHT
TZOFFSETFROM:-0500
TZOFFSETTO:-0400
TZNAME:EDT
DTSTART:20220313T070000
END:DAYLIGHT
BEGIN:STANDARD
TZOFFSETFROM:-0400
TZOFFSETTO:-0500
TZNAME:EST
DTSTART:20221106T060000
END:STANDARD
BEGIN:DAYLIGHT
TZOFFSETFROM:-0500
TZOFFSETTO:-0400
TZNAME:EDT
DTSTART:20230312T070000
END:DAYLIGHT
BEGIN:STANDARD
TZOFFSETFROM:-0400
TZOFFSETTO:-0500
TZNAME:EST
DTSTART:20231105T060000
END:STANDARD
BEGIN:DAYLIGHT
TZOFFSETFROM:-0500
TZOFFSETTO:-0400
TZNAME:EDT
DTSTART:20240310T070000
END:DAYLIGHT
BEGIN:STANDARD
TZOFFSETFROM:-0400
TZOFFSETTO:-0500
TZNAME:EST
DTSTART:20241103T060000
END:STANDARD
BEGIN:DAYLIGHT
TZOFFSETFROM:-0500
TZOFFSETTO:-0400
TZNAME:EDT
DTSTART:20250309T070000
END:DAYLIGHT
BEGIN:STANDARD
TZOFFSETFROM:-0400
TZOFFSETTO:-0500
TZNAME:EST
DTSTART:20251102T060000
END:STANDARD
END:VTIMEZONE
BEGIN:VEVENT
DTSTART;TZID=America/New_York:20241016T200000
DTEND;TZID=America/New_York:20241016T213000
DTSTAMP:20260421T092642
CREATED:20240902T164544Z
LAST-MODIFIED:20240902T164544Z
UID:10002990-1729108800-1729114200@www.floridasforgottencoast.com
SUMMARY:Apalach Ghost Tour
DESCRIPTION:Join us for local ghost stories\, area legends\, and tales of hauntings in downtown Apalachicola while using ghost-hunting equipment to seek out any lingering spirits. Select tour goers and volunteers will get to use EMF detectors\, and other ghost-hunting equipment at select locations on the tour. Bring your positive energy and let’s try to say “hello” to the ghosts of Apalachicola. The tour will begin in front of the Chamber of Commerce located at 17 Avenue E next to the Dixie Theatre. This tour ranges in length from an hour and a half to an hour and 45 minutes. Tickets at: ApalachGhostTour.com
URL:https://www.floridasforgottencoast.com/event/apalach-ghost-tour-4/2024-10-16/
LOCATION:Apalachicola\, Florida\, Apalachicola\, 32320
ATTACH;FMTTYPE=image/jpeg:https://www.floridasforgottencoast.com/wp-content/uploads/2024/08/GhostTourChamberWebsite-copy-1.jpg
ORGANIZER;CN="Apalach Ghost Tour":MAILTO:boo@apalachghosttour.com
END:VEVENT
BEGIN:VEVENT
DTSTART;TZID=America/New_York:20241014T200000
DTEND;TZID=America/New_York:20241014T213000
DTSTAMP:20260421T092642
CREATED:20240902T164544Z
LAST-MODIFIED:20240902T164544Z
UID:10002989-1728936000-1728941400@www.floridasforgottencoast.com
SUMMARY:Apalach Ghost Tour
DESCRIPTION:Join us for local ghost stories\, area legends\, and tales of hauntings in downtown Apalachicola while using ghost-hunting equipment to seek out any lingering spirits. Select tour goers and volunteers will get to use EMF detectors\, and other ghost-hunting equipment at select locations on the tour. Bring your positive energy and let’s try to say “hello” to the ghosts of Apalachicola. The tour will begin in front of the Chamber of Commerce located at 17 Avenue E next to the Dixie Theatre. This tour ranges in length from an hour and a half to an hour and 45 minutes. Tickets at: ApalachGhostTour.com
URL:https://www.floridasforgottencoast.com/event/apalach-ghost-tour-4/2024-10-14/
LOCATION:Apalachicola\, Florida\, Apalachicola\, 32320
ATTACH;FMTTYPE=image/jpeg:https://www.floridasforgottencoast.com/wp-content/uploads/2024/08/GhostTourChamberWebsite-copy-1.jpg
ORGANIZER;CN="Apalach Ghost Tour":MAILTO:boo@apalachghosttour.com
END:VEVENT
BEGIN:VEVENT
DTSTART;TZID=America/New_York:20241012T200000
DTEND;TZID=America/New_York:20241012T220000
DTSTAMP:20260421T092642
CREATED:20240902T164016Z
LAST-MODIFIED:20240902T164016Z
UID:10002871-1728763200-1728770400@www.floridasforgottencoast.com
SUMMARY:Boos & Booze Haunted Pub Crawl
DESCRIPTION:Join us on our haunted pub crawl in downtown Apalachicola. Your ghostly guide(s) will tell you local ghost stories and haunted history while making stops at local bars and pubs along the way. Those who attend this tour will get a FREE “Boos and Booze” Haunted Pub Crawl koozie at the start of the tour for your beverage. This tour is for ages 21+ only. The tour will begin in front of the Chamber of Commerce located at 17 Avenue E next to the Dixie Theatre. This tour encompasses a mile walk and may last up to 2-hours. Ticket at: ApalachGhostTour.com
URL:https://www.floridasforgottencoast.com/event/boos-booze-haunted-pub-crawl-3/2024-10-12/
LOCATION:Apalachicola\, Florida\, Apalachicola\, 32320
ATTACH;FMTTYPE=image/jpeg:https://www.floridasforgottencoast.com/wp-content/uploads/2024/08/PubTourPHPAd-copy-1.jpg
ORGANIZER;CN="Apalach Ghost Tour":MAILTO:boo@apalachghosttour.com
END:VEVENT
BEGIN:VEVENT
DTSTART;TZID=America/New_York:20241011T200000
DTEND;TZID=America/New_York:20241011T213000
DTSTAMP:20260421T092642
CREATED:20240902T164544Z
LAST-MODIFIED:20240902T164544Z
UID:10002988-1728676800-1728682200@www.floridasforgottencoast.com
SUMMARY:Apalach Ghost Tour
DESCRIPTION:Join us for local ghost stories\, area legends\, and tales of hauntings in downtown Apalachicola while using ghost-hunting equipment to seek out any lingering spirits. Select tour goers and volunteers will get to use EMF detectors\, and other ghost-hunting equipment at select locations on the tour. Bring your positive energy and let’s try to say “hello” to the ghosts of Apalachicola. The tour will begin in front of the Chamber of Commerce located at 17 Avenue E next to the Dixie Theatre. This tour ranges in length from an hour and a half to an hour and 45 minutes. Tickets at: ApalachGhostTour.com
URL:https://www.floridasforgottencoast.com/event/apalach-ghost-tour-4/2024-10-11/
LOCATION:Apalachicola\, Florida\, Apalachicola\, 32320
ATTACH;FMTTYPE=image/jpeg:https://www.floridasforgottencoast.com/wp-content/uploads/2024/08/GhostTourChamberWebsite-copy-1.jpg
ORGANIZER;CN="Apalach Ghost Tour":MAILTO:boo@apalachghosttour.com
END:VEVENT
BEGIN:VEVENT
DTSTART;TZID=America/New_York:20241009T200000
DTEND;TZID=America/New_York:20241009T213000
DTSTAMP:20260421T092642
CREATED:20240902T164544Z
LAST-MODIFIED:20240902T164544Z
UID:10002987-1728504000-1728509400@www.floridasforgottencoast.com
SUMMARY:Apalach Ghost Tour
DESCRIPTION:Join us for local ghost stories\, area legends\, and tales of hauntings in downtown Apalachicola while using ghost-hunting equipment to seek out any lingering spirits. Select tour goers and volunteers will get to use EMF detectors\, and other ghost-hunting equipment at select locations on the tour. Bring your positive energy and let’s try to say “hello” to the ghosts of Apalachicola. The tour will begin in front of the Chamber of Commerce located at 17 Avenue E next to the Dixie Theatre. This tour ranges in length from an hour and a half to an hour and 45 minutes. Tickets at: ApalachGhostTour.com
URL:https://www.floridasforgottencoast.com/event/apalach-ghost-tour-4/2024-10-09/
LOCATION:Apalachicola\, Florida\, Apalachicola\, 32320
ATTACH;FMTTYPE=image/jpeg:https://www.floridasforgottencoast.com/wp-content/uploads/2024/08/GhostTourChamberWebsite-copy-1.jpg
ORGANIZER;CN="Apalach Ghost Tour":MAILTO:boo@apalachghosttour.com
END:VEVENT
BEGIN:VEVENT
DTSTART;TZID=America/New_York:20241007T200000
DTEND;TZID=America/New_York:20241007T213000
DTSTAMP:20260421T092642
CREATED:20240902T164544Z
LAST-MODIFIED:20240902T164544Z
UID:10002986-1728331200-1728336600@www.floridasforgottencoast.com
SUMMARY:Apalach Ghost Tour
DESCRIPTION:Join us for local ghost stories\, area legends\, and tales of hauntings in downtown Apalachicola while using ghost-hunting equipment to seek out any lingering spirits. Select tour goers and volunteers will get to use EMF detectors\, and other ghost-hunting equipment at select locations on the tour. Bring your positive energy and let’s try to say “hello” to the ghosts of Apalachicola. The tour will begin in front of the Chamber of Commerce located at 17 Avenue E next to the Dixie Theatre. This tour ranges in length from an hour and a half to an hour and 45 minutes. Tickets at: ApalachGhostTour.com
URL:https://www.floridasforgottencoast.com/event/apalach-ghost-tour-4/2024-10-07/
LOCATION:Apalachicola\, Florida\, Apalachicola\, 32320
ATTACH;FMTTYPE=image/jpeg:https://www.floridasforgottencoast.com/wp-content/uploads/2024/08/GhostTourChamberWebsite-copy-1.jpg
ORGANIZER;CN="Apalach Ghost Tour":MAILTO:boo@apalachghosttour.com
END:VEVENT
BEGIN:VEVENT
DTSTART;TZID=America/New_York:20241005T200000
DTEND;TZID=America/New_York:20241005T213000
DTSTAMP:20260421T092642
CREATED:20240902T164636Z
LAST-MODIFIED:20240902T164636Z
UID:10003151-1728158400-1728163800@www.floridasforgottencoast.com
SUMMARY:Apalach Ghost Tour
DESCRIPTION:Join us for local ghost stories\, area legends\, and tales of hauntings in downtown Apalachicola while using ghost-hunting equipment to seek out any lingering spirits. Select tour goers and volunteers will get to use EMF detectors\, and other ghost-hunting equipment at select locations on the tour. Bring your positive energy and let’s try to say “hello” to the ghosts of Apalachicola. The tour will begin in front of the Chamber of Commerce located at 17 Avenue E next to the Dixie Theatre. This tour ranges in length from an hour and a half to an hour and 45 minutes. Tickets at: ApalachGhostTour.com
URL:https://www.floridasforgottencoast.com/event/apalach-ghost-tour-5/
LOCATION:Apalachicola\, Florida\, Apalachicola\, 32320
ATTACH;FMTTYPE=image/jpeg:https://www.floridasforgottencoast.com/wp-content/uploads/2024/08/GhostTourChamberWebsite-copy.jpg
ORGANIZER;CN="Apalach Ghost Tour":MAILTO:boo@apalachghosttour.com
END:VEVENT
BEGIN:VEVENT
DTSTART;TZID=America/New_York:20241004T200000
DTEND;TZID=America/New_York:20241004T213000
DTSTAMP:20260421T092642
CREATED:20240902T164544Z
LAST-MODIFIED:20240902T164544Z
UID:10002985-1728072000-1728077400@www.floridasforgottencoast.com
SUMMARY:Apalach Ghost Tour
DESCRIPTION:Join us for local ghost stories\, area legends\, and tales of hauntings in downtown Apalachicola while using ghost-hunting equipment to seek out any lingering spirits. Select tour goers and volunteers will get to use EMF detectors\, and other ghost-hunting equipment at select locations on the tour. Bring your positive energy and let’s try to say “hello” to the ghosts of Apalachicola. The tour will begin in front of the Chamber of Commerce located at 17 Avenue E next to the Dixie Theatre. This tour ranges in length from an hour and a half to an hour and 45 minutes. Tickets at: ApalachGhostTour.com
URL:https://www.floridasforgottencoast.com/event/apalach-ghost-tour-4/2024-10-04/
LOCATION:Apalachicola\, Florida\, Apalachicola\, 32320
ATTACH;FMTTYPE=image/jpeg:https://www.floridasforgottencoast.com/wp-content/uploads/2024/08/GhostTourChamberWebsite-copy-1.jpg
ORGANIZER;CN="Apalach Ghost Tour":MAILTO:boo@apalachghosttour.com
END:VEVENT
BEGIN:VEVENT
DTSTART;TZID=America/New_York:20241002T200000
DTEND;TZID=America/New_York:20241002T213000
DTSTAMP:20260421T092642
CREATED:20240902T164544Z
LAST-MODIFIED:20240902T164544Z
UID:10002984-1727899200-1727904600@www.floridasforgottencoast.com
SUMMARY:Apalach Ghost Tour
DESCRIPTION:Join us for local ghost stories\, area legends\, and tales of hauntings in downtown Apalachicola while using ghost-hunting equipment to seek out any lingering spirits. Select tour goers and volunteers will get to use EMF detectors\, and other ghost-hunting equipment at select locations on the tour. Bring your positive energy and let’s try to say “hello” to the ghosts of Apalachicola. The tour will begin in front of the Chamber of Commerce located at 17 Avenue E next to the Dixie Theatre. This tour ranges in length from an hour and a half to an hour and 45 minutes. Tickets at: ApalachGhostTour.com
URL:https://www.floridasforgottencoast.com/event/apalach-ghost-tour-4/2024-10-02/
LOCATION:Apalachicola\, Florida\, Apalachicola\, 32320
ATTACH;FMTTYPE=image/jpeg:https://www.floridasforgottencoast.com/wp-content/uploads/2024/08/GhostTourChamberWebsite-copy-1.jpg
ORGANIZER;CN="Apalach Ghost Tour":MAILTO:boo@apalachghosttour.com
END:VEVENT
BEGIN:VEVENT
DTSTART;TZID=America/New_York:20240928T200000
DTEND;TZID=America/New_York:20240928T220000
DTSTAMP:20260421T092642
CREATED:20240902T163848Z
LAST-MODIFIED:20240902T163926Z
UID:10002870-1727553600-1727560800@www.floridasforgottencoast.com
SUMMARY:Boos & Booze Haunted Pub Crawl
DESCRIPTION:Join us on our haunted pub crawl in downtown Apalachicola. Your ghostly guide(s) will tell you local ghost stories and haunted history while making stops at local bars and pubs along the way. Those who attend this tour will get a FREE “Boos and Booze” Haunted Pub Crawl koozie at the start of the tour for your beverage. This tour is for ages 21+ only. The tour will begin in front of the Chamber of Commerce located at 17 Avenue E next to the Dixie Theatre. This tour encompasses a mile walk and may last up to 2-hours. Ticket at: ApalachGhostTour.com
URL:https://www.floridasforgottencoast.com/event/boos-booze-haunted-pub-crawl/2024-09-28/
LOCATION:Apalachicola\, Florida\, Apalachicola\, 32320
ATTACH;FMTTYPE=image/jpeg:https://www.floridasforgottencoast.com/wp-content/uploads/2024/08/PubTourPHPAd-copy.jpg
ORGANIZER;CN="Apalach Ghost Tour":MAILTO:boo@apalachghosttour.com
END:VEVENT
BEGIN:VEVENT
DTSTART;TZID=America/New_York:20240921T200000
DTEND;TZID=America/New_York:20240921T220000
DTSTAMP:20260421T092642
CREATED:20240902T163848Z
LAST-MODIFIED:20240902T163926Z
UID:10002869-1726948800-1726956000@www.floridasforgottencoast.com
SUMMARY:Boos & Booze Haunted Pub Crawl
DESCRIPTION:Join us on our haunted pub crawl in downtown Apalachicola. Your ghostly guide(s) will tell you local ghost stories and haunted history while making stops at local bars and pubs along the way. Those who attend this tour will get a FREE “Boos and Booze” Haunted Pub Crawl koozie at the start of the tour for your beverage. This tour is for ages 21+ only. The tour will begin in front of the Chamber of Commerce located at 17 Avenue E next to the Dixie Theatre. This tour encompasses a mile walk and may last up to 2-hours. Ticket at: ApalachGhostTour.com
URL:https://www.floridasforgottencoast.com/event/boos-booze-haunted-pub-crawl/2024-09-21/
LOCATION:Apalachicola\, Florida\, Apalachicola\, 32320
ATTACH;FMTTYPE=image/jpeg:https://www.floridasforgottencoast.com/wp-content/uploads/2024/08/PubTourPHPAd-copy.jpg
ORGANIZER;CN="Apalach Ghost Tour":MAILTO:boo@apalachghosttour.com
END:VEVENT
BEGIN:VEVENT
DTSTART;TZID=America/New_York:20240914T200000
DTEND;TZID=America/New_York:20240914T220000
DTSTAMP:20260421T092642
CREATED:20240902T163848Z
LAST-MODIFIED:20240902T163926Z
UID:10002868-1726344000-1726351200@www.floridasforgottencoast.com
SUMMARY:Boos & Booze Haunted Pub Crawl
DESCRIPTION:Join us on our haunted pub crawl in downtown Apalachicola. Your ghostly guide(s) will tell you local ghost stories and haunted history while making stops at local bars and pubs along the way. Those who attend this tour will get a FREE “Boos and Booze” Haunted Pub Crawl koozie at the start of the tour for your beverage. This tour is for ages 21+ only. The tour will begin in front of the Chamber of Commerce located at 17 Avenue E next to the Dixie Theatre. This tour encompasses a mile walk and may last up to 2-hours. Ticket at: ApalachGhostTour.com
URL:https://www.floridasforgottencoast.com/event/boos-booze-haunted-pub-crawl/2024-09-14/
LOCATION:Apalachicola\, Florida\, Apalachicola\, 32320
ATTACH;FMTTYPE=image/jpeg:https://www.floridasforgottencoast.com/wp-content/uploads/2024/08/PubTourPHPAd-copy.jpg
ORGANIZER;CN="Apalach Ghost Tour":MAILTO:boo@apalachghosttour.com
END:VEVENT
BEGIN:VEVENT
DTSTART;TZID=America/New_York:20220703T183000
DTEND;TZID=America/New_York:20220703T193000
DTSTAMP:20260421T092642
CREATED:20220610T162407Z
LAST-MODIFIED:20220610T163057Z
UID:10000888-1656873000-1656876600@www.floridasforgottencoast.com
SUMMARY:Red\, White\, and Blue Parade
DESCRIPTION:The 18th annual Red\, White\, and Blue parade sponsored by Franklin’s Promise Coalition and the Conservation Corps of the Forgotten Coast begins at 6:30 pm at Lafayette Park. Streamers\, decorations\, and placards for participants to display the name of a veteran they would like to honor are provided. The parade ends at Riverfront Park\, just in time for Apalachicola Main Street’s Independence Eve Celebration.
URL:https://www.floridasforgottencoast.com/event/red-white-and-blue-parade/
LOCATION:Apalachicola\, Florida\, Apalachicola\, 32320
ATTACH;FMTTYPE=image/jpeg:https://www.floridasforgottencoast.com/wp-content/uploads/2022/06/apalach-parade.jpg
END:VEVENT
END:VCALENDAR