BEGIN:VCALENDAR
VERSION:2.0
PRODID:-//Florida&#039;s Forgotten Coast - ECPv6.15.20//NONSGML v1.0//EN
CALSCALE:GREGORIAN
METHOD:PUBLISH
X-WR-CALNAME:Florida&#039;s Forgotten Coast
X-ORIGINAL-URL:https://www.floridasforgottencoast.com
X-WR-CALDESC:Events for Florida&#039;s Forgotten Coast
REFRESH-INTERVAL;VALUE=DURATION:PT1H
X-Robots-Tag:noindex
X-PUBLISHED-TTL:PT1H
BEGIN:VTIMEZONE
TZID:America/New_York
BEGIN:DAYLIGHT
TZOFFSETFROM:-0500
TZOFFSETTO:-0400
TZNAME:EDT
DTSTART:20220313T070000
END:DAYLIGHT
BEGIN:STANDARD
TZOFFSETFROM:-0400
TZOFFSETTO:-0500
TZNAME:EST
DTSTART:20221106T060000
END:STANDARD
BEGIN:DAYLIGHT
TZOFFSETFROM:-0500
TZOFFSETTO:-0400
TZNAME:EDT
DTSTART:20230312T070000
END:DAYLIGHT
BEGIN:STANDARD
TZOFFSETFROM:-0400
TZOFFSETTO:-0500
TZNAME:EST
DTSTART:20231105T060000
END:STANDARD
BEGIN:DAYLIGHT
TZOFFSETFROM:-0500
TZOFFSETTO:-0400
TZNAME:EDT
DTSTART:20240310T070000
END:DAYLIGHT
BEGIN:STANDARD
TZOFFSETFROM:-0400
TZOFFSETTO:-0500
TZNAME:EST
DTSTART:20241103T060000
END:STANDARD
BEGIN:DAYLIGHT
TZOFFSETFROM:-0500
TZOFFSETTO:-0400
TZNAME:EDT
DTSTART:20250309T070000
END:DAYLIGHT
BEGIN:STANDARD
TZOFFSETFROM:-0400
TZOFFSETTO:-0500
TZNAME:EST
DTSTART:20251102T060000
END:STANDARD
BEGIN:DAYLIGHT
TZOFFSETFROM:-0500
TZOFFSETTO:-0400
TZNAME:EDT
DTSTART:20260308T070000
END:DAYLIGHT
BEGIN:STANDARD
TZOFFSETFROM:-0400
TZOFFSETTO:-0500
TZNAME:EST
DTSTART:20261101T060000
END:STANDARD
BEGIN:DAYLIGHT
TZOFFSETFROM:-0500
TZOFFSETTO:-0400
TZNAME:EDT
DTSTART:20270314T070000
END:DAYLIGHT
BEGIN:STANDARD
TZOFFSETFROM:-0400
TZOFFSETTO:-0500
TZNAME:EST
DTSTART:20271107T060000
END:STANDARD
END:VTIMEZONE
BEGIN:VEVENT
DTSTART;TZID=America/New_York:20260418T130000
DTEND;TZID=America/New_York:20260418T160000
DTSTAMP:20260420T012743
CREATED:20210903T175830Z
LAST-MODIFIED:20260226T162725Z
UID:10000802-1776517200-1776528000@www.floridasforgottencoast.com
SUMMARY:St. George Island Brewfest
DESCRIPTION:We have great plans\, and our amazing location (right by the beach in the parking area next to the lighthouse!) and a better-than-ever SGI Brewfest on tap. We’ve got some awesome new features for this year’s event so be there or be square!
URL:https://www.floridasforgottencoast.com/event/annual-st-george-island-brewfest/
LOCATION:St. George Island Lighthouse\, 2B East Gulf Beach Drive\, Eastpoint\, 32328\, United States
ATTACH;FMTTYPE=image/jpeg:https://www.floridasforgottencoast.com/wp-content/uploads/2023/02/2022-Brewfest-drone-shot-with-lighthouse-e1677274936700.jpg
GEO:29.6631342;-84.8627228
X-APPLE-STRUCTURED-LOCATION;VALUE=URI;X-ADDRESS=St. George Island Lighthouse 2B East Gulf Beach Drive Eastpoint 32328 United States;X-APPLE-RADIUS=500;X-TITLE=2B East Gulf Beach Drive:geo:-84.8627228,29.6631342
END:VEVENT
BEGIN:VEVENT
DTSTART;TZID=America/New_York:20240420T130000
DTEND;TZID=America/New_York:20240420T160000
DTSTAMP:20260420T012743
CREATED:20240215T204517Z
LAST-MODIFIED:20240215T204518Z
UID:10002611-1713618000-1713628800@www.floridasforgottencoast.com
SUMMARY:7th Annual SGI Brewfest
DESCRIPTION:The SGI Brewfest is a one-day beer tasting festival to promote the appreciation of craft beer. All proceeds benefit the Franklin County Humane Society. 2024 will be our 7th year. This year’s event features an even broader selection of amazing craft beers\, friendly faces and furry friends. This is a very limited engagement and tickets must be purchased in advance. Tickets will NOT be sold at the door. This event will SELL OUT\, so buy your tickets early! The SGI Brewfest will be held on Saturday\, April 20\, 2024 from 1:00-4:00pm (Eastern) in the public parking area adjacent to SGI Lighthouse Park. VIP and early admission ticket holders will be granted access at noon. For more information visit www.sgibrewfest.com. Beers\, beaches\, and bettering the lives of animals. What’s not to love?\nAll Brewfest attendees must be 21+ including designated drivers. Children and adults under 21 years of age are not permitted at this event. This event will be held rain or shine – NO REFUNDS.
URL:https://www.floridasforgottencoast.com/event/7th-annual-sgi-brewfest/
LOCATION:Saint George Island Lighthouse\, 2-B East Gulf Beach Drive\, Saint George Island\, 32328
ATTACH;FMTTYPE=image/jpeg:https://www.floridasforgottencoast.com/wp-content/uploads/2023/02/2022-Brewfest-drone-shot-with-lighthouse-e1677274936700.jpg
END:VEVENT
BEGIN:VEVENT
DTSTART;TZID=America/New_York:20230422T130000
DTEND;TZID=America/New_York:20230422T160000
DTSTAMP:20260420T012743
CREATED:20230224T214238Z
LAST-MODIFIED:20230224T214238Z
UID:10001355-1682168400-1682179200@www.floridasforgottencoast.com
SUMMARY:6th Annual SGI Brewfest
DESCRIPTION:The SGI Brewfest is a one-day beer tasting festival to promote the appreciation of craft beer. All proceeds benefit the Franklin County Humane Society. 2023 will be our 6th year. This year’s event features an even broader selection of amazing craft beers\, friendly faces and furry friends. We’ve got some really cool new features planned  for 2023 so be there or be square! This is a very limited engagement and tickets must be purchased in advance. Tickets will NOT be sold at the door. This event will SELL OUT\, so buy your tickets early! The SGI Brewfest will be held on Saturday\, April 22\, 2023 from 1:00-4:00pm (Eastern) in our new location at the public parking area adjacent to SGI Lighthouse Park. VIP and early admission ticket holders will be granted access at noon. Beers\, beaches\, and bettering the lives of animals. What’s not to love?\nAll Brewfest attendees must be 21+ including designated drivers. Children and adults under 21 years of age are not permitted at this event. This event will be held rain or shine – NO REFUNDS.
URL:https://www.floridasforgottencoast.com/event/6th-annual-sgi-brewfest/
LOCATION:Saint George Island Lighthouse\, 2-B East Gulf Beach Drive\, Saint George Island\, 32328
ATTACH;FMTTYPE=image/jpeg:https://www.floridasforgottencoast.com/wp-content/uploads/2023/02/2022-Brewfest-drone-shot-with-lighthouse-e1677274936700.jpg
END:VEVENT
END:VCALENDAR