BEGIN:VCALENDAR
VERSION:2.0
PRODID:-//Florida&#039;s Forgotten Coast - ECPv6.15.20//NONSGML v1.0//EN
CALSCALE:GREGORIAN
METHOD:PUBLISH
X-WR-CALNAME:Florida&#039;s Forgotten Coast
X-ORIGINAL-URL:https://www.floridasforgottencoast.com
X-WR-CALDESC:Events for Florida&#039;s Forgotten Coast
REFRESH-INTERVAL;VALUE=DURATION:PT1H
X-Robots-Tag:noindex
X-PUBLISHED-TTL:PT1H
BEGIN:VTIMEZONE
TZID:America/New_York
BEGIN:DAYLIGHT
TZOFFSETFROM:-0500
TZOFFSETTO:-0400
TZNAME:EDT
DTSTART:20240310T070000
END:DAYLIGHT
BEGIN:STANDARD
TZOFFSETFROM:-0400
TZOFFSETTO:-0500
TZNAME:EST
DTSTART:20241103T060000
END:STANDARD
BEGIN:DAYLIGHT
TZOFFSETFROM:-0500
TZOFFSETTO:-0400
TZNAME:EDT
DTSTART:20250309T070000
END:DAYLIGHT
BEGIN:STANDARD
TZOFFSETFROM:-0400
TZOFFSETTO:-0500
TZNAME:EST
DTSTART:20251102T060000
END:STANDARD
BEGIN:DAYLIGHT
TZOFFSETFROM:-0500
TZOFFSETTO:-0400
TZNAME:EDT
DTSTART:20260308T070000
END:DAYLIGHT
BEGIN:STANDARD
TZOFFSETFROM:-0400
TZOFFSETTO:-0500
TZNAME:EST
DTSTART:20261101T060000
END:STANDARD
END:VTIMEZONE
BEGIN:VEVENT
DTSTART;VALUE=DATE:20250701
DTEND;VALUE=DATE:20250702
DTSTAMP:20260422T131145
CREATED:20220519T133817Z
LAST-MODIFIED:20250528T132800Z
UID:10000880-1751328000-1751414399@www.floridasforgottencoast.com
SUMMARY:Eastpoint Freedom Festival
DESCRIPTION:Join us for the annual Eastpoint Freedom Festival along Highway 98.  At dark thirty\, there will be a fireworks display over the bay.
URL:https://www.floridasforgottencoast.com/event/freedom-festival/
LOCATION:Eastpoint\, Eastpoint\, FL\, 32328\, United States
ATTACH;FMTTYPE=image/jpeg:https://www.floridasforgottencoast.com/wp-content/uploads/2022/05/Eastpoint-Freedom-Festival@2x.jpg
ORGANIZER;CN="Eastpoint Civic Association":MAILTO:info@eastpointfl.org
END:VEVENT
END:VCALENDAR