BEGIN:VCALENDAR
VERSION:2.0
PRODID:-//Florida&#039;s Forgotten Coast - ECPv6.15.20//NONSGML v1.0//EN
CALSCALE:GREGORIAN
METHOD:PUBLISH
X-WR-CALNAME:Florida&#039;s Forgotten Coast
X-ORIGINAL-URL:https://www.floridasforgottencoast.com
X-WR-CALDESC:Events for Florida&#039;s Forgotten Coast
REFRESH-INTERVAL;VALUE=DURATION:PT1H
X-Robots-Tag:noindex
X-PUBLISHED-TTL:PT1H
BEGIN:VTIMEZONE
TZID:America/New_York
BEGIN:DAYLIGHT
TZOFFSETFROM:-0500
TZOFFSETTO:-0400
TZNAME:EDT
DTSTART:20220313T070000
END:DAYLIGHT
BEGIN:STANDARD
TZOFFSETFROM:-0400
TZOFFSETTO:-0500
TZNAME:EST
DTSTART:20221106T060000
END:STANDARD
BEGIN:DAYLIGHT
TZOFFSETFROM:-0500
TZOFFSETTO:-0400
TZNAME:EDT
DTSTART:20230312T070000
END:DAYLIGHT
BEGIN:STANDARD
TZOFFSETFROM:-0400
TZOFFSETTO:-0500
TZNAME:EST
DTSTART:20231105T060000
END:STANDARD
BEGIN:DAYLIGHT
TZOFFSETFROM:-0500
TZOFFSETTO:-0400
TZNAME:EDT
DTSTART:20240310T070000
END:DAYLIGHT
BEGIN:STANDARD
TZOFFSETFROM:-0400
TZOFFSETTO:-0500
TZNAME:EST
DTSTART:20241103T060000
END:STANDARD
END:VTIMEZONE
BEGIN:VEVENT
DTSTART;TZID=America/New_York:20230201T090000
DTEND;TZID=America/New_York:20230201T130000
DTSTAMP:20260421T132013
CREATED:20221215T214232Z
LAST-MODIFIED:20230818T134638Z
UID:10001270-1675242000-1675256400@www.floridasforgottencoast.com
SUMMARY:Downtown Apalachicola Market
DESCRIPTION:The market offers a charming outdoor shopping experience every Wednesday\, in downtown Apalachicola for all who appreciate delicious food. You’ll find fresh vegetables and micro greens\, farm-fresh eggs\, grass-fed beef\, artisanal food\, homemade kombucha\, Bayside Coffee Co.\, gourmet foods\, condiments\, and more! Come support local artisans as well as indulge in delicious\, homemade foods! Interested in becoming a vendor? Call (954) 593-8616.
URL:https://www.floridasforgottencoast.com/event/downtown-apalachicola-market/2023-02-01/
LOCATION:Bee Inspired Too\, 56 Commerce Street\, Apalachicola\, FL\, 32320\, United States
ATTACH;FMTTYPE=image/jpeg:https://www.floridasforgottencoast.com/wp-content/uploads/2022/12/Be-inspired-too-farmers-market.jpg
END:VEVENT
BEGIN:VEVENT
DTSTART;TZID=America/New_York:20230125T090000
DTEND;TZID=America/New_York:20230125T130000
DTSTAMP:20260421T132013
CREATED:20221215T214232Z
LAST-MODIFIED:20230818T134638Z
UID:10001269-1674637200-1674651600@www.floridasforgottencoast.com
SUMMARY:Downtown Apalachicola Market
DESCRIPTION:The market offers a charming outdoor shopping experience every Wednesday\, in downtown Apalachicola for all who appreciate delicious food. You’ll find fresh vegetables and micro greens\, farm-fresh eggs\, grass-fed beef\, artisanal food\, homemade kombucha\, Bayside Coffee Co.\, gourmet foods\, condiments\, and more! Come support local artisans as well as indulge in delicious\, homemade foods! Interested in becoming a vendor? Call (954) 593-8616.
URL:https://www.floridasforgottencoast.com/event/downtown-apalachicola-market/2023-01-25/
LOCATION:Bee Inspired Too\, 56 Commerce Street\, Apalachicola\, FL\, 32320\, United States
ATTACH;FMTTYPE=image/jpeg:https://www.floridasforgottencoast.com/wp-content/uploads/2022/12/Be-inspired-too-farmers-market.jpg
END:VEVENT
BEGIN:VEVENT
DTSTART;TZID=America/New_York:20230118T090000
DTEND;TZID=America/New_York:20230118T130000
DTSTAMP:20260421T132013
CREATED:20221215T214232Z
LAST-MODIFIED:20230818T134638Z
UID:10001268-1674032400-1674046800@www.floridasforgottencoast.com
SUMMARY:Downtown Apalachicola Market
DESCRIPTION:The market offers a charming outdoor shopping experience every Wednesday\, in downtown Apalachicola for all who appreciate delicious food. You’ll find fresh vegetables and micro greens\, farm-fresh eggs\, grass-fed beef\, artisanal food\, homemade kombucha\, Bayside Coffee Co.\, gourmet foods\, condiments\, and more! Come support local artisans as well as indulge in delicious\, homemade foods! Interested in becoming a vendor? Call (954) 593-8616.
URL:https://www.floridasforgottencoast.com/event/downtown-apalachicola-market/2023-01-18/
LOCATION:Bee Inspired Too\, 56 Commerce Street\, Apalachicola\, FL\, 32320\, United States
ATTACH;FMTTYPE=image/jpeg:https://www.floridasforgottencoast.com/wp-content/uploads/2022/12/Be-inspired-too-farmers-market.jpg
END:VEVENT
BEGIN:VEVENT
DTSTART;TZID=America/New_York:20230111T090000
DTEND;TZID=America/New_York:20230111T130000
DTSTAMP:20260421T132013
CREATED:20221215T214232Z
LAST-MODIFIED:20230818T134638Z
UID:10001267-1673427600-1673442000@www.floridasforgottencoast.com
SUMMARY:Downtown Apalachicola Market
DESCRIPTION:The market offers a charming outdoor shopping experience every Wednesday\, in downtown Apalachicola for all who appreciate delicious food. You’ll find fresh vegetables and micro greens\, farm-fresh eggs\, grass-fed beef\, artisanal food\, homemade kombucha\, Bayside Coffee Co.\, gourmet foods\, condiments\, and more! Come support local artisans as well as indulge in delicious\, homemade foods! Interested in becoming a vendor? Call (954) 593-8616.
URL:https://www.floridasforgottencoast.com/event/downtown-apalachicola-market/2023-01-11/
LOCATION:Bee Inspired Too\, 56 Commerce Street\, Apalachicola\, FL\, 32320\, United States
ATTACH;FMTTYPE=image/jpeg:https://www.floridasforgottencoast.com/wp-content/uploads/2022/12/Be-inspired-too-farmers-market.jpg
END:VEVENT
BEGIN:VEVENT
DTSTART;TZID=America/New_York:20230104T090000
DTEND;TZID=America/New_York:20230104T130000
DTSTAMP:20260421T132013
CREATED:20221215T214232Z
LAST-MODIFIED:20230818T134638Z
UID:10001266-1672822800-1672837200@www.floridasforgottencoast.com
SUMMARY:Downtown Apalachicola Market
DESCRIPTION:The market offers a charming outdoor shopping experience every Wednesday\, in downtown Apalachicola for all who appreciate delicious food. You’ll find fresh vegetables and micro greens\, farm-fresh eggs\, grass-fed beef\, artisanal food\, homemade kombucha\, Bayside Coffee Co.\, gourmet foods\, condiments\, and more! Come support local artisans as well as indulge in delicious\, homemade foods! Interested in becoming a vendor? Call (954) 593-8616.
URL:https://www.floridasforgottencoast.com/event/downtown-apalachicola-market/2023-01-04/
LOCATION:Bee Inspired Too\, 56 Commerce Street\, Apalachicola\, FL\, 32320\, United States
ATTACH;FMTTYPE=image/jpeg:https://www.floridasforgottencoast.com/wp-content/uploads/2022/12/Be-inspired-too-farmers-market.jpg
END:VEVENT
END:VCALENDAR