BEGIN:VCALENDAR
VERSION:2.0
PRODID:-//Florida&#039;s Forgotten Coast - ECPv6.15.20//NONSGML v1.0//EN
CALSCALE:GREGORIAN
METHOD:PUBLISH
X-ORIGINAL-URL:https://www.floridasforgottencoast.com
X-WR-CALDESC:Events for Florida&#039;s Forgotten Coast
REFRESH-INTERVAL;VALUE=DURATION:PT1H
X-Robots-Tag:noindex
X-PUBLISHED-TTL:PT1H
BEGIN:VTIMEZONE
TZID:America/New_York
BEGIN:DAYLIGHT
TZOFFSETFROM:-0500
TZOFFSETTO:-0400
TZNAME:EDT
DTSTART:20280312T070000
END:DAYLIGHT
BEGIN:STANDARD
TZOFFSETFROM:-0400
TZOFFSETTO:-0500
TZNAME:EST
DTSTART:20281105T060000
END:STANDARD
BEGIN:DAYLIGHT
TZOFFSETFROM:-0500
TZOFFSETTO:-0400
TZNAME:EDT
DTSTART:20290311T070000
END:DAYLIGHT
BEGIN:STANDARD
TZOFFSETFROM:-0400
TZOFFSETTO:-0500
TZNAME:EST
DTSTART:20291104T060000
END:STANDARD
BEGIN:DAYLIGHT
TZOFFSETFROM:-0500
TZOFFSETTO:-0400
TZNAME:EDT
DTSTART:20300310T070000
END:DAYLIGHT
BEGIN:STANDARD
TZOFFSETFROM:-0400
TZOFFSETTO:-0500
TZNAME:EST
DTSTART:20301103T060000
END:STANDARD
BEGIN:DAYLIGHT
TZOFFSETFROM:-0500
TZOFFSETTO:-0400
TZNAME:EDT
DTSTART:20310309T070000
END:DAYLIGHT
BEGIN:STANDARD
TZOFFSETFROM:-0400
TZOFFSETTO:-0500
TZNAME:EST
DTSTART:20311102T060000
END:STANDARD
END:VTIMEZONE
BEGIN:VEVENT
DTSTART;TZID=America/New_York:20290825T090000
DTEND;TZID=America/New_York:20290825T130000
DTSTAMP:20260419T232930
CREATED:20240821T182327Z
LAST-MODIFIED:20260325T205213Z
UID:10005733-1882342800-1882357200@www.floridasforgottencoast.com
SUMMARY:Apalachicola Farmers Market
DESCRIPTION:Located at 133 Avenue E\, across from CVS\, the Apalachicola Farmers Market offers local seafood\, produce\, honey\, homemade breads\, pies\, and other regional specialties every 2nd and 4th Saturday from 9 AM until 1 PM in Apalachicola.
URL:https://www.floridasforgottencoast.com/event/apalachicola-farmers-market-3/2029-08-25/
LOCATION:133 Avenue E\, 133 Avenue E\, Apalachicola\, United States
ATTACH;FMTTYPE=image/jpeg:https://www.floridasforgottencoast.com/wp-content/uploads/2021/06/Apalachicola-Farmers-Market.jpeg
ORGANIZER;CN="Apalachicola Farmers Market":MAILTO:apalachicolafarmersmarket@gmail.com
END:VEVENT
BEGIN:VEVENT
DTSTART;TZID=America/New_York:20290908T090000
DTEND;TZID=America/New_York:20290908T130000
DTSTAMP:20260419T232930
CREATED:20260325T201724Z
LAST-MODIFIED:20260325T201829Z
UID:10005714-1883552400-1883566800@www.floridasforgottencoast.com
SUMMARY:Apalachicola Farmers Market
DESCRIPTION:Located at 133 Avenue E\, across from CVS\, the Apalachicola Farmers Market offers local seafood\, produce\, honey\, homemade breads\, pies\, and other regional specialties every 2nd and 4th Saturday from 9 AM until 1 PM in Apalachicola.
URL:https://www.floridasforgottencoast.com/event/apalachicola-farmers-market-2-2-2/2029-09-08/
LOCATION:133 Avenue E\, 133 Avenue E\, Apalachicola\, United States
ATTACH;FMTTYPE=image/jpeg:https://www.floridasforgottencoast.com/wp-content/uploads/2021/06/Apalachicola-Farmers-Market.jpeg
ORGANIZER;CN="Apalachicola Farmers Market":MAILTO:apalachicolafarmersmarket@gmail.com
END:VEVENT
BEGIN:VEVENT
DTSTART;TZID=America/New_York:20290922T090000
DTEND;TZID=America/New_York:20290922T130000
DTSTAMP:20260419T232930
CREATED:20240821T182327Z
LAST-MODIFIED:20260325T205213Z
UID:10005734-1884762000-1884776400@www.floridasforgottencoast.com
SUMMARY:Apalachicola Farmers Market
DESCRIPTION:Located at 133 Avenue E\, across from CVS\, the Apalachicola Farmers Market offers local seafood\, produce\, honey\, homemade breads\, pies\, and other regional specialties every 2nd and 4th Saturday from 9 AM until 1 PM in Apalachicola.
URL:https://www.floridasforgottencoast.com/event/apalachicola-farmers-market-3/2029-09-22/
LOCATION:133 Avenue E\, 133 Avenue E\, Apalachicola\, United States
ATTACH;FMTTYPE=image/jpeg:https://www.floridasforgottencoast.com/wp-content/uploads/2021/06/Apalachicola-Farmers-Market.jpeg
ORGANIZER;CN="Apalachicola Farmers Market":MAILTO:apalachicolafarmersmarket@gmail.com
END:VEVENT
BEGIN:VEVENT
DTSTART;TZID=America/New_York:20291013T090000
DTEND;TZID=America/New_York:20291013T130000
DTSTAMP:20260419T232930
CREATED:20260325T201724Z
LAST-MODIFIED:20260325T201829Z
UID:10005715-1886576400-1886590800@www.floridasforgottencoast.com
SUMMARY:Apalachicola Farmers Market
DESCRIPTION:Located at 133 Avenue E\, across from CVS\, the Apalachicola Farmers Market offers local seafood\, produce\, honey\, homemade breads\, pies\, and other regional specialties every 2nd and 4th Saturday from 9 AM until 1 PM in Apalachicola.
URL:https://www.floridasforgottencoast.com/event/apalachicola-farmers-market-2-2-2/2029-10-13/
LOCATION:133 Avenue E\, 133 Avenue E\, Apalachicola\, United States
ATTACH;FMTTYPE=image/jpeg:https://www.floridasforgottencoast.com/wp-content/uploads/2021/06/Apalachicola-Farmers-Market.jpeg
ORGANIZER;CN="Apalachicola Farmers Market":MAILTO:apalachicolafarmersmarket@gmail.com
END:VEVENT
BEGIN:VEVENT
DTSTART;TZID=America/New_York:20291027T090000
DTEND;TZID=America/New_York:20291027T130000
DTSTAMP:20260419T232930
CREATED:20240821T182327Z
LAST-MODIFIED:20260325T205213Z
UID:10005735-1887786000-1887800400@www.floridasforgottencoast.com
SUMMARY:Apalachicola Farmers Market
DESCRIPTION:Located at 133 Avenue E\, across from CVS\, the Apalachicola Farmers Market offers local seafood\, produce\, honey\, homemade breads\, pies\, and other regional specialties every 2nd and 4th Saturday from 9 AM until 1 PM in Apalachicola.
URL:https://www.floridasforgottencoast.com/event/apalachicola-farmers-market-3/2029-10-27/
LOCATION:133 Avenue E\, 133 Avenue E\, Apalachicola\, United States
ATTACH;FMTTYPE=image/jpeg:https://www.floridasforgottencoast.com/wp-content/uploads/2021/06/Apalachicola-Farmers-Market.jpeg
ORGANIZER;CN="Apalachicola Farmers Market":MAILTO:apalachicolafarmersmarket@gmail.com
END:VEVENT
BEGIN:VEVENT
DTSTART;TZID=America/New_York:20291110T090000
DTEND;TZID=America/New_York:20291110T130000
DTSTAMP:20260419T232930
CREATED:20260325T201724Z
LAST-MODIFIED:20260325T201829Z
UID:10005716-1888995600-1889010000@www.floridasforgottencoast.com
SUMMARY:Apalachicola Farmers Market
DESCRIPTION:Located at 133 Avenue E\, across from CVS\, the Apalachicola Farmers Market offers local seafood\, produce\, honey\, homemade breads\, pies\, and other regional specialties every 2nd and 4th Saturday from 9 AM until 1 PM in Apalachicola.
URL:https://www.floridasforgottencoast.com/event/apalachicola-farmers-market-2-2-2/2029-11-10/
LOCATION:133 Avenue E\, 133 Avenue E\, Apalachicola\, United States
ATTACH;FMTTYPE=image/jpeg:https://www.floridasforgottencoast.com/wp-content/uploads/2021/06/Apalachicola-Farmers-Market.jpeg
ORGANIZER;CN="Apalachicola Farmers Market":MAILTO:apalachicolafarmersmarket@gmail.com
END:VEVENT
BEGIN:VEVENT
DTSTART;TZID=America/New_York:20291124T090000
DTEND;TZID=America/New_York:20291124T130000
DTSTAMP:20260419T232930
CREATED:20240821T182327Z
LAST-MODIFIED:20260325T205213Z
UID:10005736-1890205200-1890219600@www.floridasforgottencoast.com
SUMMARY:Apalachicola Farmers Market
DESCRIPTION:Located at 133 Avenue E\, across from CVS\, the Apalachicola Farmers Market offers local seafood\, produce\, honey\, homemade breads\, pies\, and other regional specialties every 2nd and 4th Saturday from 9 AM until 1 PM in Apalachicola.
URL:https://www.floridasforgottencoast.com/event/apalachicola-farmers-market-3/2029-11-24/
LOCATION:133 Avenue E\, 133 Avenue E\, Apalachicola\, United States
ATTACH;FMTTYPE=image/jpeg:https://www.floridasforgottencoast.com/wp-content/uploads/2021/06/Apalachicola-Farmers-Market.jpeg
ORGANIZER;CN="Apalachicola Farmers Market":MAILTO:apalachicolafarmersmarket@gmail.com
END:VEVENT
BEGIN:VEVENT
DTSTART;TZID=America/New_York:20291208T090000
DTEND;TZID=America/New_York:20291208T130000
DTSTAMP:20260419T232930
CREATED:20260325T201724Z
LAST-MODIFIED:20260325T201829Z
UID:10005717-1891414800-1891429200@www.floridasforgottencoast.com
SUMMARY:Apalachicola Farmers Market
DESCRIPTION:Located at 133 Avenue E\, across from CVS\, the Apalachicola Farmers Market offers local seafood\, produce\, honey\, homemade breads\, pies\, and other regional specialties every 2nd and 4th Saturday from 9 AM until 1 PM in Apalachicola.
URL:https://www.floridasforgottencoast.com/event/apalachicola-farmers-market-2-2-2/2029-12-08/
LOCATION:133 Avenue E\, 133 Avenue E\, Apalachicola\, United States
ATTACH;FMTTYPE=image/jpeg:https://www.floridasforgottencoast.com/wp-content/uploads/2021/06/Apalachicola-Farmers-Market.jpeg
ORGANIZER;CN="Apalachicola Farmers Market":MAILTO:apalachicolafarmersmarket@gmail.com
END:VEVENT
BEGIN:VEVENT
DTSTART;TZID=America/New_York:20291222T090000
DTEND;TZID=America/New_York:20291222T130000
DTSTAMP:20260419T232930
CREATED:20240821T182327Z
LAST-MODIFIED:20260325T205213Z
UID:10005737-1892624400-1892638800@www.floridasforgottencoast.com
SUMMARY:Apalachicola Farmers Market
DESCRIPTION:Located at 133 Avenue E\, across from CVS\, the Apalachicola Farmers Market offers local seafood\, produce\, honey\, homemade breads\, pies\, and other regional specialties every 2nd and 4th Saturday from 9 AM until 1 PM in Apalachicola.
URL:https://www.floridasforgottencoast.com/event/apalachicola-farmers-market-3/2029-12-22/
LOCATION:133 Avenue E\, 133 Avenue E\, Apalachicola\, United States
ATTACH;FMTTYPE=image/jpeg:https://www.floridasforgottencoast.com/wp-content/uploads/2021/06/Apalachicola-Farmers-Market.jpeg
ORGANIZER;CN="Apalachicola Farmers Market":MAILTO:apalachicolafarmersmarket@gmail.com
END:VEVENT
BEGIN:VEVENT
DTSTART;TZID=America/New_York:20300112T090000
DTEND;TZID=America/New_York:20300112T130000
DTSTAMP:20260419T232930
CREATED:20260325T201724Z
LAST-MODIFIED:20260325T201829Z
UID:10005718-1894438800-1894453200@www.floridasforgottencoast.com
SUMMARY:Apalachicola Farmers Market
DESCRIPTION:Located at 133 Avenue E\, across from CVS\, the Apalachicola Farmers Market offers local seafood\, produce\, honey\, homemade breads\, pies\, and other regional specialties every 2nd and 4th Saturday from 9 AM until 1 PM in Apalachicola.
URL:https://www.floridasforgottencoast.com/event/apalachicola-farmers-market-2-2-2/2030-01-12/
LOCATION:133 Avenue E\, 133 Avenue E\, Apalachicola\, United States
ATTACH;FMTTYPE=image/jpeg:https://www.floridasforgottencoast.com/wp-content/uploads/2021/06/Apalachicola-Farmers-Market.jpeg
ORGANIZER;CN="Apalachicola Farmers Market":MAILTO:apalachicolafarmersmarket@gmail.com
END:VEVENT
BEGIN:VEVENT
DTSTART;TZID=America/New_York:20300126T090000
DTEND;TZID=America/New_York:20300126T130000
DTSTAMP:20260419T232930
CREATED:20240821T182327Z
LAST-MODIFIED:20260325T205213Z
UID:10005738-1895648400-1895662800@www.floridasforgottencoast.com
SUMMARY:Apalachicola Farmers Market
DESCRIPTION:Located at 133 Avenue E\, across from CVS\, the Apalachicola Farmers Market offers local seafood\, produce\, honey\, homemade breads\, pies\, and other regional specialties every 2nd and 4th Saturday from 9 AM until 1 PM in Apalachicola.
URL:https://www.floridasforgottencoast.com/event/apalachicola-farmers-market-3/2030-01-26/
LOCATION:133 Avenue E\, 133 Avenue E\, Apalachicola\, United States
ATTACH;FMTTYPE=image/jpeg:https://www.floridasforgottencoast.com/wp-content/uploads/2021/06/Apalachicola-Farmers-Market.jpeg
ORGANIZER;CN="Apalachicola Farmers Market":MAILTO:apalachicolafarmersmarket@gmail.com
END:VEVENT
BEGIN:VEVENT
DTSTART;TZID=America/New_York:20300209T090000
DTEND;TZID=America/New_York:20300209T130000
DTSTAMP:20260419T232930
CREATED:20260325T201724Z
LAST-MODIFIED:20260325T201829Z
UID:10005719-1896858000-1896872400@www.floridasforgottencoast.com
SUMMARY:Apalachicola Farmers Market
DESCRIPTION:Located at 133 Avenue E\, across from CVS\, the Apalachicola Farmers Market offers local seafood\, produce\, honey\, homemade breads\, pies\, and other regional specialties every 2nd and 4th Saturday from 9 AM until 1 PM in Apalachicola.
URL:https://www.floridasforgottencoast.com/event/apalachicola-farmers-market-2-2-2/2030-02-09/
LOCATION:133 Avenue E\, 133 Avenue E\, Apalachicola\, United States
ATTACH;FMTTYPE=image/jpeg:https://www.floridasforgottencoast.com/wp-content/uploads/2021/06/Apalachicola-Farmers-Market.jpeg
ORGANIZER;CN="Apalachicola Farmers Market":MAILTO:apalachicolafarmersmarket@gmail.com
END:VEVENT
BEGIN:VEVENT
DTSTART;TZID=America/New_York:20300223T090000
DTEND;TZID=America/New_York:20300223T130000
DTSTAMP:20260419T232930
CREATED:20240821T182327Z
LAST-MODIFIED:20260325T205213Z
UID:10005739-1898067600-1898082000@www.floridasforgottencoast.com
SUMMARY:Apalachicola Farmers Market
DESCRIPTION:Located at 133 Avenue E\, across from CVS\, the Apalachicola Farmers Market offers local seafood\, produce\, honey\, homemade breads\, pies\, and other regional specialties every 2nd and 4th Saturday from 9 AM until 1 PM in Apalachicola.
URL:https://www.floridasforgottencoast.com/event/apalachicola-farmers-market-3/2030-02-23/
LOCATION:133 Avenue E\, 133 Avenue E\, Apalachicola\, United States
ATTACH;FMTTYPE=image/jpeg:https://www.floridasforgottencoast.com/wp-content/uploads/2021/06/Apalachicola-Farmers-Market.jpeg
ORGANIZER;CN="Apalachicola Farmers Market":MAILTO:apalachicolafarmersmarket@gmail.com
END:VEVENT
BEGIN:VEVENT
DTSTART;TZID=America/New_York:20300309T090000
DTEND;TZID=America/New_York:20300309T130000
DTSTAMP:20260419T232930
CREATED:20260325T201724Z
LAST-MODIFIED:20260325T201829Z
UID:10005720-1899277200-1899291600@www.floridasforgottencoast.com
SUMMARY:Apalachicola Farmers Market
DESCRIPTION:Located at 133 Avenue E\, across from CVS\, the Apalachicola Farmers Market offers local seafood\, produce\, honey\, homemade breads\, pies\, and other regional specialties every 2nd and 4th Saturday from 9 AM until 1 PM in Apalachicola.
URL:https://www.floridasforgottencoast.com/event/apalachicola-farmers-market-2-2-2/2030-03-09/
LOCATION:133 Avenue E\, 133 Avenue E\, Apalachicola\, United States
ATTACH;FMTTYPE=image/jpeg:https://www.floridasforgottencoast.com/wp-content/uploads/2021/06/Apalachicola-Farmers-Market.jpeg
ORGANIZER;CN="Apalachicola Farmers Market":MAILTO:apalachicolafarmersmarket@gmail.com
END:VEVENT
BEGIN:VEVENT
DTSTART;TZID=America/New_York:20300323T090000
DTEND;TZID=America/New_York:20300323T130000
DTSTAMP:20260419T232930
CREATED:20240821T182327Z
LAST-MODIFIED:20260325T205213Z
UID:10005740-1900486800-1900501200@www.floridasforgottencoast.com
SUMMARY:Apalachicola Farmers Market
DESCRIPTION:Located at 133 Avenue E\, across from CVS\, the Apalachicola Farmers Market offers local seafood\, produce\, honey\, homemade breads\, pies\, and other regional specialties every 2nd and 4th Saturday from 9 AM until 1 PM in Apalachicola.
URL:https://www.floridasforgottencoast.com/event/apalachicola-farmers-market-3/2030-03-23/
LOCATION:133 Avenue E\, 133 Avenue E\, Apalachicola\, United States
ATTACH;FMTTYPE=image/jpeg:https://www.floridasforgottencoast.com/wp-content/uploads/2021/06/Apalachicola-Farmers-Market.jpeg
ORGANIZER;CN="Apalachicola Farmers Market":MAILTO:apalachicolafarmersmarket@gmail.com
END:VEVENT
BEGIN:VEVENT
DTSTART;TZID=America/New_York:20300413T090000
DTEND;TZID=America/New_York:20300413T130000
DTSTAMP:20260419T232930
CREATED:20260325T201724Z
LAST-MODIFIED:20260325T201829Z
UID:10005721-1902301200-1902315600@www.floridasforgottencoast.com
SUMMARY:Apalachicola Farmers Market
DESCRIPTION:Located at 133 Avenue E\, across from CVS\, the Apalachicola Farmers Market offers local seafood\, produce\, honey\, homemade breads\, pies\, and other regional specialties every 2nd and 4th Saturday from 9 AM until 1 PM in Apalachicola.
URL:https://www.floridasforgottencoast.com/event/apalachicola-farmers-market-2-2-2/2030-04-13/
LOCATION:133 Avenue E\, 133 Avenue E\, Apalachicola\, United States
ATTACH;FMTTYPE=image/jpeg:https://www.floridasforgottencoast.com/wp-content/uploads/2021/06/Apalachicola-Farmers-Market.jpeg
ORGANIZER;CN="Apalachicola Farmers Market":MAILTO:apalachicolafarmersmarket@gmail.com
END:VEVENT
BEGIN:VEVENT
DTSTART;TZID=America/New_York:20300427T090000
DTEND;TZID=America/New_York:20300427T130000
DTSTAMP:20260419T232930
CREATED:20240821T182327Z
LAST-MODIFIED:20260325T205213Z
UID:10005741-1903510800-1903525200@www.floridasforgottencoast.com
SUMMARY:Apalachicola Farmers Market
DESCRIPTION:Located at 133 Avenue E\, across from CVS\, the Apalachicola Farmers Market offers local seafood\, produce\, honey\, homemade breads\, pies\, and other regional specialties every 2nd and 4th Saturday from 9 AM until 1 PM in Apalachicola.
URL:https://www.floridasforgottencoast.com/event/apalachicola-farmers-market-3/2030-04-27/
LOCATION:133 Avenue E\, 133 Avenue E\, Apalachicola\, United States
ATTACH;FMTTYPE=image/jpeg:https://www.floridasforgottencoast.com/wp-content/uploads/2021/06/Apalachicola-Farmers-Market.jpeg
ORGANIZER;CN="Apalachicola Farmers Market":MAILTO:apalachicolafarmersmarket@gmail.com
END:VEVENT
BEGIN:VEVENT
DTSTART;TZID=America/New_York:20300511T090000
DTEND;TZID=America/New_York:20300511T130000
DTSTAMP:20260419T232930
CREATED:20260325T201724Z
LAST-MODIFIED:20260325T201829Z
UID:10005722-1904720400-1904734800@www.floridasforgottencoast.com
SUMMARY:Apalachicola Farmers Market
DESCRIPTION:Located at 133 Avenue E\, across from CVS\, the Apalachicola Farmers Market offers local seafood\, produce\, honey\, homemade breads\, pies\, and other regional specialties every 2nd and 4th Saturday from 9 AM until 1 PM in Apalachicola.
URL:https://www.floridasforgottencoast.com/event/apalachicola-farmers-market-2-2-2/2030-05-11/
LOCATION:133 Avenue E\, 133 Avenue E\, Apalachicola\, United States
ATTACH;FMTTYPE=image/jpeg:https://www.floridasforgottencoast.com/wp-content/uploads/2021/06/Apalachicola-Farmers-Market.jpeg
ORGANIZER;CN="Apalachicola Farmers Market":MAILTO:apalachicolafarmersmarket@gmail.com
END:VEVENT
BEGIN:VEVENT
DTSTART;TZID=America/New_York:20300525T090000
DTEND;TZID=America/New_York:20300525T130000
DTSTAMP:20260419T232930
CREATED:20240821T182327Z
LAST-MODIFIED:20260325T205213Z
UID:10005742-1905930000-1905944400@www.floridasforgottencoast.com
SUMMARY:Apalachicola Farmers Market
DESCRIPTION:Located at 133 Avenue E\, across from CVS\, the Apalachicola Farmers Market offers local seafood\, produce\, honey\, homemade breads\, pies\, and other regional specialties every 2nd and 4th Saturday from 9 AM until 1 PM in Apalachicola.
URL:https://www.floridasforgottencoast.com/event/apalachicola-farmers-market-3/2030-05-25/
LOCATION:133 Avenue E\, 133 Avenue E\, Apalachicola\, United States
ATTACH;FMTTYPE=image/jpeg:https://www.floridasforgottencoast.com/wp-content/uploads/2021/06/Apalachicola-Farmers-Market.jpeg
ORGANIZER;CN="Apalachicola Farmers Market":MAILTO:apalachicolafarmersmarket@gmail.com
END:VEVENT
BEGIN:VEVENT
DTSTART;TZID=America/New_York:20300608T090000
DTEND;TZID=America/New_York:20300608T130000
DTSTAMP:20260419T232930
CREATED:20260325T201724Z
LAST-MODIFIED:20260325T201829Z
UID:10005723-1907139600-1907154000@www.floridasforgottencoast.com
SUMMARY:Apalachicola Farmers Market
DESCRIPTION:Located at 133 Avenue E\, across from CVS\, the Apalachicola Farmers Market offers local seafood\, produce\, honey\, homemade breads\, pies\, and other regional specialties every 2nd and 4th Saturday from 9 AM until 1 PM in Apalachicola.
URL:https://www.floridasforgottencoast.com/event/apalachicola-farmers-market-2-2-2/2030-06-08/
LOCATION:133 Avenue E\, 133 Avenue E\, Apalachicola\, United States
ATTACH;FMTTYPE=image/jpeg:https://www.floridasforgottencoast.com/wp-content/uploads/2021/06/Apalachicola-Farmers-Market.jpeg
ORGANIZER;CN="Apalachicola Farmers Market":MAILTO:apalachicolafarmersmarket@gmail.com
END:VEVENT
BEGIN:VEVENT
DTSTART;TZID=America/New_York:20300622T090000
DTEND;TZID=America/New_York:20300622T130000
DTSTAMP:20260419T232930
CREATED:20240821T182327Z
LAST-MODIFIED:20260325T205213Z
UID:10005743-1908349200-1908363600@www.floridasforgottencoast.com
SUMMARY:Apalachicola Farmers Market
DESCRIPTION:Located at 133 Avenue E\, across from CVS\, the Apalachicola Farmers Market offers local seafood\, produce\, honey\, homemade breads\, pies\, and other regional specialties every 2nd and 4th Saturday from 9 AM until 1 PM in Apalachicola.
URL:https://www.floridasforgottencoast.com/event/apalachicola-farmers-market-3/2030-06-22/
LOCATION:133 Avenue E\, 133 Avenue E\, Apalachicola\, United States
ATTACH;FMTTYPE=image/jpeg:https://www.floridasforgottencoast.com/wp-content/uploads/2021/06/Apalachicola-Farmers-Market.jpeg
ORGANIZER;CN="Apalachicola Farmers Market":MAILTO:apalachicolafarmersmarket@gmail.com
END:VEVENT
BEGIN:VEVENT
DTSTART;TZID=America/New_York:20300713T090000
DTEND;TZID=America/New_York:20300713T130000
DTSTAMP:20260419T232930
CREATED:20260325T201724Z
LAST-MODIFIED:20260325T201829Z
UID:10005724-1910163600-1910178000@www.floridasforgottencoast.com
SUMMARY:Apalachicola Farmers Market
DESCRIPTION:Located at 133 Avenue E\, across from CVS\, the Apalachicola Farmers Market offers local seafood\, produce\, honey\, homemade breads\, pies\, and other regional specialties every 2nd and 4th Saturday from 9 AM until 1 PM in Apalachicola.
URL:https://www.floridasforgottencoast.com/event/apalachicola-farmers-market-2-2-2/2030-07-13/
LOCATION:133 Avenue E\, 133 Avenue E\, Apalachicola\, United States
ATTACH;FMTTYPE=image/jpeg:https://www.floridasforgottencoast.com/wp-content/uploads/2021/06/Apalachicola-Farmers-Market.jpeg
ORGANIZER;CN="Apalachicola Farmers Market":MAILTO:apalachicolafarmersmarket@gmail.com
END:VEVENT
BEGIN:VEVENT
DTSTART;TZID=America/New_York:20300727T090000
DTEND;TZID=America/New_York:20300727T130000
DTSTAMP:20260419T232930
CREATED:20240821T182327Z
LAST-MODIFIED:20260325T205213Z
UID:10005744-1911373200-1911387600@www.floridasforgottencoast.com
SUMMARY:Apalachicola Farmers Market
DESCRIPTION:Located at 133 Avenue E\, across from CVS\, the Apalachicola Farmers Market offers local seafood\, produce\, honey\, homemade breads\, pies\, and other regional specialties every 2nd and 4th Saturday from 9 AM until 1 PM in Apalachicola.
URL:https://www.floridasforgottencoast.com/event/apalachicola-farmers-market-3/2030-07-27/
LOCATION:133 Avenue E\, 133 Avenue E\, Apalachicola\, United States
ATTACH;FMTTYPE=image/jpeg:https://www.floridasforgottencoast.com/wp-content/uploads/2021/06/Apalachicola-Farmers-Market.jpeg
ORGANIZER;CN="Apalachicola Farmers Market":MAILTO:apalachicolafarmersmarket@gmail.com
END:VEVENT
BEGIN:VEVENT
DTSTART;TZID=America/New_York:20300810T090000
DTEND;TZID=America/New_York:20300810T130000
DTSTAMP:20260419T232930
CREATED:20260325T201724Z
LAST-MODIFIED:20260325T201829Z
UID:10005725-1912582800-1912597200@www.floridasforgottencoast.com
SUMMARY:Apalachicola Farmers Market
DESCRIPTION:Located at 133 Avenue E\, across from CVS\, the Apalachicola Farmers Market offers local seafood\, produce\, honey\, homemade breads\, pies\, and other regional specialties every 2nd and 4th Saturday from 9 AM until 1 PM in Apalachicola.
URL:https://www.floridasforgottencoast.com/event/apalachicola-farmers-market-2-2-2/2030-08-10/
LOCATION:133 Avenue E\, 133 Avenue E\, Apalachicola\, United States
ATTACH;FMTTYPE=image/jpeg:https://www.floridasforgottencoast.com/wp-content/uploads/2021/06/Apalachicola-Farmers-Market.jpeg
ORGANIZER;CN="Apalachicola Farmers Market":MAILTO:apalachicolafarmersmarket@gmail.com
END:VEVENT
BEGIN:VEVENT
DTSTART;TZID=America/New_York:20300824T090000
DTEND;TZID=America/New_York:20300824T130000
DTSTAMP:20260419T232930
CREATED:20240821T182327Z
LAST-MODIFIED:20260325T205213Z
UID:10005745-1913792400-1913806800@www.floridasforgottencoast.com
SUMMARY:Apalachicola Farmers Market
DESCRIPTION:Located at 133 Avenue E\, across from CVS\, the Apalachicola Farmers Market offers local seafood\, produce\, honey\, homemade breads\, pies\, and other regional specialties every 2nd and 4th Saturday from 9 AM until 1 PM in Apalachicola.
URL:https://www.floridasforgottencoast.com/event/apalachicola-farmers-market-3/2030-08-24/
LOCATION:133 Avenue E\, 133 Avenue E\, Apalachicola\, United States
ATTACH;FMTTYPE=image/jpeg:https://www.floridasforgottencoast.com/wp-content/uploads/2021/06/Apalachicola-Farmers-Market.jpeg
ORGANIZER;CN="Apalachicola Farmers Market":MAILTO:apalachicolafarmersmarket@gmail.com
END:VEVENT
BEGIN:VEVENT
DTSTART;TZID=America/New_York:20300914T090000
DTEND;TZID=America/New_York:20300914T130000
DTSTAMP:20260419T232930
CREATED:20260325T201724Z
LAST-MODIFIED:20260325T201829Z
UID:10005726-1915606800-1915621200@www.floridasforgottencoast.com
SUMMARY:Apalachicola Farmers Market
DESCRIPTION:Located at 133 Avenue E\, across from CVS\, the Apalachicola Farmers Market offers local seafood\, produce\, honey\, homemade breads\, pies\, and other regional specialties every 2nd and 4th Saturday from 9 AM until 1 PM in Apalachicola.
URL:https://www.floridasforgottencoast.com/event/apalachicola-farmers-market-2-2-2/2030-09-14/
LOCATION:133 Avenue E\, 133 Avenue E\, Apalachicola\, United States
ATTACH;FMTTYPE=image/jpeg:https://www.floridasforgottencoast.com/wp-content/uploads/2021/06/Apalachicola-Farmers-Market.jpeg
ORGANIZER;CN="Apalachicola Farmers Market":MAILTO:apalachicolafarmersmarket@gmail.com
END:VEVENT
BEGIN:VEVENT
DTSTART;TZID=America/New_York:20300928T090000
DTEND;TZID=America/New_York:20300928T130000
DTSTAMP:20260419T232930
CREATED:20240821T182327Z
LAST-MODIFIED:20260325T205213Z
UID:10005746-1916816400-1916830800@www.floridasforgottencoast.com
SUMMARY:Apalachicola Farmers Market
DESCRIPTION:Located at 133 Avenue E\, across from CVS\, the Apalachicola Farmers Market offers local seafood\, produce\, honey\, homemade breads\, pies\, and other regional specialties every 2nd and 4th Saturday from 9 AM until 1 PM in Apalachicola.
URL:https://www.floridasforgottencoast.com/event/apalachicola-farmers-market-3/2030-09-28/
LOCATION:133 Avenue E\, 133 Avenue E\, Apalachicola\, United States
ATTACH;FMTTYPE=image/jpeg:https://www.floridasforgottencoast.com/wp-content/uploads/2021/06/Apalachicola-Farmers-Market.jpeg
ORGANIZER;CN="Apalachicola Farmers Market":MAILTO:apalachicolafarmersmarket@gmail.com
END:VEVENT
BEGIN:VEVENT
DTSTART;TZID=America/New_York:20301012T090000
DTEND;TZID=America/New_York:20301012T130000
DTSTAMP:20260419T232930
CREATED:20260325T201724Z
LAST-MODIFIED:20260325T201829Z
UID:10005727-1918026000-1918040400@www.floridasforgottencoast.com
SUMMARY:Apalachicola Farmers Market
DESCRIPTION:Located at 133 Avenue E\, across from CVS\, the Apalachicola Farmers Market offers local seafood\, produce\, honey\, homemade breads\, pies\, and other regional specialties every 2nd and 4th Saturday from 9 AM until 1 PM in Apalachicola.
URL:https://www.floridasforgottencoast.com/event/apalachicola-farmers-market-2-2-2/2030-10-12/
LOCATION:133 Avenue E\, 133 Avenue E\, Apalachicola\, United States
ATTACH;FMTTYPE=image/jpeg:https://www.floridasforgottencoast.com/wp-content/uploads/2021/06/Apalachicola-Farmers-Market.jpeg
ORGANIZER;CN="Apalachicola Farmers Market":MAILTO:apalachicolafarmersmarket@gmail.com
END:VEVENT
BEGIN:VEVENT
DTSTART;TZID=America/New_York:20301026T090000
DTEND;TZID=America/New_York:20301026T130000
DTSTAMP:20260419T232930
CREATED:20240821T182327Z
LAST-MODIFIED:20260325T205213Z
UID:10005747-1919235600-1919250000@www.floridasforgottencoast.com
SUMMARY:Apalachicola Farmers Market
DESCRIPTION:Located at 133 Avenue E\, across from CVS\, the Apalachicola Farmers Market offers local seafood\, produce\, honey\, homemade breads\, pies\, and other regional specialties every 2nd and 4th Saturday from 9 AM until 1 PM in Apalachicola.
URL:https://www.floridasforgottencoast.com/event/apalachicola-farmers-market-3/2030-10-26/
LOCATION:133 Avenue E\, 133 Avenue E\, Apalachicola\, United States
ATTACH;FMTTYPE=image/jpeg:https://www.floridasforgottencoast.com/wp-content/uploads/2021/06/Apalachicola-Farmers-Market.jpeg
ORGANIZER;CN="Apalachicola Farmers Market":MAILTO:apalachicolafarmersmarket@gmail.com
END:VEVENT
BEGIN:VEVENT
DTSTART;TZID=America/New_York:20301109T090000
DTEND;TZID=America/New_York:20301109T130000
DTSTAMP:20260419T232930
CREATED:20260325T201724Z
LAST-MODIFIED:20260325T201829Z
UID:10005728-1920445200-1920459600@www.floridasforgottencoast.com
SUMMARY:Apalachicola Farmers Market
DESCRIPTION:Located at 133 Avenue E\, across from CVS\, the Apalachicola Farmers Market offers local seafood\, produce\, honey\, homemade breads\, pies\, and other regional specialties every 2nd and 4th Saturday from 9 AM until 1 PM in Apalachicola.
URL:https://www.floridasforgottencoast.com/event/apalachicola-farmers-market-2-2-2/2030-11-09/
LOCATION:133 Avenue E\, 133 Avenue E\, Apalachicola\, United States
ATTACH;FMTTYPE=image/jpeg:https://www.floridasforgottencoast.com/wp-content/uploads/2021/06/Apalachicola-Farmers-Market.jpeg
ORGANIZER;CN="Apalachicola Farmers Market":MAILTO:apalachicolafarmersmarket@gmail.com
END:VEVENT
END:VCALENDAR