BEGIN:VCALENDAR
VERSION:2.0
PRODID:-//Florida&#039;s Forgotten Coast - ECPv6.15.20//NONSGML v1.0//EN
CALSCALE:GREGORIAN
METHOD:PUBLISH
X-WR-CALNAME:Florida&#039;s Forgotten Coast
X-ORIGINAL-URL:https://www.floridasforgottencoast.com
X-WR-CALDESC:Events for Florida&#039;s Forgotten Coast
REFRESH-INTERVAL;VALUE=DURATION:PT1H
X-Robots-Tag:noindex
X-PUBLISHED-TTL:PT1H
BEGIN:VTIMEZONE
TZID:America/New_York
BEGIN:DAYLIGHT
TZOFFSETFROM:-0500
TZOFFSETTO:-0400
TZNAME:EDT
DTSTART:20270314T070000
END:DAYLIGHT
BEGIN:STANDARD
TZOFFSETFROM:-0400
TZOFFSETTO:-0500
TZNAME:EST
DTSTART:20271107T060000
END:STANDARD
BEGIN:DAYLIGHT
TZOFFSETFROM:-0500
TZOFFSETTO:-0400
TZNAME:EDT
DTSTART:20280312T070000
END:DAYLIGHT
BEGIN:STANDARD
TZOFFSETFROM:-0400
TZOFFSETTO:-0500
TZNAME:EST
DTSTART:20281105T060000
END:STANDARD
BEGIN:DAYLIGHT
TZOFFSETFROM:-0500
TZOFFSETTO:-0400
TZNAME:EDT
DTSTART:20290311T070000
END:DAYLIGHT
BEGIN:STANDARD
TZOFFSETFROM:-0400
TZOFFSETTO:-0500
TZNAME:EST
DTSTART:20291104T060000
END:STANDARD
BEGIN:DAYLIGHT
TZOFFSETFROM:-0500
TZOFFSETTO:-0400
TZNAME:EDT
DTSTART:20300310T070000
END:DAYLIGHT
BEGIN:STANDARD
TZOFFSETFROM:-0400
TZOFFSETTO:-0500
TZNAME:EST
DTSTART:20301103T060000
END:STANDARD
BEGIN:DAYLIGHT
TZOFFSETFROM:-0500
TZOFFSETTO:-0400
TZNAME:EDT
DTSTART:20310309T070000
END:DAYLIGHT
BEGIN:STANDARD
TZOFFSETFROM:-0400
TZOFFSETTO:-0500
TZNAME:EST
DTSTART:20311102T060000
END:STANDARD
END:VTIMEZONE
BEGIN:VEVENT
DTSTART;TZID=America/New_York:20281028T090000
DTEND;TZID=America/New_York:20281028T130000
DTSTAMP:20260419T200708
CREATED:20240821T182327Z
LAST-MODIFIED:20260325T205213Z
UID:10002784-1856336400-1856350800@www.floridasforgottencoast.com
SUMMARY:Apalachicola Farmers Market
DESCRIPTION:Located at 133 Avenue E\, across from CVS\, the Apalachicola Farmers Market offers local seafood\, produce\, honey\, homemade breads\, pies\, and other regional specialties every 2nd and 4th Saturday from 9 AM until 1 PM in Apalachicola.
URL:https://www.floridasforgottencoast.com/event/apalachicola-farmers-market-3/2028-10-28/
LOCATION:133 Avenue E\, 133 Avenue E\, Apalachicola\, United States
ATTACH;FMTTYPE=image/jpeg:https://www.floridasforgottencoast.com/wp-content/uploads/2021/06/Apalachicola-Farmers-Market.jpeg
ORGANIZER;CN="Apalachicola Farmers Market":MAILTO:apalachicolafarmersmarket@gmail.com
END:VEVENT
BEGIN:VEVENT
DTSTART;TZID=America/New_York:20281111T090000
DTEND;TZID=America/New_York:20281111T130000
DTSTAMP:20260419T200708
CREATED:20260325T201724Z
LAST-MODIFIED:20260325T201829Z
UID:10002840-1857546000-1857560400@www.floridasforgottencoast.com
SUMMARY:Apalachicola Farmers Market
DESCRIPTION:Located at 133 Avenue E\, across from CVS\, the Apalachicola Farmers Market offers local seafood\, produce\, honey\, homemade breads\, pies\, and other regional specialties every 2nd and 4th Saturday from 9 AM until 1 PM in Apalachicola.
URL:https://www.floridasforgottencoast.com/event/apalachicola-farmers-market-2-2-2/2028-11-11/
LOCATION:133 Avenue E\, 133 Avenue E\, Apalachicola\, United States
ATTACH;FMTTYPE=image/jpeg:https://www.floridasforgottencoast.com/wp-content/uploads/2021/06/Apalachicola-Farmers-Market.jpeg
ORGANIZER;CN="Apalachicola Farmers Market":MAILTO:apalachicolafarmersmarket@gmail.com
END:VEVENT
BEGIN:VEVENT
DTSTART;TZID=America/New_York:20281125T090000
DTEND;TZID=America/New_York:20281125T130000
DTSTAMP:20260419T200708
CREATED:20240821T182327Z
LAST-MODIFIED:20260325T205213Z
UID:10002785-1858755600-1858770000@www.floridasforgottencoast.com
SUMMARY:Apalachicola Farmers Market
DESCRIPTION:Located at 133 Avenue E\, across from CVS\, the Apalachicola Farmers Market offers local seafood\, produce\, honey\, homemade breads\, pies\, and other regional specialties every 2nd and 4th Saturday from 9 AM until 1 PM in Apalachicola.
URL:https://www.floridasforgottencoast.com/event/apalachicola-farmers-market-3/2028-11-25/
LOCATION:133 Avenue E\, 133 Avenue E\, Apalachicola\, United States
ATTACH;FMTTYPE=image/jpeg:https://www.floridasforgottencoast.com/wp-content/uploads/2021/06/Apalachicola-Farmers-Market.jpeg
ORGANIZER;CN="Apalachicola Farmers Market":MAILTO:apalachicolafarmersmarket@gmail.com
END:VEVENT
BEGIN:VEVENT
DTSTART;TZID=America/New_York:20281209T090000
DTEND;TZID=America/New_York:20281209T130000
DTSTAMP:20260419T200708
CREATED:20260325T201724Z
LAST-MODIFIED:20260325T201829Z
UID:10002841-1859965200-1859979600@www.floridasforgottencoast.com
SUMMARY:Apalachicola Farmers Market
DESCRIPTION:Located at 133 Avenue E\, across from CVS\, the Apalachicola Farmers Market offers local seafood\, produce\, honey\, homemade breads\, pies\, and other regional specialties every 2nd and 4th Saturday from 9 AM until 1 PM in Apalachicola.
URL:https://www.floridasforgottencoast.com/event/apalachicola-farmers-market-2-2-2/2028-12-09/
LOCATION:133 Avenue E\, 133 Avenue E\, Apalachicola\, United States
ATTACH;FMTTYPE=image/jpeg:https://www.floridasforgottencoast.com/wp-content/uploads/2021/06/Apalachicola-Farmers-Market.jpeg
ORGANIZER;CN="Apalachicola Farmers Market":MAILTO:apalachicolafarmersmarket@gmail.com
END:VEVENT
BEGIN:VEVENT
DTSTART;TZID=America/New_York:20281223T090000
DTEND;TZID=America/New_York:20281223T130000
DTSTAMP:20260419T200708
CREATED:20240821T182327Z
LAST-MODIFIED:20260325T205213Z
UID:10002786-1861174800-1861189200@www.floridasforgottencoast.com
SUMMARY:Apalachicola Farmers Market
DESCRIPTION:Located at 133 Avenue E\, across from CVS\, the Apalachicola Farmers Market offers local seafood\, produce\, honey\, homemade breads\, pies\, and other regional specialties every 2nd and 4th Saturday from 9 AM until 1 PM in Apalachicola.
URL:https://www.floridasforgottencoast.com/event/apalachicola-farmers-market-3/2028-12-23/
LOCATION:133 Avenue E\, 133 Avenue E\, Apalachicola\, United States
ATTACH;FMTTYPE=image/jpeg:https://www.floridasforgottencoast.com/wp-content/uploads/2021/06/Apalachicola-Farmers-Market.jpeg
ORGANIZER;CN="Apalachicola Farmers Market":MAILTO:apalachicolafarmersmarket@gmail.com
END:VEVENT
BEGIN:VEVENT
DTSTART;TZID=America/New_York:20290113T090000
DTEND;TZID=America/New_York:20290113T130000
DTSTAMP:20260419T200708
CREATED:20260325T201724Z
LAST-MODIFIED:20260325T201829Z
UID:10002842-1862989200-1863003600@www.floridasforgottencoast.com
SUMMARY:Apalachicola Farmers Market
DESCRIPTION:Located at 133 Avenue E\, across from CVS\, the Apalachicola Farmers Market offers local seafood\, produce\, honey\, homemade breads\, pies\, and other regional specialties every 2nd and 4th Saturday from 9 AM until 1 PM in Apalachicola.
URL:https://www.floridasforgottencoast.com/event/apalachicola-farmers-market-2-2-2/2029-01-13/
LOCATION:133 Avenue E\, 133 Avenue E\, Apalachicola\, United States
ATTACH;FMTTYPE=image/jpeg:https://www.floridasforgottencoast.com/wp-content/uploads/2021/06/Apalachicola-Farmers-Market.jpeg
ORGANIZER;CN="Apalachicola Farmers Market":MAILTO:apalachicolafarmersmarket@gmail.com
END:VEVENT
BEGIN:VEVENT
DTSTART;TZID=America/New_York:20290127T090000
DTEND;TZID=America/New_York:20290127T130000
DTSTAMP:20260419T200708
CREATED:20240821T182327Z
LAST-MODIFIED:20260325T205213Z
UID:10002787-1864198800-1864213200@www.floridasforgottencoast.com
SUMMARY:Apalachicola Farmers Market
DESCRIPTION:Located at 133 Avenue E\, across from CVS\, the Apalachicola Farmers Market offers local seafood\, produce\, honey\, homemade breads\, pies\, and other regional specialties every 2nd and 4th Saturday from 9 AM until 1 PM in Apalachicola.
URL:https://www.floridasforgottencoast.com/event/apalachicola-farmers-market-3/2029-01-27/
LOCATION:133 Avenue E\, 133 Avenue E\, Apalachicola\, United States
ATTACH;FMTTYPE=image/jpeg:https://www.floridasforgottencoast.com/wp-content/uploads/2021/06/Apalachicola-Farmers-Market.jpeg
ORGANIZER;CN="Apalachicola Farmers Market":MAILTO:apalachicolafarmersmarket@gmail.com
END:VEVENT
BEGIN:VEVENT
DTSTART;TZID=America/New_York:20290210T090000
DTEND;TZID=America/New_York:20290210T130000
DTSTAMP:20260419T200708
CREATED:20260325T201724Z
LAST-MODIFIED:20260325T201829Z
UID:10002843-1865408400-1865422800@www.floridasforgottencoast.com
SUMMARY:Apalachicola Farmers Market
DESCRIPTION:Located at 133 Avenue E\, across from CVS\, the Apalachicola Farmers Market offers local seafood\, produce\, honey\, homemade breads\, pies\, and other regional specialties every 2nd and 4th Saturday from 9 AM until 1 PM in Apalachicola.
URL:https://www.floridasforgottencoast.com/event/apalachicola-farmers-market-2-2-2/2029-02-10/
LOCATION:133 Avenue E\, 133 Avenue E\, Apalachicola\, United States
ATTACH;FMTTYPE=image/jpeg:https://www.floridasforgottencoast.com/wp-content/uploads/2021/06/Apalachicola-Farmers-Market.jpeg
ORGANIZER;CN="Apalachicola Farmers Market":MAILTO:apalachicolafarmersmarket@gmail.com
END:VEVENT
BEGIN:VEVENT
DTSTART;TZID=America/New_York:20290224T090000
DTEND;TZID=America/New_York:20290224T130000
DTSTAMP:20260419T200708
CREATED:20240821T182327Z
LAST-MODIFIED:20260325T205213Z
UID:10002788-1866618000-1866632400@www.floridasforgottencoast.com
SUMMARY:Apalachicola Farmers Market
DESCRIPTION:Located at 133 Avenue E\, across from CVS\, the Apalachicola Farmers Market offers local seafood\, produce\, honey\, homemade breads\, pies\, and other regional specialties every 2nd and 4th Saturday from 9 AM until 1 PM in Apalachicola.
URL:https://www.floridasforgottencoast.com/event/apalachicola-farmers-market-3/2029-02-24/
LOCATION:133 Avenue E\, 133 Avenue E\, Apalachicola\, United States
ATTACH;FMTTYPE=image/jpeg:https://www.floridasforgottencoast.com/wp-content/uploads/2021/06/Apalachicola-Farmers-Market.jpeg
ORGANIZER;CN="Apalachicola Farmers Market":MAILTO:apalachicolafarmersmarket@gmail.com
END:VEVENT
BEGIN:VEVENT
DTSTART;TZID=America/New_York:20290310T090000
DTEND;TZID=America/New_York:20290310T130000
DTSTAMP:20260419T200708
CREATED:20260325T201724Z
LAST-MODIFIED:20260325T201829Z
UID:10002844-1867827600-1867842000@www.floridasforgottencoast.com
SUMMARY:Apalachicola Farmers Market
DESCRIPTION:Located at 133 Avenue E\, across from CVS\, the Apalachicola Farmers Market offers local seafood\, produce\, honey\, homemade breads\, pies\, and other regional specialties every 2nd and 4th Saturday from 9 AM until 1 PM in Apalachicola.
URL:https://www.floridasforgottencoast.com/event/apalachicola-farmers-market-2-2-2/2029-03-10/
LOCATION:133 Avenue E\, 133 Avenue E\, Apalachicola\, United States
ATTACH;FMTTYPE=image/jpeg:https://www.floridasforgottencoast.com/wp-content/uploads/2021/06/Apalachicola-Farmers-Market.jpeg
ORGANIZER;CN="Apalachicola Farmers Market":MAILTO:apalachicolafarmersmarket@gmail.com
END:VEVENT
BEGIN:VEVENT
DTSTART;TZID=America/New_York:20290324T090000
DTEND;TZID=America/New_York:20290324T130000
DTSTAMP:20260419T200708
CREATED:20240821T182327Z
LAST-MODIFIED:20260325T205213Z
UID:10002789-1869037200-1869051600@www.floridasforgottencoast.com
SUMMARY:Apalachicola Farmers Market
DESCRIPTION:Located at 133 Avenue E\, across from CVS\, the Apalachicola Farmers Market offers local seafood\, produce\, honey\, homemade breads\, pies\, and other regional specialties every 2nd and 4th Saturday from 9 AM until 1 PM in Apalachicola.
URL:https://www.floridasforgottencoast.com/event/apalachicola-farmers-market-3/2029-03-24/
LOCATION:133 Avenue E\, 133 Avenue E\, Apalachicola\, United States
ATTACH;FMTTYPE=image/jpeg:https://www.floridasforgottencoast.com/wp-content/uploads/2021/06/Apalachicola-Farmers-Market.jpeg
ORGANIZER;CN="Apalachicola Farmers Market":MAILTO:apalachicolafarmersmarket@gmail.com
END:VEVENT
BEGIN:VEVENT
DTSTART;TZID=America/New_York:20290414T090000
DTEND;TZID=America/New_York:20290414T130000
DTSTAMP:20260419T200708
CREATED:20260325T201724Z
LAST-MODIFIED:20260325T201829Z
UID:10002845-1870851600-1870866000@www.floridasforgottencoast.com
SUMMARY:Apalachicola Farmers Market
DESCRIPTION:Located at 133 Avenue E\, across from CVS\, the Apalachicola Farmers Market offers local seafood\, produce\, honey\, homemade breads\, pies\, and other regional specialties every 2nd and 4th Saturday from 9 AM until 1 PM in Apalachicola.
URL:https://www.floridasforgottencoast.com/event/apalachicola-farmers-market-2-2-2/2029-04-14/
LOCATION:133 Avenue E\, 133 Avenue E\, Apalachicola\, United States
ATTACH;FMTTYPE=image/jpeg:https://www.floridasforgottencoast.com/wp-content/uploads/2021/06/Apalachicola-Farmers-Market.jpeg
ORGANIZER;CN="Apalachicola Farmers Market":MAILTO:apalachicolafarmersmarket@gmail.com
END:VEVENT
BEGIN:VEVENT
DTSTART;TZID=America/New_York:20290428T090000
DTEND;TZID=America/New_York:20290428T130000
DTSTAMP:20260419T200708
CREATED:20240821T182327Z
LAST-MODIFIED:20260325T205213Z
UID:10002790-1872061200-1872075600@www.floridasforgottencoast.com
SUMMARY:Apalachicola Farmers Market
DESCRIPTION:Located at 133 Avenue E\, across from CVS\, the Apalachicola Farmers Market offers local seafood\, produce\, honey\, homemade breads\, pies\, and other regional specialties every 2nd and 4th Saturday from 9 AM until 1 PM in Apalachicola.
URL:https://www.floridasforgottencoast.com/event/apalachicola-farmers-market-3/2029-04-28/
LOCATION:133 Avenue E\, 133 Avenue E\, Apalachicola\, United States
ATTACH;FMTTYPE=image/jpeg:https://www.floridasforgottencoast.com/wp-content/uploads/2021/06/Apalachicola-Farmers-Market.jpeg
ORGANIZER;CN="Apalachicola Farmers Market":MAILTO:apalachicolafarmersmarket@gmail.com
END:VEVENT
BEGIN:VEVENT
DTSTART;TZID=America/New_York:20290512T090000
DTEND;TZID=America/New_York:20290512T130000
DTSTAMP:20260419T200708
CREATED:20260325T201724Z
LAST-MODIFIED:20260325T201829Z
UID:10002846-1873270800-1873285200@www.floridasforgottencoast.com
SUMMARY:Apalachicola Farmers Market
DESCRIPTION:Located at 133 Avenue E\, across from CVS\, the Apalachicola Farmers Market offers local seafood\, produce\, honey\, homemade breads\, pies\, and other regional specialties every 2nd and 4th Saturday from 9 AM until 1 PM in Apalachicola.
URL:https://www.floridasforgottencoast.com/event/apalachicola-farmers-market-2-2-2/2029-05-12/
LOCATION:133 Avenue E\, 133 Avenue E\, Apalachicola\, United States
ATTACH;FMTTYPE=image/jpeg:https://www.floridasforgottencoast.com/wp-content/uploads/2021/06/Apalachicola-Farmers-Market.jpeg
ORGANIZER;CN="Apalachicola Farmers Market":MAILTO:apalachicolafarmersmarket@gmail.com
END:VEVENT
BEGIN:VEVENT
DTSTART;TZID=America/New_York:20290526T090000
DTEND;TZID=America/New_York:20290526T130000
DTSTAMP:20260419T200708
CREATED:20240821T182327Z
LAST-MODIFIED:20260325T205213Z
UID:10002791-1874480400-1874494800@www.floridasforgottencoast.com
SUMMARY:Apalachicola Farmers Market
DESCRIPTION:Located at 133 Avenue E\, across from CVS\, the Apalachicola Farmers Market offers local seafood\, produce\, honey\, homemade breads\, pies\, and other regional specialties every 2nd and 4th Saturday from 9 AM until 1 PM in Apalachicola.
URL:https://www.floridasforgottencoast.com/event/apalachicola-farmers-market-3/2029-05-26/
LOCATION:133 Avenue E\, 133 Avenue E\, Apalachicola\, United States
ATTACH;FMTTYPE=image/jpeg:https://www.floridasforgottencoast.com/wp-content/uploads/2021/06/Apalachicola-Farmers-Market.jpeg
ORGANIZER;CN="Apalachicola Farmers Market":MAILTO:apalachicolafarmersmarket@gmail.com
END:VEVENT
BEGIN:VEVENT
DTSTART;TZID=America/New_York:20290609T090000
DTEND;TZID=America/New_York:20290609T130000
DTSTAMP:20260419T200708
CREATED:20260325T201724Z
LAST-MODIFIED:20260325T201829Z
UID:10002847-1875690000-1875704400@www.floridasforgottencoast.com
SUMMARY:Apalachicola Farmers Market
DESCRIPTION:Located at 133 Avenue E\, across from CVS\, the Apalachicola Farmers Market offers local seafood\, produce\, honey\, homemade breads\, pies\, and other regional specialties every 2nd and 4th Saturday from 9 AM until 1 PM in Apalachicola.
URL:https://www.floridasforgottencoast.com/event/apalachicola-farmers-market-2-2-2/2029-06-09/
LOCATION:133 Avenue E\, 133 Avenue E\, Apalachicola\, United States
ATTACH;FMTTYPE=image/jpeg:https://www.floridasforgottencoast.com/wp-content/uploads/2021/06/Apalachicola-Farmers-Market.jpeg
ORGANIZER;CN="Apalachicola Farmers Market":MAILTO:apalachicolafarmersmarket@gmail.com
END:VEVENT
BEGIN:VEVENT
DTSTART;TZID=America/New_York:20290623T090000
DTEND;TZID=America/New_York:20290623T130000
DTSTAMP:20260419T200708
CREATED:20240821T182327Z
LAST-MODIFIED:20260325T205213Z
UID:10002792-1876899600-1876914000@www.floridasforgottencoast.com
SUMMARY:Apalachicola Farmers Market
DESCRIPTION:Located at 133 Avenue E\, across from CVS\, the Apalachicola Farmers Market offers local seafood\, produce\, honey\, homemade breads\, pies\, and other regional specialties every 2nd and 4th Saturday from 9 AM until 1 PM in Apalachicola.
URL:https://www.floridasforgottencoast.com/event/apalachicola-farmers-market-3/2029-06-23/
LOCATION:133 Avenue E\, 133 Avenue E\, Apalachicola\, United States
ATTACH;FMTTYPE=image/jpeg:https://www.floridasforgottencoast.com/wp-content/uploads/2021/06/Apalachicola-Farmers-Market.jpeg
ORGANIZER;CN="Apalachicola Farmers Market":MAILTO:apalachicolafarmersmarket@gmail.com
END:VEVENT
BEGIN:VEVENT
DTSTART;TZID=America/New_York:20290714T090000
DTEND;TZID=America/New_York:20290714T130000
DTSTAMP:20260419T200708
CREATED:20260325T201724Z
LAST-MODIFIED:20260325T201829Z
UID:10002848-1878714000-1878728400@www.floridasforgottencoast.com
SUMMARY:Apalachicola Farmers Market
DESCRIPTION:Located at 133 Avenue E\, across from CVS\, the Apalachicola Farmers Market offers local seafood\, produce\, honey\, homemade breads\, pies\, and other regional specialties every 2nd and 4th Saturday from 9 AM until 1 PM in Apalachicola.
URL:https://www.floridasforgottencoast.com/event/apalachicola-farmers-market-2-2-2/2029-07-14/
LOCATION:133 Avenue E\, 133 Avenue E\, Apalachicola\, United States
ATTACH;FMTTYPE=image/jpeg:https://www.floridasforgottencoast.com/wp-content/uploads/2021/06/Apalachicola-Farmers-Market.jpeg
ORGANIZER;CN="Apalachicola Farmers Market":MAILTO:apalachicolafarmersmarket@gmail.com
END:VEVENT
BEGIN:VEVENT
DTSTART;TZID=America/New_York:20290728T090000
DTEND;TZID=America/New_York:20290728T130000
DTSTAMP:20260419T200708
CREATED:20240821T182327Z
LAST-MODIFIED:20260325T205213Z
UID:10002793-1879923600-1879938000@www.floridasforgottencoast.com
SUMMARY:Apalachicola Farmers Market
DESCRIPTION:Located at 133 Avenue E\, across from CVS\, the Apalachicola Farmers Market offers local seafood\, produce\, honey\, homemade breads\, pies\, and other regional specialties every 2nd and 4th Saturday from 9 AM until 1 PM in Apalachicola.
URL:https://www.floridasforgottencoast.com/event/apalachicola-farmers-market-3/2029-07-28/
LOCATION:133 Avenue E\, 133 Avenue E\, Apalachicola\, United States
ATTACH;FMTTYPE=image/jpeg:https://www.floridasforgottencoast.com/wp-content/uploads/2021/06/Apalachicola-Farmers-Market.jpeg
ORGANIZER;CN="Apalachicola Farmers Market":MAILTO:apalachicolafarmersmarket@gmail.com
END:VEVENT
BEGIN:VEVENT
DTSTART;TZID=America/New_York:20290811T090000
DTEND;TZID=America/New_York:20290811T130000
DTSTAMP:20260419T200708
CREATED:20260325T201724Z
LAST-MODIFIED:20260325T201829Z
UID:10002849-1881133200-1881147600@www.floridasforgottencoast.com
SUMMARY:Apalachicola Farmers Market
DESCRIPTION:Located at 133 Avenue E\, across from CVS\, the Apalachicola Farmers Market offers local seafood\, produce\, honey\, homemade breads\, pies\, and other regional specialties every 2nd and 4th Saturday from 9 AM until 1 PM in Apalachicola.
URL:https://www.floridasforgottencoast.com/event/apalachicola-farmers-market-2-2-2/2029-08-11/
LOCATION:133 Avenue E\, 133 Avenue E\, Apalachicola\, United States
ATTACH;FMTTYPE=image/jpeg:https://www.floridasforgottencoast.com/wp-content/uploads/2021/06/Apalachicola-Farmers-Market.jpeg
ORGANIZER;CN="Apalachicola Farmers Market":MAILTO:apalachicolafarmersmarket@gmail.com
END:VEVENT
BEGIN:VEVENT
DTSTART;TZID=America/New_York:20290825T090000
DTEND;TZID=America/New_York:20290825T130000
DTSTAMP:20260419T200708
CREATED:20240821T182327Z
LAST-MODIFIED:20260325T205213Z
UID:10005733-1882342800-1882357200@www.floridasforgottencoast.com
SUMMARY:Apalachicola Farmers Market
DESCRIPTION:Located at 133 Avenue E\, across from CVS\, the Apalachicola Farmers Market offers local seafood\, produce\, honey\, homemade breads\, pies\, and other regional specialties every 2nd and 4th Saturday from 9 AM until 1 PM in Apalachicola.
URL:https://www.floridasforgottencoast.com/event/apalachicola-farmers-market-3/2029-08-25/
LOCATION:133 Avenue E\, 133 Avenue E\, Apalachicola\, United States
ATTACH;FMTTYPE=image/jpeg:https://www.floridasforgottencoast.com/wp-content/uploads/2021/06/Apalachicola-Farmers-Market.jpeg
ORGANIZER;CN="Apalachicola Farmers Market":MAILTO:apalachicolafarmersmarket@gmail.com
END:VEVENT
BEGIN:VEVENT
DTSTART;TZID=America/New_York:20290908T090000
DTEND;TZID=America/New_York:20290908T130000
DTSTAMP:20260419T200708
CREATED:20260325T201724Z
LAST-MODIFIED:20260325T201829Z
UID:10005714-1883552400-1883566800@www.floridasforgottencoast.com
SUMMARY:Apalachicola Farmers Market
DESCRIPTION:Located at 133 Avenue E\, across from CVS\, the Apalachicola Farmers Market offers local seafood\, produce\, honey\, homemade breads\, pies\, and other regional specialties every 2nd and 4th Saturday from 9 AM until 1 PM in Apalachicola.
URL:https://www.floridasforgottencoast.com/event/apalachicola-farmers-market-2-2-2/2029-09-08/
LOCATION:133 Avenue E\, 133 Avenue E\, Apalachicola\, United States
ATTACH;FMTTYPE=image/jpeg:https://www.floridasforgottencoast.com/wp-content/uploads/2021/06/Apalachicola-Farmers-Market.jpeg
ORGANIZER;CN="Apalachicola Farmers Market":MAILTO:apalachicolafarmersmarket@gmail.com
END:VEVENT
BEGIN:VEVENT
DTSTART;TZID=America/New_York:20290922T090000
DTEND;TZID=America/New_York:20290922T130000
DTSTAMP:20260419T200708
CREATED:20240821T182327Z
LAST-MODIFIED:20260325T205213Z
UID:10005734-1884762000-1884776400@www.floridasforgottencoast.com
SUMMARY:Apalachicola Farmers Market
DESCRIPTION:Located at 133 Avenue E\, across from CVS\, the Apalachicola Farmers Market offers local seafood\, produce\, honey\, homemade breads\, pies\, and other regional specialties every 2nd and 4th Saturday from 9 AM until 1 PM in Apalachicola.
URL:https://www.floridasforgottencoast.com/event/apalachicola-farmers-market-3/2029-09-22/
LOCATION:133 Avenue E\, 133 Avenue E\, Apalachicola\, United States
ATTACH;FMTTYPE=image/jpeg:https://www.floridasforgottencoast.com/wp-content/uploads/2021/06/Apalachicola-Farmers-Market.jpeg
ORGANIZER;CN="Apalachicola Farmers Market":MAILTO:apalachicolafarmersmarket@gmail.com
END:VEVENT
BEGIN:VEVENT
DTSTART;TZID=America/New_York:20291013T090000
DTEND;TZID=America/New_York:20291013T130000
DTSTAMP:20260419T200708
CREATED:20260325T201724Z
LAST-MODIFIED:20260325T201829Z
UID:10005715-1886576400-1886590800@www.floridasforgottencoast.com
SUMMARY:Apalachicola Farmers Market
DESCRIPTION:Located at 133 Avenue E\, across from CVS\, the Apalachicola Farmers Market offers local seafood\, produce\, honey\, homemade breads\, pies\, and other regional specialties every 2nd and 4th Saturday from 9 AM until 1 PM in Apalachicola.
URL:https://www.floridasforgottencoast.com/event/apalachicola-farmers-market-2-2-2/2029-10-13/
LOCATION:133 Avenue E\, 133 Avenue E\, Apalachicola\, United States
ATTACH;FMTTYPE=image/jpeg:https://www.floridasforgottencoast.com/wp-content/uploads/2021/06/Apalachicola-Farmers-Market.jpeg
ORGANIZER;CN="Apalachicola Farmers Market":MAILTO:apalachicolafarmersmarket@gmail.com
END:VEVENT
BEGIN:VEVENT
DTSTART;TZID=America/New_York:20291027T090000
DTEND;TZID=America/New_York:20291027T130000
DTSTAMP:20260419T200708
CREATED:20240821T182327Z
LAST-MODIFIED:20260325T205213Z
UID:10005735-1887786000-1887800400@www.floridasforgottencoast.com
SUMMARY:Apalachicola Farmers Market
DESCRIPTION:Located at 133 Avenue E\, across from CVS\, the Apalachicola Farmers Market offers local seafood\, produce\, honey\, homemade breads\, pies\, and other regional specialties every 2nd and 4th Saturday from 9 AM until 1 PM in Apalachicola.
URL:https://www.floridasforgottencoast.com/event/apalachicola-farmers-market-3/2029-10-27/
LOCATION:133 Avenue E\, 133 Avenue E\, Apalachicola\, United States
ATTACH;FMTTYPE=image/jpeg:https://www.floridasforgottencoast.com/wp-content/uploads/2021/06/Apalachicola-Farmers-Market.jpeg
ORGANIZER;CN="Apalachicola Farmers Market":MAILTO:apalachicolafarmersmarket@gmail.com
END:VEVENT
BEGIN:VEVENT
DTSTART;TZID=America/New_York:20291110T090000
DTEND;TZID=America/New_York:20291110T130000
DTSTAMP:20260419T200708
CREATED:20260325T201724Z
LAST-MODIFIED:20260325T201829Z
UID:10005716-1888995600-1889010000@www.floridasforgottencoast.com
SUMMARY:Apalachicola Farmers Market
DESCRIPTION:Located at 133 Avenue E\, across from CVS\, the Apalachicola Farmers Market offers local seafood\, produce\, honey\, homemade breads\, pies\, and other regional specialties every 2nd and 4th Saturday from 9 AM until 1 PM in Apalachicola.
URL:https://www.floridasforgottencoast.com/event/apalachicola-farmers-market-2-2-2/2029-11-10/
LOCATION:133 Avenue E\, 133 Avenue E\, Apalachicola\, United States
ATTACH;FMTTYPE=image/jpeg:https://www.floridasforgottencoast.com/wp-content/uploads/2021/06/Apalachicola-Farmers-Market.jpeg
ORGANIZER;CN="Apalachicola Farmers Market":MAILTO:apalachicolafarmersmarket@gmail.com
END:VEVENT
BEGIN:VEVENT
DTSTART;TZID=America/New_York:20291124T090000
DTEND;TZID=America/New_York:20291124T130000
DTSTAMP:20260419T200708
CREATED:20240821T182327Z
LAST-MODIFIED:20260325T205213Z
UID:10005736-1890205200-1890219600@www.floridasforgottencoast.com
SUMMARY:Apalachicola Farmers Market
DESCRIPTION:Located at 133 Avenue E\, across from CVS\, the Apalachicola Farmers Market offers local seafood\, produce\, honey\, homemade breads\, pies\, and other regional specialties every 2nd and 4th Saturday from 9 AM until 1 PM in Apalachicola.
URL:https://www.floridasforgottencoast.com/event/apalachicola-farmers-market-3/2029-11-24/
LOCATION:133 Avenue E\, 133 Avenue E\, Apalachicola\, United States
ATTACH;FMTTYPE=image/jpeg:https://www.floridasforgottencoast.com/wp-content/uploads/2021/06/Apalachicola-Farmers-Market.jpeg
ORGANIZER;CN="Apalachicola Farmers Market":MAILTO:apalachicolafarmersmarket@gmail.com
END:VEVENT
BEGIN:VEVENT
DTSTART;TZID=America/New_York:20291208T090000
DTEND;TZID=America/New_York:20291208T130000
DTSTAMP:20260419T200708
CREATED:20260325T201724Z
LAST-MODIFIED:20260325T201829Z
UID:10005717-1891414800-1891429200@www.floridasforgottencoast.com
SUMMARY:Apalachicola Farmers Market
DESCRIPTION:Located at 133 Avenue E\, across from CVS\, the Apalachicola Farmers Market offers local seafood\, produce\, honey\, homemade breads\, pies\, and other regional specialties every 2nd and 4th Saturday from 9 AM until 1 PM in Apalachicola.
URL:https://www.floridasforgottencoast.com/event/apalachicola-farmers-market-2-2-2/2029-12-08/
LOCATION:133 Avenue E\, 133 Avenue E\, Apalachicola\, United States
ATTACH;FMTTYPE=image/jpeg:https://www.floridasforgottencoast.com/wp-content/uploads/2021/06/Apalachicola-Farmers-Market.jpeg
ORGANIZER;CN="Apalachicola Farmers Market":MAILTO:apalachicolafarmersmarket@gmail.com
END:VEVENT
BEGIN:VEVENT
DTSTART;TZID=America/New_York:20291222T090000
DTEND;TZID=America/New_York:20291222T130000
DTSTAMP:20260419T200708
CREATED:20240821T182327Z
LAST-MODIFIED:20260325T205213Z
UID:10005737-1892624400-1892638800@www.floridasforgottencoast.com
SUMMARY:Apalachicola Farmers Market
DESCRIPTION:Located at 133 Avenue E\, across from CVS\, the Apalachicola Farmers Market offers local seafood\, produce\, honey\, homemade breads\, pies\, and other regional specialties every 2nd and 4th Saturday from 9 AM until 1 PM in Apalachicola.
URL:https://www.floridasforgottencoast.com/event/apalachicola-farmers-market-3/2029-12-22/
LOCATION:133 Avenue E\, 133 Avenue E\, Apalachicola\, United States
ATTACH;FMTTYPE=image/jpeg:https://www.floridasforgottencoast.com/wp-content/uploads/2021/06/Apalachicola-Farmers-Market.jpeg
ORGANIZER;CN="Apalachicola Farmers Market":MAILTO:apalachicolafarmersmarket@gmail.com
END:VEVENT
BEGIN:VEVENT
DTSTART;TZID=America/New_York:20300112T090000
DTEND;TZID=America/New_York:20300112T130000
DTSTAMP:20260419T200708
CREATED:20260325T201724Z
LAST-MODIFIED:20260325T201829Z
UID:10005718-1894438800-1894453200@www.floridasforgottencoast.com
SUMMARY:Apalachicola Farmers Market
DESCRIPTION:Located at 133 Avenue E\, across from CVS\, the Apalachicola Farmers Market offers local seafood\, produce\, honey\, homemade breads\, pies\, and other regional specialties every 2nd and 4th Saturday from 9 AM until 1 PM in Apalachicola.
URL:https://www.floridasforgottencoast.com/event/apalachicola-farmers-market-2-2-2/2030-01-12/
LOCATION:133 Avenue E\, 133 Avenue E\, Apalachicola\, United States
ATTACH;FMTTYPE=image/jpeg:https://www.floridasforgottencoast.com/wp-content/uploads/2021/06/Apalachicola-Farmers-Market.jpeg
ORGANIZER;CN="Apalachicola Farmers Market":MAILTO:apalachicolafarmersmarket@gmail.com
END:VEVENT
END:VCALENDAR