BEGIN:VCALENDAR
VERSION:2.0
PRODID:-//Florida&#039;s Forgotten Coast - ECPv6.15.20//NONSGML v1.0//EN
CALSCALE:GREGORIAN
METHOD:PUBLISH
X-WR-CALNAME:Florida&#039;s Forgotten Coast
X-ORIGINAL-URL:https://www.floridasforgottencoast.com
X-WR-CALDESC:Events for Florida&#039;s Forgotten Coast
REFRESH-INTERVAL;VALUE=DURATION:PT1H
X-Robots-Tag:noindex
X-PUBLISHED-TTL:PT1H
BEGIN:VTIMEZONE
TZID:America/New_York
BEGIN:DAYLIGHT
TZOFFSETFROM:-0500
TZOFFSETTO:-0400
TZNAME:EDT
DTSTART:20190310T070000
END:DAYLIGHT
BEGIN:STANDARD
TZOFFSETFROM:-0400
TZOFFSETTO:-0500
TZNAME:EST
DTSTART:20191103T060000
END:STANDARD
BEGIN:DAYLIGHT
TZOFFSETFROM:-0500
TZOFFSETTO:-0400
TZNAME:EDT
DTSTART:20200308T070000
END:DAYLIGHT
BEGIN:STANDARD
TZOFFSETFROM:-0400
TZOFFSETTO:-0500
TZNAME:EST
DTSTART:20201101T060000
END:STANDARD
BEGIN:DAYLIGHT
TZOFFSETFROM:-0500
TZOFFSETTO:-0400
TZNAME:EDT
DTSTART:20210314T070000
END:DAYLIGHT
BEGIN:STANDARD
TZOFFSETFROM:-0400
TZOFFSETTO:-0500
TZNAME:EST
DTSTART:20211107T060000
END:STANDARD
END:VTIMEZONE
BEGIN:VEVENT
DTSTART;VALUE=DATE:20200207
DTEND;VALUE=DATE:20200210
DTSTAMP:20260423T045819
CREATED:20200121T152748Z
LAST-MODIFIED:20200121T152748Z
UID:10000077-1581033600-1581292799@www.floridasforgottencoast.com
SUMMARY:Sweet Tea on the Front Porch
DESCRIPTION:“Sweet Tea on the Front Porch” is a play in three acts. The first act\, “The Escape”\, is a drama taking place in January of 1923\, surrounding the efforts of two middle-aged women in Apalachicola to help a fugitive from injustice. The second act is a comedy\, “Pushing Up Daisies” which takes place in the summer of 1934. It continues the story of two now elderly ladies helping rid the world of evil in their own special way. The third and final act is a mystery taking place in 1946 and involves a returning son of the south and his wish to hold on to the family homeplace. Its title is “A Treasure Found”. All three acts are woven together to provide a bitter truth from our state’s history with a heavy dose of comedy and a touch of mystery as justice prevails.
URL:https://www.floridasforgottencoast.com/event/sweet-tea-on-the-front-porch/
LOCATION:Chapman Auditorium\, 155 Avenue E\, Apalachicola\, FL\, 32320\, United States
ATTACH;FMTTYPE=image/jpeg:https://www.floridasforgottencoast.com/wp-content/uploads/2020/01/Panhandle-Players.jpg
GEO:29.7234749;-84.995537
X-APPLE-STRUCTURED-LOCATION;VALUE=URI;X-ADDRESS=Chapman Auditorium 155 Avenue E Apalachicola FL 32320 United States;X-APPLE-RADIUS=500;X-TITLE=155 Avenue E:geo:-84.995537,29.7234749
END:VEVENT
BEGIN:VEVENT
DTSTART;VALUE=DATE:20200207
DTEND;VALUE=DATE:20200208
DTSTAMP:20260423T045819
CREATED:20190121T181334Z
LAST-MODIFIED:20200130T144531Z
UID:10000033-1581033600-1581119999@www.floridasforgottencoast.com
SUMMARY:The Purvis Brothers & the Encore Band
DESCRIPTION:A Tribute to the Music of Willie Nelson starring the Purvis Brothers and the Encore Band. Audiences will remember this incredibly talented group of musicians that have played the Dixie Theatre many times with Margo Anderson’s Tribute to Patsy Cline. Mike Purvis guitar\, Wendel Purvis rhythm guitar\, Frank Purvis bass guitar\, Myron Spainhour keyboards\, Ronnie Weeks\, drums\, Stewart Stanley steel guitar\, and Rick Weathersby harmonica. This show promises to be a fabulous time\, as last seasons performance sold out so fast\, we had to add another show. Tickets will sell quickly\, don’t miss out.
URL:https://www.floridasforgottencoast.com/event/a-tribute-to-the-music-of-willie-nelson-2/2020-02-07/
LOCATION:Dixie Theatre\, 21 Avenue E\, Apalachicola\, FL\, 32320\, United States
GEO:29.7282571;-84.9845927
X-APPLE-STRUCTURED-LOCATION;VALUE=URI;X-ADDRESS=Dixie Theatre 21 Avenue E Apalachicola FL 32320 United States;X-APPLE-RADIUS=500;X-TITLE=21 Avenue E:geo:-84.9845927,29.7282571
END:VEVENT
BEGIN:VEVENT
DTSTART;VALUE=DATE:20200202
DTEND;VALUE=DATE:20200203
DTSTAMP:20260423T045819
CREATED:20190611T122056Z
LAST-MODIFIED:20200417T184016Z
UID:10000040-1580601600-1580687999@www.floridasforgottencoast.com
SUMMARY:Douce Ambiance - Jazz with a Gypsy Flavor
DESCRIPTION:Douce Ambiance – Jazz with a Gypsy Flavor\, the Tallahassee based Jazz Trio is Randall Closson\, Jordan N.C. Morrison and Trevor Suter. These three gifted artists create the magical world that is Gypsy Jazz\, a style of jazz started by the legendary Romani guitarist Jean “Django” Reinhardt in Paris during the 1930s. Journey back to the Hot Club of France and an afternoon of Gypsy Jazz favorites and Douce Ambiance at Cat Pointe Music on Sunday\, February 2nd at 3:00 pm. And don’t forget to BYOB!
URL:https://www.floridasforgottencoast.com/event/douce-ambiance-jazz-with-a-gypsy-flavor/
LOCATION:Cat Pointe Music\, 29 Island Drive\, Eastpoint\, FL\, 32328\, United States
ORGANIZER;CN="Cat Pointe Music":MAILTO:info@catpointemusic.com
END:VEVENT
BEGIN:VEVENT
DTSTART;VALUE=DATE:20200201
DTEND;VALUE=DATE:20200202
DTSTAMP:20260423T045819
CREATED:20191217T195917Z
LAST-MODIFIED:20200221T140913Z
UID:10000066-1580515200-1580601599@www.floridasforgottencoast.com
SUMMARY:John Reno Jim Croce Tribute
DESCRIPTION:Discover why audiences are cheering for this Tribute to Jim Croce\, one of America’s most enduring singer-songwriters. John Reno blends acoustic guitar and vocals to capture the essence of a man whose musical gifts transcend time. This show features the greatest hits of his tragically short career\, from the rollicking “Bad\, Bad Leroy Brown” and “You Don’t Mess Around with Jim” to his more heartfelt ballads\, “I’ll Have to Say I Love You in A Song”\, “Operator” and “Time in A Bottle.” John covers the Croce catalogue\, offering anecdotes about the late performer and the characters who inspired his songs. “Jim Croce would love this… because it’s all there… the stories\, the music\, the songs! John Reno\, thank you for taking us on a musical journey through time\, protecting Jim’s legacy and keeping his music alive.” – Ingrid Croce
URL:https://www.floridasforgottencoast.com/event/john-reno-jim-croce-tribute/
LOCATION:Dixie Theatre\, 21 Avenue E\, Apalachicola\, FL\, 32320\, United States
GEO:29.7282571;-84.9845927
X-APPLE-STRUCTURED-LOCATION;VALUE=URI;X-ADDRESS=Dixie Theatre 21 Avenue E Apalachicola FL 32320 United States;X-APPLE-RADIUS=500;X-TITLE=21 Avenue E:geo:-84.9845927,29.7282571
END:VEVENT
BEGIN:VEVENT
DTSTART;VALUE=DATE:20200131
DTEND;VALUE=DATE:20200201
DTSTAMP:20260423T045819
CREATED:20180803T124815Z
LAST-MODIFIED:20200130T123151Z
UID:10000019-1580428800-1580515199@www.floridasforgottencoast.com
SUMMARY:American Pie Revisited
DESCRIPTION:American Pie Revisited is an interactive\, multi-media\, music performance celebrating the songs and pop culture of the late 60’s and early 70’s\, performed by acclaimed singer and guitarist\, John Reno. The show features both iconic photographs and videos of bygone days along with many tunes that are crowd favorite sing alongs. This will be John’s 5th Appearance at the Dixie having previously performed his fabulous Tribute to Jim Croce for 3 seasons and America Pie last season. We’re so looking forward to this talented fellow performing some of the best years of music including Don McLean\, James Taylor\, Paul Simon and many\, many more. Come have some fun!
URL:https://www.floridasforgottencoast.com/event/american-pie-revisited/
LOCATION:Dixie Theatre\, 21 Avenue E\, Apalachicola\, FL\, 32320\, United States
ATTACH;FMTTYPE=image/jpeg:https://www.floridasforgottencoast.com/wp-content/uploads/2018/08/John-Reno-American-Pie.jpg
GEO:29.7282571;-84.9845927
X-APPLE-STRUCTURED-LOCATION;VALUE=URI;X-ADDRESS=Dixie Theatre 21 Avenue E Apalachicola FL 32320 United States;X-APPLE-RADIUS=500;X-TITLE=21 Avenue E:geo:-84.9845927,29.7282571
END:VEVENT
BEGIN:VEVENT
DTSTART;TZID=America/New_York:20200129T130000
DTEND;TZID=America/New_York:20200129T160000
DTSTAMP:20260423T045819
CREATED:20191213T190211Z
LAST-MODIFIED:20191213T190327Z
UID:10000057-1580302800-1580313600@www.floridasforgottencoast.com
SUMMARY:Bay Friendly Landscaping Workshop
DESCRIPTION:Yard design and maintenance can have a big effect on adjacent water bodies. Participants in the workshop will learn about resources to help them transform their yard into a luscious bay conscious landscape. The class will also feature innovative Green Infrastructure techniques such as rain gardens\, green roofs\, and bio-swales. Come find out how to be good to the bay and reduce your water bills. \nPlease register for the class in advance on our eventbrite page. For more information contact: \nAnita Grove at (850) 670-7708 or by email Anita.Grove@dep.state.fl.us \n-or- \nJosh Eaton at (850) 670-7710 or joshua.eaton@floridadep.gov
URL:https://www.floridasforgottencoast.com/event/apalachicola-bay-estuary-class-2/2020-01-29/
LOCATION:Apalachicola National Estuarine Research Reserve Nature Center\, 108 Island Drive\, Eastpoint\, FL\, 32328\, United States
ATTACH;FMTTYPE=image/jpeg:https://www.floridasforgottencoast.com/wp-content/uploads/2019/12/Monarch_Butterfly_Danaus_plexippus_on_Milkweed_Hybrid_2800px-scaled.jpg
GEO:29.7302976;-84.8855773
X-APPLE-STRUCTURED-LOCATION;VALUE=URI;X-ADDRESS=Apalachicola National Estuarine Research Reserve Nature Center 108 Island Drive Eastpoint FL 32328 United States;X-APPLE-RADIUS=500;X-TITLE=108 Island Drive:geo:-84.8855773,29.7302976
END:VEVENT
BEGIN:VEVENT
DTSTART;TZID=America/New_York:20200126T160000
DTEND;TZID=America/New_York:20200126T170000
DTSTAMP:20260423T045819
CREATED:20191017T151735Z
LAST-MODIFIED:20191203T183100Z
UID:10000027-1580054400-1580058000@www.floridasforgottencoast.com
SUMMARY:INConcert Series: Benjamin Sung & David Kalhous
DESCRIPTION:Violinist Sung\, and pianist Kalhous\, will perform the Beethoven Sonatas No. 4 and No. 5. Sung is an Associate Professor of violin at Florida State University and the violin coordinator at the Brevard Music Center. Kalhous performs extensively throughout the U.S. and Europe\, and holds a Doctor of Music from Northwestern University. He resides in New York City. A reception at Trinity’s Benedict Hall will be held after the concert.
URL:https://www.floridasforgottencoast.com/event/22147/
LOCATION:Apalachicola Trinity Episcopal Church\, 79 6th Street\, Apalachicola\, FL\, 32320\, United States
ATTACH;FMTTYPE=image/jpeg:https://www.floridasforgottencoast.com/wp-content/uploads/2019/10/Benjamin-Sung-David-Kalhous.jpg
ORGANIZER;CN="The Ilse Newell Fund":MAILTO:ilsenewellfund9@gmail.com
GEO:29.7254994;-84.9857669
X-APPLE-STRUCTURED-LOCATION;VALUE=URI;X-ADDRESS=Apalachicola Trinity Episcopal Church 79 6th Street Apalachicola FL 32320 United States;X-APPLE-RADIUS=500;X-TITLE=79 6th Street:geo:-84.9857669,29.7254994
END:VEVENT
BEGIN:VEVENT
DTSTART;TZID=America/New_York:20200126T150000
DTEND;TZID=America/New_York:20200126T170000
DTSTAMP:20260423T045819
CREATED:20190603T112956Z
LAST-MODIFIED:20200716T163053Z
UID:10000037-1580050800-1580058000@www.floridasforgottencoast.com
SUMMARY:Riely OConner & Molly B. Moon
DESCRIPTION:Singer-Songwriters Riely OConner and Molly B. Moon bring their musical magic to Cat Pointe Music on Sunday\, Jan. 26th at 3:00 pm. And don’t forget to BYOB!
URL:https://www.floridasforgottencoast.com/event/riely-oconner-molly-b-moon/
LOCATION:Cat Pointe Music\, 29 Island Drive\, Eastpoint\, FL\, 32328\, United States
ATTACH;FMTTYPE=image/jpeg:https://www.floridasforgottencoast.com/wp-content/uploads/2019/06/Riley-OConner-and-Molly-playing-music-at-Cat-Pointe-Music.jpg
ORGANIZER;CN="Cat Pointe Music":MAILTO:info@catpointemusic.com
END:VEVENT
BEGIN:VEVENT
DTSTART;TZID=America/New_York:20200125T200000
DTEND;TZID=America/New_York:20200125T210000
DTSTAMP:20260423T045819
CREATED:20191203T181948Z
LAST-MODIFIED:20191203T182958Z
UID:10000064-1579982400-1579986000@www.floridasforgottencoast.com
SUMMARY:INConcert Series: Tocamos Mas
DESCRIPTION:South of the Border meets the Forgotten Coast in this concert of traditional Latin and Cuban music\, including Mambo\, Merengue\, Bolero\, and Cha Cha tunes. Reservations can be made online at riocarrabelle.com 
URL:https://www.floridasforgottencoast.com/event/inconcert-series-tocamos-mas/
LOCATION:Rio Carrabelle\, 102 St James Ave\, Carrabelle\, FL\, 32322\, United States
ATTACH;FMTTYPE=image/jpeg:https://www.floridasforgottencoast.com/wp-content/uploads/2019/12/Tocamos-Mas.jpg
ORGANIZER;CN="The Ilse Newell Fund":MAILTO:ilsenewellfund9@gmail.com
END:VEVENT
BEGIN:VEVENT
DTSTART;TZID=America/New_York:20200125T100000
DTEND;TZID=America/New_York:20200125T120000
DTSTAMP:20260423T045819
CREATED:20191210T160824Z
LAST-MODIFIED:20191210T160824Z
UID:10000060-1579946400-1579953600@www.floridasforgottencoast.com
SUMMARY:Historic Sawmills of Franklin County
DESCRIPTION:The Carrabelle History Museum is presenting an interesting history program about the Historic Sawmills of Franklin County\, featuring Gibby Conrad. Hear the fascinating tales of the most prosperous times in our county\, and the lives of the hard working families who worked the huge mills. This free program will be held Saturday\, January 25\, 2020\, at 10 am – 12 pm at C-Quarters Marina. \nGibby Conrad is a lifelong student of Gulf Coast maritime history\, a pioneer of ecotourism on the Apalachicola Estuary\, and a former museum educator. He has conducted entertaining educational tours on the Apalachicola River and Bay for over 10 years. \nMark Curenton of the Apalachicola Area Historical Society will also be joining this program with his phenomenal display of Sawmills of Franklin County and will also be participating in the Q&A session at the end of the program.
URL:https://www.floridasforgottencoast.com/event/historic-sawmills-of-franklin-county/
LOCATION:C-Quarters Marina\, Carrabelle\, 501 St. James Ave (Hwy 98)\, Carrabelle\, FL\, 32322\, United States
ATTACH;FMTTYPE=image/jpeg:https://www.floridasforgottencoast.com/wp-content/uploads/2019/12/Gibby-from-Steamboat-Talk.jpg
ORGANIZER;CN="Carrabelle History Museum":MAILTO:carrabellehistorymuseum@gmail.com
END:VEVENT
BEGIN:VEVENT
DTSTART;VALUE=DATE:20200108
DTEND;VALUE=DATE:20200201
DTSTAMP:20260423T045819
CREATED:20200108T161555Z
LAST-MODIFIED:20200108T161555Z
UID:10000071-1578441600-1580515199@www.floridasforgottencoast.com
SUMMARY:Special Exhibit: Japanese-American Internment Camps
DESCRIPTION:Camp Gordon Johnston WWII Museum presents a special exhibit on Japanese-American Internment Camps. This exhibit will be on display at the museum until January 31\, 2020.  There is no charge for admission but donations are gladly accepted. \nIn the wake of the Japanese attack on Pearl Harbor\, the US government ordered the internment of more than 120\,000 Japanese Americans. From 1942-1945\, ten American Relocation Camps operated in western states\, including the best known camp\, Manzanar\, now a National Historic Site. The Camp Gordon Johnston WWII Museum has a month-long exhibit about the life in these camps\, including video\, photographs and even a list of suggested fiction and non-fiction books related to this period in the lives of Japanese Americans during the war.
URL:https://www.floridasforgottencoast.com/event/special-exhibit-japanese-american-internment-camps/
LOCATION:Camp Gordon Johnston WWII Museum\, 1873 Hwy 98 W\, Carrabelle\, FL\, 32322\, United States
ATTACH;FMTTYPE=image/jpeg:https://www.floridasforgottencoast.com/wp-content/uploads/2020/01/Special-Exhibit-Japanese-American-Internment-Camps.jpg
ORGANIZER;CN="Camp Gordon Johnston WWII Museum":MAILTO:museum@campgordonjohnston.com
GEO:29.8296296;-84.6934403
X-APPLE-STRUCTURED-LOCATION;VALUE=URI;X-ADDRESS=Camp Gordon Johnston WWII Museum 1873 Hwy 98 W Carrabelle FL 32322 United States;X-APPLE-RADIUS=500;X-TITLE=1873 Hwy 98 W:geo:-84.6934403,29.8296296
END:VEVENT
END:VCALENDAR